Workbook

Sheet Study Plan Template
B1: Study Plan
B2: Completion/ Planned Enrolment Term | C2: Course Code | D2: Course Title | E2: Length in term(s) | F2: Credit | G2: RV | H2: Course Passed?
A3: 1
A4: 2
A5: 3
A6: 4
A7: 5
A8: 6
A9: 7
A10: 8
A11: 9
A12: 10
A13: 11
A14: 12
... A27: 25
E28: Total Credits Required for the Programme

Sheet Study Progression Schedule 
B1: Study Progression Schedule (Course Enrolment Plan)
C2: Course code | D2: Course title | E2: Length in term(s) | F2: Credit | G2: RV | H2: Credits Sub-total by Term | I2: RV sub-total by Term | J2: Completion/ Planned Enrolment Term | K2: Label
B3: Year 1 Study (22/23)
B4: Autumn | C4: BIS B123 | D4: Business Computing Applications | E4: 1 | F4: 5 | G4: 5 | K4: CD
C5: BUS B103 | D5: English and Communications for Business I | E5: 1 | F5: 5 | G5: 5 | K5: CD
C6: ACT B210 | D6: Introduction to Accounting | E6: 2 | F6: 10 | G6: 5 | K6: CD
H7: =SUM(F4:F7) -> 20 | I7: =SUM(G4:G7) -> 15
B8: Spring | D8: RV from previous term(s) | G8: 5
C9: BUS B104 | D9: English and Communications for Business II | E9: 1 | F9: 5 | G9: 5 | K9: CD
C10: ECON A231 | D10: Introduction to Microeconomics | E10: 1 | F10: 5 | G10: 5 | K10: CD
D11: one free choice | E11: 1 | F11: 5 | G11: 5 | K11: F
H12: =SUM(F8:F12) -> 15 | I12: =SUM(G8:G12) -> 20
B13: Summer | D13: RV from previous term(s) | G13: 0
C14: MKT B250 | D14: Introduction to Marketing | E14: 1 | F14: 5 | G14: 5 | K14: CD
H15: =SUM(F13:F15) -> 5 | I15: =SUM(G13:G15) -> 5
B16: Year 2 Study (23/24)
B17: Autumn | D17: RV from previous term(s) | G17: 0
C18: BUS B273 | D18: Quantitative Analysis for Business | E18: 2 | F18: 10 | G18: 5 | K18: CD
C19: ECON A232 | D19: Introduction to Macroeconomics | E19: 1 | F19: 5 | G19: 5 | K19: CD
C20: FIN B280 | D20: Introduction to Financial Management | E20: 1 | F20: 5 | G20: 5 | K20: CD
D21: one free choice | E21: 1 | F21: 5 | G21: 5 | K21: F
H22: =SUM(F17:F22) -> 25 | I22: =SUM(G17:G22) -> 20
B23: Spring | D23: RV from previous term(s) | G23: 5
C24: LAW B262 | D24: Business Law I | E24: 1 | F24: 5 | G24: 5 | K24: CD
C25: MGT B240 | D25: Principles and Practices of Management | E25: 1 | F25: 5 | G25: 5 | K25: CD
C26: ACT B304 | D26: Accounting Information Systems | E26: 1 | F26: 5 | G26: 5 | H26: =SUM(F23:F26) -> 15 | I26: =SUM(G23:G26) -> 20 | K26: ACC
B27: Summer | D27: RV from previous term(s) | G27: 0
H28: =SUM(F27:F28) -> 0 | I28: =SUM(G27:G28) -> 0
B29: Year 3 Study (24/25)
B30: Autumn | D30: RV from previous term(s) | G30: 0
C31: ACT B313 | D31: Management and Cost Accounting | E31: 1 | F31: 5 | G31: 5 | K31: ACC
C32: ACT B414 | D32: Taxation I | E32: 1 | F32: 5 | G32: 5 | K32: ACC
C33: ACT B416 | D33: Auditing I | E33: 1 | F33: 5 | G33: 5 | K33: ACC
C34: BUS B368 | D34: Business Issues and Ethics | E34: 1 | F34: 5 | G34: 5 | K34: ACC
H35: =SUM(F30:F35) -> 20 | I35: =SUM(G30:G35) -> 20
B36: Spring | D36: RV from previous term(s) | G36: 0
C37: ACT B405 | D37: Advanced Management Accounting | E37: 1 | F37: 5 | G37: 5 | K37: ACC
C38: ACT B415 | D38: Taxation II | E38: 1 | F38: 5 | G38: 5 | K38: BUS
C39: IB B397 | D39: Global Issues in Management | E39: 1 | F39: 5 | G39: 5 | K39: BUS
D40: one free choice | E40: 1 | F40: 5 | G40: 5 | K40: F
H41: =SUM(F36:F41) -> 20 | I41: =SUM(G36:G41) -> 20
B42: Summer | D42: RV from previous term(s) | G42: 0
H43: =SUM(F42:F43) -> 0 | I43: =SUM(G42:G43) -> 0
B44: Year 4 Study (25/26)
B45: Autumn | D45: RV from previous term(s) | G45: 0
C46: ACT B407 | D46: Advanced Financial Reporting and Analysis I | E46: 1 | F46: 5 | G46: 5 | K46: ACC
C47: LAW B333 | D47: Company Law I | E47: 1 | F47: 5 | G47: 5 | K47: ACC
C48: ACT B331 | D48: Company Accounting I | E48: 1 | F48: 5 | G48: 5 | K48: ACC
C49: MGT B399 | D49: Management Policy and Strategy | E49: 1 | F49: 5 | G49: 5 | K49: CD
H50: =SUM(F45:F50) -> 20 | I50: =SUM(G45:G50) -> 20
B51: Spring | D51: RV from previous term(s) | G51: 0
C52: ACT B332 | D52: Company Accounting II | E52: 1 | F52: 5 | G52: 5 | K52: ACC
C53: ACT B417 | D53: Auditing II | E53: 1 | F53: 5 | G53: 5 | K53: ACC
C54: FIN B388 | D54: Banking System | E54: 1 | F54: 5 | G54: 5 | K54: BUS
D55: one free choice | E55: 1 | F55: 5 | G55: 5 | K55: F
H56: =SUM(F51:F56) -> 20 | I56: =SUM(G51:G56) -> 20
B57: Summer | D57: RV from previous term(s) | G57: 0
H58: =SUM(F57:F58) -> 0 | I58: =SUM(G57:G58) -> 0
B59: Year 5 Study (26/27)
B60: Autumn | D60: RV from previous term(s)
H63: =SUM(F60:F63) -> 0 | I63: =SUM(G60:G63) -> 0
B64: Spring | D64: RV from previous term(s)
H67: =SUM(F64:F67) -> 0 | I67: =SUM(G64:G67) -> 0
B68: Summer
G71: Total Credits Required for the Programme | H71: =SUM(H4:H70) -> 160 | I71: =SUM(I4:I70) -> 160

Sheet Study Progression Schedule (2)
B1: Study Progression Plan for Course Enrolment
C2: Course code | D2: Course title | E2: Length in term(s) | F2: Credit | G2: RV | H2: Credits Sub-total by Term | I2: RV sub-total by Term | J2: Completion/ Planned Enrolment Term | K2: Label
B3: Year 1 Study (2022/23)
B4: Autumn | C4: BIS B123 | D4: Business Computing Applications | E4: 1 | F4: 5 | G4: 5 | K4: CD
C5: BUS B103 | D5: English and Communications for Business I | E5: 1 | F5: 5 | G5: 5 | K5: CD
C6: ACT B210 | D6: Introduction to Accounting | E6: 2 | F6: 10 | G6: 5 | K6: CD
H7: =SUM(F4:F7) -> 20 | I7: =SUM(G4:G7) -> 15
B8: Spring | D8: RV from previous term(s) | G8: 5
C9: BUS B104 | D9: English and Communications for Business II | E9: 1 | F9: 5 | G9: 5 | K9: CD
C10: MGT B240 | D10: Principles and Practices of Management | E10: 1 | F10: 5 | G10: 5 | K10: CD
C11: ECON A231 | D11: Introduction to Microeconomics | E11: 1 | F11: 5 | G11: 5 | K11: CD
H12: =SUM(F8:F12) -> 15 | I12: =SUM(G8:G12) -> 20
B13: Summer | D13: RV from previous term(s) | G13: 0
C14: MKT B250 | D14: Introduction to Marketing | E14: 1 | F14: 5 | G14: 5 | K14: CD
H15: =SUM(F13:F15) -> 5 | I15: =SUM(G13:G15) -> 5
B16: Year 2 Study (2023/24)
B17: Autumn | D17: RV from previous term(s) | G17: 0
C18: BUS B273 | D18: Quantitative Analysis for Business | E18: 2 | F18: 10 | G18: 5 | K18: CD
C19: ECON A232 | D19: Introduction to Macroeconomics | E19: 1 | F19: 5 | G19: 5 | K19: CD
C20: FIN B280 | D20: Introduction to Financial Management | E20: 1 | F20: 5 | G20: 5 | K20: CD
D21: one free choice | E21: 1 | F21: 5 | G21: 5 | K21: F
H22: =SUM(F17:F22) -> 25 | I22: =SUM(G17:G22) -> 20
B23: Spring | D23: RV from previous term(s) | G23: 5
C24: LAW B262 | D24: Business Law I | E24: 1 | F24: 5 | G24: 5 | K24: CD
C25: ACT B304 | D25: Accounting Information Systems | E25: 1 | F25: 5 | G25: 5 | K25: ACC
D26: one free choice | E26: 1 | F26: 5 | G26: 5 | H26: =SUM(F23:F26) -> 15 | I26: =SUM(G23:G26) -> 20 | K26: F
B27: Summer | D27: RV from previous term(s) | G27: 0
H28: =SUM(F27:F28) -> 0 | I28: =SUM(G27:G28) -> 0
B29: Year 3 Study (2024/25)
B30: Autumn | D30: RV from previous term(s) | G30: 0
C31: ACT B313 | D31: Management and Cost Accounting | E31: 1 | F31: 5 | G31: 5 | K31: ACC
C32: ACT B414 | D32: Taxation I | E32: 1 | F32: 5 | G32: 5 | K32: ACC
C33: BUS B368 | D33: Business Issues and Ethics | E33: 1 | F33: 5 | G33: 5 | K33: ACC
D34: one free choice | E34: 1 | F34: 5 | G34: 5 | K34: F
H35: =SUM(F30:F35) -> 20 | I35: =SUM(G30:G35) -> 20
B36: Spring | D36: RV from previous term(s) | G36: 0
C37: ACT B405 | D37: Advanced Management Accounting | E37: 1 | F37: 5 | G37: 5 | K37: ACC
C38: ACT B415 | D38: Taxation II | E38: 1 | F38: 5 | G38: 5 | K38: BUS
C39: IB B397 | D39: Global Issues in Management | E39: 1 | F39: 5 | G39: 5 | K39: BUS
C40: MGT B399 | D40: Management Policy and Strategy | E40: 1 | F40: 5 | G40: 5 | K40: CD
H41: =SUM(F36:F41) -> 20 | I41: =SUM(G36:G41) -> 20
B42: Summer | D42: RV from previous term(s) | G42: 0
H43: =SUM(F42:F43) -> 0 | I43: =SUM(G42:G43) -> 0
B44: Year 4 Study (2025/26)
B45: Autumn | D45: RV from previous term(s) | G45: 0
C46: ACT B407 | D46: Advanced Financial Reporting and Analysis I | E46: 1 | F46: 5 | G46: 5 | K46: ACC
C47: LAW B333 | D47: Company Law I | E47: 1 | F47: 5 | G47: 5 | K47: ACC
C48: ACT B331 | D48: Company Accounting I | E48: 1 | F48: 5 | G48: 5 | K48: ACC
C49: ACT B416 | D49: Auditing I | E49: 1 | F49: 5 | G49: 5 | K49: ACC
H50: =SUM(F45:F50) -> 20 | I50: =SUM(G45:G50) -> 20
B51: Spring | D51: RV from previous term(s) | G51: 0
C52: ACT B332 | D52: Company Accounting II | E52: 1 | F52: 5 | G52: 5 | K52: ACC
C53: ACT B417 | D53: Auditing II | E53: 1 | F53: 5 | G53: 5 | K53: ACC
C54: FIN B388 | D54: Banking System | E54: 1 | F54: 5 | G54: 5 | K54: BUS
D55: one free choice | E55: 1 | F55: 5 | G55: 5 | K55: F
H56: =SUM(F51:F56) -> 20 | I56: =SUM(G51:G56) -> 20
B57: Summer | D57: RV from previous term(s) | G57: 0
H58: =SUM(F57:F58) -> 0 | I58: =SUM(G57:G58) -> 0
B59: Year 5 Study (26/27)
B60: Autumn | D60: RV from previous term(s)
H63: =SUM(F60:F63) -> 0 | I63: =SUM(G60:G63) -> 0
B64: Spring | D64: RV from previous term(s)
H67: =SUM(F64:F67) -> 0 | I67: =SUM(G64:G67) -> 0
B68: Summer
G71: Total Credits Required for the Programme | H71: =SUM(H4:H70) -> 160 | I71: =SUM(I4:I70) -> 160

Sheet Course Enrolment Plan (BSCE)
B1: Recommended Course Enrolment Plan (BSCE - Bachelor of Science in Electronics) [For reference only]
B2: Programme Requirements (Link)
B3: Term | C3: Course code | D3: Course title | E3: Length in term(s) | F3: Credit | G3: Registration Value (RV) | H3: Credits Sub-total by Term | I3: RV sub-total by Term | J3: Completion/ Planned Enrolment Term | K3: Label | M3: Note: Column with yellow filled for students' use
B4: 1st Year of Study (2022/23)
B5: Autumn | C5: 20 credits in MATH S121 or/and MATH S122 or/and SCI S123 or/and SCI S124 BUS B103 | D5: A Foundation in Pure Mathematics or/and A Foundation in Applied Mathematics or/and Foundation Physics or/and Foundation Chemistry English and Communications for Business I | E5: 2 2 1 1 1 | F5: 10 10 5 5 5 | G5: 5 | K5: F
C6: COMP S258 or ELEC S212 or ELEC S224 | D6: Computer Programming and Problem Solving or Network Programming and Design or Computers and Processors | E6: =VLOOKUP(C6,'Course Presentation Schedule'!$C$6:$F$35,3,1) -> 2 | F6: =VLOOKUP(C6,'Course Presentation Schedule'!$C$6:$F$35,4,1) -> 10 | G6: 5 | K6: OD (option 1)
H9: 20 / 30 | I9: 5 / 10 / 15
B10: Spring | D10: RV from previous term(s) | G10: 5 / 10 / 15
C11: COMP S201 | D11: =VLOOKUP(C11,'Course Presentation Schedule'!$C$6:$F$35,2,1) -> Computing Fundamentals with Java | E11: =VLOOKUP(C11,'Course Presentation Schedule'!$C$6:$F$35,3,1) -> 2 | F11: =VLOOKUP(C11,'Course Presentation Schedule'!$C$6:$F$35,4,1) -> 10 | G11: 5 | K11: OD (option 2)
H13: 0 / 10 | I13: 5 / 10 / 15
B14: Summer | D14: RV from previous term(s)
H16: =SUM(F14:F16) -> 0 | I16: =SUM(G14:G16) -> 0
B18: 2nd year of Study (2023/24)
B19: Autumn | D19: RV from previous term(s) | G19: 0 / 5
C20: ELEC S222 | D20: Electronics Principles and Digital Design | E20: =VLOOKUP(C20,'Course Presentation Schedule'!$C$6:$F$35,3,1) -> 2 | F20: =VLOOKUP(C20,'Course Presentation Schedule'!$C$6:$F$35,4,1) -> 10 | G20: 5 | K20: CD
C21: MATH S222 | D21: Mathematical Models with Applications | E21: =VLOOKUP(C21,'Course Presentation Schedule'!$C$6:$F$35,3,1) -> 2 | F21: =VLOOKUP(C21,'Course Presentation Schedule'!$C$6:$F$35,4,1) -> 10 | G21: 5 | K21: CD
C22: PHYS S271 | D22: =VLOOKUP(C22,'Course Presentation Schedule'!$C$6:$F$35,2,1) -> Discovering Physics | E22: =VLOOKUP(C22,'Course Presentation Schedule'!$C$6:$F$35,3,1) -> 2 | F22: =VLOOKUP(C22,'Course Presentation Schedule'!$C$6:$F$35,4,1) -> 10 | G22: 5 | K22: CD
C23: 10 credits from COMP S260 or COMP S311 or COMP S356 or COMP S359 or MATH S365 or MGT B347 or MGT B240 or/and TC S319 or/and TC S409 | D23: Computer Architecture and Operating Systems or Advanced Java Programming and Mobile Application Development or Software Engineering and Project Management or Relational Databases: Theory and Practice or Graphs, Networks and Design or Managing People and Organizations or Principles and Practices of Management or/and Quality Management for Science and Technology or/and Safety and Reliability for Science and Technology | E23: 2 2 2 2 2 2 1 1 1 | F23: 10 10 10 10 10 10 5 5 5 | G23: 5 | K23: OD (option 3)
H24: 30 / 40 | I24: 15 / 20 / 25
B25: Spring | D25: RV from previous term(s) | G25: 15 / 20
C26: DESN S217 | D26: =VLOOKUP(C26,'Course Presentation Schedule'!$C$6:$F$35,2,1) -> Design Essentials | E26: =VLOOKUP(C26,'Course Presentation Schedule'!$C$6:$F$35,3,1) -> 2 | F26: =VLOOKUP(C26,'Course Presentation Schedule'!$C$6:$F$35,4,1) -> 10 | G26: 5 | K26: OD (option 4)
H27: 0 / 10 | I27: 15 / 20
B29: Summer | D29: RV from previous term(s)
H31: =SUM(F29:F31) -> 0 | I31: =SUM(G29:G31) -> 0
B32: 3rd Year of Study (2024/25)
B33: Autumn | D33: RV from previous term(s) | G33: 0 / 5
C34: ELEC S225 | D34: =VLOOKUP(C34,'Course Presentation Schedule'!$C$6:$F$35,2,1) -> Analogue Circuits | E34: =VLOOKUP(C34,'Course Presentation Schedule'!$C$6:$F$35,3,1) -> 2 | F34: =VLOOKUP(C34,'Course Presentation Schedule'!$C$6:$F$35,4,1) -> 10 | G34: 5 | K34: CD
C35: MATH S221 | D35: =VLOOKUP(C35,'Course Presentation Schedule'!$C$6:$F$35,2,1) -> Mathematical Methods | E35: =VLOOKUP(C35,'Course Presentation Schedule'!$C$6:$F$35,3,1) -> 2 | F35: =VLOOKUP(C35,'Course Presentation Schedule'!$C$6:$F$35,4,1) -> 10 | G35: 5 | K35: CD
C36: ELEC S334 | D36: =VLOOKUP(C36,'Course Presentation Schedule'!$C$6:$F$35,2,1) -> Signal Processing and Multimedia Technology | E36: =VLOOKUP(C36,'Course Presentation Schedule'!$C$6:$F$35,3,1) -> 2 | F36: =VLOOKUP(C36,'Course Presentation Schedule'!$C$6:$F$35,4,1) -> 10 | G36: 5 | K36: HD
C37: ELEC S323 | D37: =VLOOKUP(C37,'Course Presentation Schedule'!$C$6:$F$35,2,1) -> Information Theory and Digital Communications | E37: =VLOOKUP(C37,'Course Presentation Schedule'!$C$6:$F$35,3,1) -> 2 | F37: =VLOOKUP(C37,'Course Presentation Schedule'!$C$6:$F$35,4,1) -> 10 | G37: 5 | K37: HD
H39: =SUM(F34:F39) -> 40 | I39: 20 / 25
B40: Spring | D40: RV from previous term(s) | G40: 20
H44: =SUM(F40:F44) -> 0 | I44: 20
B45: Summer | D45: RV from previous term(s)
H47: =SUM(F45:F47) -> 0 | I47: =SUM(G45:G47) -> 0
B48: 4th Year of Study (2025/26)
B49: Autumn
H54: =SUM(F49:F54) -> 0 | I54: =SUM(G49:G54) -> 0
B55: Spring | D55: RV from previous term(s)
H59: =SUM(F55:F59) -> 0 | I59: =SUM(G55:G59) -> 0
B60: Summer | D60: RV from previous term(s)
H62: =SUM(F60:F62) -> 0 | I62: =SUM(G60:G62) -> 0
B63: 5th Year of Study (26/27)
B64: Autumn | D64: RV from previous term(s)
H69: =SUM(F64:F69) -> 0 | I69: =SUM(G64:G69) -> 0
B70: Spring | D70: RV from previous term(s)
H74: =SUM(F70:F74) -> 0 | I74: =SUM(G70:G74) -> 0
B75: Summer | D75: RV from previous term(s)
G78: Total Credits Required for the Programme (BSCE) | H78: 120
B79: successfully complete additional courses, as necessary, from any Foundation, Middle or Higher level courses offered by the University, provided that, of the total 120 credits, no more than 40 are gained at Foundation level.
B82: Note: Registration Value (RV) equals credits divided by length in terms
B83: Remarks: Phased out course(s) is/are not included

Sheet Course Enrolment Plan (BSCE1)
B1: Recommended Course Enrolment Plan (BSCE1 - Bachelor of Science in Electronics) [For reference only]
B2: Programme Requirements (Link)
B3: Term | C3: Course code | D3: Course title | E3: Length in term(s) | F3: Credit | G3: Registration Value (RV) | H3: Credits Sub-total by Term | I3: RV sub-total by Term | J3: Completion/ Planned Enrolment Term | K3: Label | M3: Note: Column with yellow filled for students' use
B4: 1st Year of Study (2022/23)
B5: Autumn | C5: 10 credits in ELEC S222 or ELEC S225 or MATH S221 or MATH S222 | D5: Electronics Principles and Digital Design or Analogue Circuits or Mathematical Methods or Mathematical Models with Applications | E5: 2 | F5: 10 | G5: 5 | K5: CD
C6: MECH S395 | D6: Mechatronics | E6: 2 | F6: 10 | G6: 5 | K6: HD (option 1)
H9: 10 / 20 | I9: 5 / 10
B10: Spring | D10: RV from previous term(s) | G10: 5 / 10
C11: ELEC S334 | D11: Signal Processing and Multimedia Technology | E11: 2 | F11: 10 | G11: 5 | K11: HD (option 2)
H13: 0 / 10 | I13: 5 / 10 / 15
B14: Summer | D14: RV from previous term(s)
H16: =SUM(F14:F16) -> 0 | I16: =SUM(G14:G16) -> 0
B18: 2nd year of Study (2023/24)
D19: RV from previous term(s) | G19: 0 / 5
B20: Autumn | C20: ELEC S323 | D20: Information Theory and Digital Communications | E20: 2 | F20: 10 | G20: 5 | K20: HD (option 3)
C21: 10 credits from COMP S258 or COMP S260 or COMP S311 or COMP S356 or COMP S359 or ELEC S212 or MATH S365 or MGT B347 or MGT B240 or/and TC S319 or/and TC S409 | D21: Computer Programming and Problem Solving or Computer Architecture and Operating Systems or Advanced Java Programming and Mobile Application Development or Software Engineering and Project Management or Relational Databases: Theory and Practice or Network Programming and Design or Graphs, Networks and Design or Managing People and Organizations or Principles and Practices of Management or/and Quality Management for Science and Technology or/and Safety and Reliability for Science and Technology | E21: 2 2 2 2 2 2 2 2 1 1 1 | F21: 10 10 10 10 10 10 10 10 5 5 5 | G21: 5 | K21: OD (option 1)
H24: 10 / 20 | I24: 5 / 10 / 15 / 20
B25: Spring | D25: RV from previous term(s) | G25: 5 / 10
C26: DESN S217 | D26: Design Essentials | E26: 2 | F26: 10 | G26: 5 | K26: OD (option 2)
H27: 0 / 10 | I27: 0 / 5
B28: Summer | D28: RV from previous term(s)
H30: =SUM(F28:F30) -> 0 | I30: =SUM(G28:G30) -> 0
B31: 3rd Year of Study (2024/25)
B32: Autumn | D32: RV from previous term(s) | G32: 0 / 5
H38: =SUM(F33:F38) -> 0 | I38: 0 / 5
B39: Spring | D39: RV from previous term(s)
H43: =SUM(F39:F43) -> 0 | I43: =SUM(G39:G43) -> 0
B44: Summer | D44: RV from previous term(s)
H46: =SUM(F44:F46) -> 0 | I46: =SUM(G44:G46) -> 0
B47: 4th Year of Study (2025/26)
B48: Autumn
H53: =SUM(F48:F53) -> 0 | I53: =SUM(G48:G53) -> 0
B54: Spring | D54: RV from previous term(s)
H58: =SUM(F54:F58) -> 0 | I58: =SUM(G54:G58) -> 0
B59: Summer | D59: RV from previous term(s)
H61: =SUM(F59:F61) -> 0 | I61: =SUM(G59:G61) -> 0
B62: 5th Year of Study (26/27)
B63: Autumn | D63: RV from previous term(s)
H68: =SUM(F63:F68) -> 0 | I68: =SUM(G63:G68) -> 0
B69: Spring | D69: RV from previous term(s)
H73: =SUM(F69:F73) -> 0 | I73: =SUM(G69:G73) -> 0
B74: Summer | D74: RV from previous term(s)
G77: Total Credits Required for the Programme (BSCE1) | H77: 40
B81: Note: Registration Value (RV) equals credits divided by length in terms
B82: Remarks: Phased out course(s) is/are not included

Sheet Course Enrolment Plan (BSCE2)
B1: Recommended Course Enrolment Plan (BSCE2 - Bachelor of Science in Electronics) [For reference only]
B2: Programme Requirements (Link)
B3: Term | C3: Course code | D3: Course title | E3: Length in term(s) | F3: Credit | G3: Registration Value (RV) | H3: Credits Sub-total by Term | I3: RV sub-total by Term | J3: Completion/ Planned Enrolment Term | K3: Label | M3: Note: Column with yellow filled for students' use
B4: 1st Year of Study (2022/23)
B5: Autumn | C5: MATH S121 or MATH S122 | D5: A Foundation in Pure Mathematics or A Foundation in Applied Mathematics | E5: 2 | F5: 10 | G5: 5
C6: COMP S258 or ELEC S212 or ELEC S224 | D6: Computer Programming and Problem Solving or Network Programming and Design or Computers and Processors | E6: 2 | F6: 10 | G6: 5 | K6: OD (option 1)
C7: ELEC S222 | D7: Electronics Principles and Digital Design | E7: 2 | F7: 10 | G7: 5 | K7: CD
H8: 20 / 30 | I8: 10 / 15
B9: Spring | D9: RV from previous term(s) | G9: 10 / 15
C10: COMP S201 | D10: Computing Fundamentals with Java | E10: 2 | F10: 10 | G10: 5 | K10: OD (option 2)
H12: 0 / 10 | I12: 10 / 15
B13: Summer | D13: RV from previous term(s)
H15: =SUM(F13:F15) -> 0 | I15: =SUM(G13:G15) -> 0
B17: 2nd year of Study (2023/24)
D18: RV from previous term(s) | G18: 0 / 5
B19: Autumn | C19: ELEC S225 | D19: Analogue Circuits | E19: 2 | F19: 10 | G19: 5 | K19: CD
C20: MATH S222 | D20: Mathematical Models with Applications | E20: 2 | F20: 10 | G20: 5 | K20: CD
C21: PHYS S271 | D21: Discovering Physics | E21: 2 | F21: 10 | G21: 5 | K21: CD
C22: 10 credits from COMP S260 or COMP S311 or COMP S356 or COMP S359 or MATH S365 or MGT B347 or MGT B240 or/and TC S319 or/and TC S409 | D22: Computer Architecture and Operating Systems or Advanced Java Programming and Mobile Application Development or Software Engineering and Project Management or Relational Databases: Theory and Practice or Graphs, Networks and Design or Managing People and Organizations or Principles and Practices of Management or Quality Management for Science and Technology or/and Safety and Reliability for Science and Technology | E22: 2 2 2 2 2 2 1 1 1 | F22: 10 10 10 10 10 10 5 5 5 | G22: 5 | K22: OD (option 3)
H23: 30 / 40 | I23: 15 / 20 / 25
B24: Spring | D24: RV from previous term(s) | G24: 15 / 20
C25: DESN S217 | D25: Design Essentials | E25: 2 | F25: 10 | G25: 5 | K25: OD (option 4)
H26: 0 / 10 | I26: 15 / 20
B27: Summer | D27: RV from previous term(s)
B30: 3rd Year of Study (2024/25)
D31: RV from previous term(s) | G31: 0 / 5
B32: Autumn | C32: MATH S221 | D32: Mathematical Methods | E32: 2 | F32: 10 | G32: 5 | K32: CD
C33: ELEC S334 | D33: Signal Processing and Multimedia Technology | E33: 2 | F33: 10 | G33: 5 | K33: HD
C34: ELEC S323 | D34: Information Theory and Digital Communications | E34: 2 | F34: 10 | G34: 5 | K34: HD
H37: =SUM(F32:F37) -> 30 | I37: 15 / 20
B38: Spring | D38: RV from previous term(s) | G38: 15
H42: =SUM(F38:F42) -> 0 | I42: =SUM(G38:G42) -> 15
B43: Summer | D43: RV from previous term(s)
H45: =SUM(F43:F45) -> 0 | I45: =SUM(G43:G45) -> 0
B46: 4th Year of Study (2025/26)
B47: Autumn
H52: =SUM(F47:F52) -> 0 | I52: =SUM(G47:G52) -> 0
B53: Spring | D53: RV from previous term(s)
H57: =SUM(F53:F57) -> 0 | I57: =SUM(G53:G57) -> 0
B58: Summer | D58: RV from previous term(s)
H60: =SUM(F58:F60) -> 0 | I60: =SUM(G58:G60) -> 0
B61: 5th Year of Study (26/27)
B62: Autumn | D62: RV from previous term(s)
H67: =SUM(F62:F67) -> 0 | I67: =SUM(G62:G67) -> 0
B68: Spring | D68: RV from previous term(s)
H72: =SUM(F68:F72) -> 0 | I72: =SUM(G68:G72) -> 0
B73: Summer | D73: RV from previous term(s)
G76: Total Credits Required for the Programme (BSCE2) | H76: 90
B80: Note: Registration Value (RV) equals credits divided by length in terms
B81: Remarks: Phased out course(s) is/are not included

Sheet Course Presentation Schedule
B1: Planned Course Presentation Schedule (as of 24/4/2025)
B2: Core and Elective courses for following Programme(s): Bachelor of Science in Electronics (BSCE / BSCE1 / BSCE2)
B3: The University will follow the planned course presentation schedule as far as possible but may make changes if necessary. Please check back often for the most up to date information.
B5: Compulsory/ Elective | C5: Course Code | D5: Course Title | E5: Length in term | F5: Credits | G5: 2024 Autumn | H5: 2025 Spring | I5: 2025 Summer | J5: 2025 Autumn | K5: 2026 Spring | L5: 2026 Summer | M5: 2026 Autumn | N5: 2027 Spring
A6: 1 | B6: Elective | C6: BUS B103 | D6: English and Communications for Business I | E6: 1 | F6: 5 | G6: ü | J6: ü | M6: ü
A7: 2 | B7: Elective | C7: COMP S201 | D7: Computing Fundamentals with Java | E7: 2 | F7: 10 | J7: ü | M7: ü
A8: 3 | B8: Elective | C8: COMP S258 | D8: Computer Programming and Problem Solving | E8: 2 | F8: 10 | G8: ü | J8: ü | M8: ü
A9: 4 | B9: Elective | C9: COMP S260 | D9: Computer Architecture and Operating Systems | E9: 2 | F9: 10 | G9: ü | J9: ü | M9: ü
A10: 5 | B10: Elective | C10: COMP S311 | D10: Advanced Java Programming and Mobile Application Development | E10: 2 | F10: 10 | G10: ü | J10: ü | M10: ü
A11: 6 | B11: Elective | C11: COMP S356 | D11: Software Engineering and Project Management | E11: 2 | F11: 10 | G11: ü | J11: ü | M11: ü
A12: 7 | B12: Elective | C12: COMP S359 | D12: Relational Databases: Theory and Practice | E12: 2 | F12: 10 | G12: ü | J12: ü | M12: ü
A13: 8 | B13: Elective | C13: DESN S217 | D13: Design Essentials | E13: 2 | F13: 10
A14: 9 | B14: Elective | C14: ELEC S212 | D14: Network Programming and Design | E14: 2 | F14: 10 | G14: ü
A15: 10 | B15: Compulsory | C15: ELEC S222 | D15: Electronics Principles and Digital Design | E15: 2 | F15: 10 | G15: ü | J15: ü
A16: 11 | B16: Elective | C16: ELEC S224 | D16: Computers and Processors | E16: 2 | F16: 10 | G16: ü | J16: ü
A17: 12 | B17: Compulsory | C17: ELEC S225 | D17: Analogue Circuits | E17: 2 | F17: 10 | G17: ü | J17: ü | M17: ü
A18: 13 | B18: Elective | C18: ELEC S323 | D18: Information Theory and Digital Communications | E18: 2 | F18: 10 | G18: ü | J18: ü | M18: ü
A19: 14 | B19: Elective | C19: ELEC S334 | D19: Signal Processing and Multimedia Technology | E19: 2 | F19: 10 | G19: ü | J19: ü
A20: 15 | B20: Phased out | C20: ENGG S228 | D20: Engineers in Society | E20: 1 | F20: 5
A21: 16 | B21: Phased out | C21: ENGG S356 | D21: Engineering Small Worlds: Micro and Nano Technologies | E21: 2 | F21: 10
A22: 17 | B22: Phased out | C22: ENGG S362 | D22: Design and Innovation | E22: 2 | F22: 10
A23: 18 | B23: Elective | C23: MATH S121 | D23: A Foundation in Pure Mathematics | E23: 2 | F23: 10 | G23: ü | J23: ü | M23: ü
A24: 19 | B24: Elective | C24: MATH S122 | D24: A Foundation in Applied Mathematics | E24: 2 | F24: 5 | G24: ü | J24: ü | M24: ü
A25: 20 | B25: Compulsory | C25: MATH S221 | D25: Mathematical Methods | E25: 2 | F25: 10 | G25: ü
A26: 21 | B26: Compulsory | C26: MATH S222 | D26: Mathematical Models with Applications | E26: 2 | F26: 10
A27: 22 | B27: Elective | C27: MATH S365 | D27: Graphs, Networks and Design | E27: 2 | F27: 10 | G27: ü
A28: 23 | B28: Elective | C28: MECH S395 | D28: Mechatronics | E28: 2 | F28: 10
A29: 24 | B29: Elective | C29: MGT B240 | D29: Principles and Practices of Management | E29: 1 | F29: 5 | G29: ü | H29: ü | K29: ü | N29: ü
A30: 25 | B30: Elective | C30: MGT B347 | D30: Managing People and Organizations | E30: 2 | F30: 10 | G30: ü | J30: ü | M30: ü
A31: 26 | B31: Compulsory | C31: PHYS S271 | D31: Discovering Physics | E31: 2 | F31: 10 | G31: ü
A32: 27 | B32: Elective | C32: SCI S123 | D32: Foundation Physics | E32: 1 | F32: 5
A33: 28 | B33: Elective | C33: SCI S124 | D33: Foundation Chemistry | E33: 1 | F33: 5
A34: 29 | B34: Elective | C34: TC S319 | D34: Quality Management for Science and Technology | E34: 1 | F34: 5 | G34: ü
A35: 30 | B35: Elective | C35: TC S409 | D35: Safety and Reliability for Science and Technology | E35: 1 | F35: 5 | G35: ü
B36: Note:
B37: ✓: Course planned for presentation in this term

Sheet Study Plan Template 
B1: Recommended Course Enrolment Plan (BSCE / BSCE1 / BSCE2 - Bachelor of Science in Electronics)
B2: Programme Requirements (Link)
B3: Enter Completion/ Planned Enrolment Term below | C3: Recommended Year of study | D3: Offer Term | E3: Course Code | F3: Course Title | G3: Length in term(s) | H3: Credit | I3: Course Passed? | J3: Remarks | L3: Note: Columns with blue filled are to be completed by student
B4: Complete 20 credits from the courses labelled F in Table 1. (BSCE) Obtain 10 credits from either MATH S121 or MATH S122 (BSCE2)
A5: 1 | C5: Yr 1 | D5: Aut | E5: BUS B103 | F5: English and Communications for Business I | G5: 1 | H5: 5 | J5: F
A6: 2 | C6: Yr 1 | D6: Aut | E6: MATH S121 | F6: A Foundation in Pure Mathematics | G6: 2 | H6: 10 | J6: F
A7: 3 | C7: Yr 1 | D7: Aut | E7: MATH S122 | F7: A Foundation in Applied Mathematics | G7: 2 | H7: 10 | J7: F
A8: 4 | C8: Yr 1 | D8: Aut | E8: SCI S123* | F8: Foundation Physics | G8: 1 | H8: 5 | J8: F
A9: 5 | C9: Yr 1 | D9: Spr | E9: SCI S124* | F9: Foundation Chemistry | G9: 1 | H9: 5 | J9: F
A10: 6 | C10: NA | D10: Phased out | E10: ENGG S228 | F10: Engineers in Society | G10: 1 | H10: 5 | J10: F/OD
B11: Complete 50 credits from the compulsory courses (labelled CD in Table 1) (BSCE) Complete 20 credits from courses labelled CD or OD of which no more than 10 credits are from courses labelled OD in Table 1 (BSCE1) Complete 50 credits from courses labelled CD in Table 1 (BSCE2)
A12: 7 | C12: Yr 2 & up | D12: Aut | E12: ELEC S222 | F12: Electronics Principles and Digital Design | G12: 2 | H12: 10 | J12: CD
A13: 8 | C13: Yr 2 & up | D13: Aut | E13: ELEC S225 | F13: Analogue Circuits | G13: 2 | H13: 10 | J13: CD
A14: 9 | C14: Yr 2 & up | D14: Aut | E14: MATH S221 | F14: Mathematical Methods | G14: 2 | H14: 10 | J14: CD
A15: 10 | C15: Yr 2 & up | D15: Aut | E15: MATH S222* | F15: Mathematical Models with Applications | G15: 2 | H15: 10 | J15: CD
A16: 11 | C16: Yr 2 & up | D16: Aut | E16: PHYS S271* | F16: Discovering Physics | G16: 2 | H16: 10 | J16: CD
B17: Obtain at least 20 credits from the remaining core courses at Higher level (labelled HD in Table 1) (BSCE) Complete 20 credits from courses labelled HD in Table 1 (BSCE1/BSCE2)
A18: 12 | C18: Yr 3 & up | D18: Aut | E18: ELEC S323 | F18: Information Theory and Digital Communications | G18: 2 | H18: 10 | J18: HD/OD
A19: 13 | C19: Yr 3 & up | D19: Aut/Spr | E19: ELEC S334 | F19: Signal Processing and Multimedia Technology | G19: 2 | H19: 10 | J19: HD/OD
A20: 14 | C20: NA | D20: Phased out | E20: ENGG S356 | F20: Engineering Small Worlds: Micro and Nano Technologies | G20: 2 | H20: 10 | J20: HD/OD
A21: 15 | C21: Yr 3 & up | D21: Aut | E21: MECH S395 | F21: Mechatronics | G21: 2 | H21: 10 | J21: HD/OD
B22: Obtain at least 10 credits from optional courses at Middle or Higher level (labelled OD in Table 1) (BSCE) Complete 20 credits from courses labelled CD or OD of which no more than 10 credits are from courses labelled OD in Table 1 (BSCE1) Obtain 10 credits from courses labelled OD in Table 1 (BSCE2)
A23: 16 | C23: Yr 1 & up | D23: Aut/Spr | E23: MGT B240 | F23: Principles and Practices of Management | G23: 1 | H23: 5 | J23: OD
A24: 17 | C24: Yr 2 & up | D24: Spr | E24: DESN S217* | F24: Design Essentials | G24: 2 | H24: 10 | J24: OD
A25: 18 | C25: Yr 1 & up | D25: Aut/Spr | E25: COMP S201 | F25: Computing Fundamentals with Java | G25: 2 | H25: 10 | J25: OD
A26: 19 | C26: Yr 1 & up | D26: Aut | E26: COMP S258 | F26: Computer Programming and Problem Solving | G26: 2 | H26: 10 | J26: OD
A27: 20 | C27: Yr 2 & up | D27: Aut | E27: COMP S260 | F27: Computer Architecture and Operating Systems | G27: 2 | H27: 10 | J27: OD
A28: 21 | C28: Yr 1 & up | D28: Aut | E28: ELEC S212 | F28: Network Programming and Design | G28: 2 | H28: 10 | J28: OD
A29: 22 | C29: Yr 1 & up | D29: Aut | E29: ELEC S224 | F29: Computers and Processors | G29: 2 | H29: 10 | J29: OD
A30: 23 | C30: NA | D30: Phased out | E30: ENGG S228 | F30: Engineers in Society | G30: 1 | H30: 5 | J30: F/OD
A31: 24 | C31: Yr 3 & up | D31: Aut | E31: MGT B347 | F31: Managing People and Organizations | G31: 2 | H31: 10 | J31: OD
A32: 25 | C32: Yr 3 & up | D32: Aut | E32: TC S319* | F32: Quality Management for Science and Technology | G32: 2 | H32: 10 | J32: OD
A33: 26 | C33: Yr 3 & up | D33: Aut | E33: TC S409* | F33: Safety and Reliability for Science and Technology | G33: 2 | H33: 10 | J33: OD
A34: 27 | C34: NA | D34: Phased out | E34: ENGG S362 | F34: Design and Innovation | G34: 2 | H34: 10 | J34: OD
... A42: 35 | C42: Yr 3 & up | D42: Aut | E42: MECH S395* | F42: Mechatronics | G42: 2 | H42: 10 | J42: HD/OD
B43: Complete additional courses, as necessary, from any Foundation, Middle or Higher level courses offered by the University, provided that, of the total 120 credits, no more than 40 are gained at Foundation level. (BSCE)
B44: * denotes courses not offer every year
B46: Check list of other requirements (tick in the box as appropriate)
B47: Foundation level <= 40 credits | D47: ü
B50: For the degree of Bachelor of Science in Electronics, the University has prescribed that a student must:
B51: successfully complete 20 credits from the courses labelled F in Table 1. Where SCI S102 is taken, a student must in addition complete either MATH S112/MATH S122 or MATH S282; and
B52: successfully complete 50 credits from the compulsory courses (labelled CD in Table 1); and
B53: obtain at least 20 credits from the remaining core courses at Higher level (labelled HD in Table 1); and
B54: obtain at least 10 credits from optional courses at Middle or Higher level (labelled OD in Table 1) (students who have taken SCI S102 and MATH S282 will have already fulfilled this regulation); and
B55: successfully complete additional courses, as necessary, from any Foundation, Middle or Higher level courses offered by the University, provided that, of the total 120 credits, no more than 40 are gained at Foundation level.
B57: For the degree of Bachelor of Science in Electronics, the University has prescribed that a student who entered the programme through Pathway 1 must:
B58: successfully complete 20 credits from courses labelled CD or OD of which no more than 10 credits are from courses labelled OD in Table 1; and
B59: successfully complete 20 credits from courses labelled HD in Table 1.
B61: For the degree of Bachelor of Science in Electronics, the University has prescribed that a student who entered the programme through Pathway 2 must:
B62: obtain 10 credits from either MATH S121 or MATH S122; and
B63: successfully complete 50 credits from courses labelled CD in Table 1; and
... B65: obtain 10 credits from courses labelled OD in Table 1.
E67: Table 1
E68: Course Code | F68: Course Title | G68: Length in Terms | H68: Credits | I68: BSCE
E69: Foundation level
E70: BUS B103 | F70: English and Communications for Business I | G70: 1 | H70: 5 | I70: F
E71: MATH S121 | F71: A Foundation in Pure Mathematics | G71: 2 | H71: 10 | I71: F
E72: MATH S122 | F72: A Foundation in Applied Mathematics | G72: 2 | H72: 10 | I72: F
E73: SCI S123 | F73: Foundation Physics | G73: 1 | H73: 5 | I73: F
E74: SCI S124 | F74: Foundation Chemistry | G74: 1 | H74: 5 | I74: F
E75: Middle level
E76: ELEC S222 | F76: Electronics Principles and Digital Design | G76: 2 | H76: 10 | I76: CD
E77: ELEC S225 | F77: Analogue Circuits | G77: 2 | H77: 10 | I77: CD
E78: MATH S221 | F78: Mathematical Methods | G78: 2 | H78: 10 | I78: CD
E79: MATH S222 | F79: Mathematical Models with Applications | G79: 2 | H79: 10 | I79: CD
E80: PHYS S271 | F80: Discovering Physics | G80: 2 | H80: 10 | I80: CD
E81: MGT B240 | F81: Principles and Practices of Management | G81: 1 | H81: 5 | I81: OD
E82: DESN S217 | F82: Design Essentials | G82: 2 | H82: 10 | I82: OD
E83: COMP S201 | F83: Computing Fundamentals with Java | G83: 2 | H83: 10 | I83: OD
E84: COMP S258 | F84: Computer Programming and Problem Solving | G84: 2 | H84: 10 | I84: OD
E85: COMP S260 | F85: Computer Architecture and Operating Systems | G85: 2 | H85: 10 | I85: OD
E86: ELEC S212 | F86: Network Programming and Design | G86: 2 | H86: 10 | I86: OD
E87: ELEC S224 | F87: Computers and Processors | G87: 2 | H87: 10 | I87: OD
E88: ENGG S228 | F88: Engineers in Society | G88: 1 | H88: 5 | I88: F/OD
E89: Higher level
E90: MGT B347 | F90: Managing People and Organizations | G90: 2 | H90: 10 | I90: OD
E91: TC S319 | F91: Quality Management for Science and Technology | G91: 1 | H91: 5 | I91: OD
E92: TC S409 | F92: Safety and Reliability for Science and Technology | G92: 1 | H92: 5 | I92: OD
E93: ENGG S362 | F93: Design and Innovation | G93: 2 | H93: 10 | I93: OD
E94: MATH S365 | F94: Graphs, Networks and Design | G94: 2 | H94: 10 | I94: OD
E95: COMP S311 | F95: Advanced Java Programming and Mobile Application Development | G95: 2 | H95: 10 | I95: OD
E96: COMP S356 | F96: Software Engineering and Project Management | G96: 2 | H96: 10 | I96: OD
E97: COMP S359 | F97: Relational Databases: Theory and Practice | G97: 2 | H97: 10 | I97: OD
E98: ELEC S323 | F98: Information Theory and Digital Communications | G98: 2 | H98: 10 | I98: HD/OD
E99: ELEC S334 | F99: Signal Processing and Multimedia Technology | G99: 2 | H99: 10 | I99: HD/OD
E100: ENGG S356 | F100: Engineering Small Worlds: Micro and Nano Technologies | G100: 2 | H100: 10 | I100: HD/OD
E101: MECH S395 | F101: Mechatronics | G101: 2 | H101: 10 | I101: HD/OD
