Workbook

Sheet Study Plan Template
B1: Study Plan
B2: Completion/ Planned Enrolment Term | C2: Course Code | D2: Course Title | E2: Length in term(s) | F2: Credit | G2: RV | H2: Course Passed?
A3: 1
A4: 2
A5: 3
A6: 4
A7: 5
A8: 6
A9: 7
A10: 8
A11: 9
A12: 10
A13: 11
A14: 12
... A27: 25
E28: Total Credits Required for the Programme

Sheet Study Progression Schedule 
B1: Study Progression Schedule (Course Enrolment Plan)
C2: Course code | D2: Course title | E2: Length in term(s) | F2: Credit | G2: RV | H2: Credits Sub-total by Term | I2: RV sub-total by Term | J2: Completion/ Planned Enrolment Term | K2: Label
B3: Year 1 Study (22/23)
B4: Autumn | C4: BIS B123 | D4: Business Computing Applications | E4: 1 | F4: 5 | G4: 5 | K4: CD
C5: BUS B103 | D5: English and Communications for Business I | E5: 1 | F5: 5 | G5: 5 | K5: CD
C6: ACT B210 | D6: Introduction to Accounting | E6: 2 | F6: 10 | G6: 5 | K6: CD
H7: =SUM(F4:F7) -> 20 | I7: =SUM(G4:G7) -> 15
B8: Spring | D8: RV from previous term(s) | G8: 5
C9: BUS B104 | D9: English and Communications for Business II | E9: 1 | F9: 5 | G9: 5 | K9: CD
C10: ECON A231 | D10: Introduction to Microeconomics | E10: 1 | F10: 5 | G10: 5 | K10: CD
D11: one free choice | E11: 1 | F11: 5 | G11: 5 | K11: F
H12: =SUM(F8:F12) -> 15 | I12: =SUM(G8:G12) -> 20
B13: Summer | D13: RV from previous term(s) | G13: 0
C14: MKT B250 | D14: Introduction to Marketing | E14: 1 | F14: 5 | G14: 5 | K14: CD
H15: =SUM(F13:F15) -> 5 | I15: =SUM(G13:G15) -> 5
B16: Year 2 Study (23/24)
B17: Autumn | D17: RV from previous term(s) | G17: 0
C18: BUS B273 | D18: Quantitative Analysis for Business | E18: 2 | F18: 10 | G18: 5 | K18: CD
C19: ECON A232 | D19: Introduction to Macroeconomics | E19: 1 | F19: 5 | G19: 5 | K19: CD
C20: FIN B280 | D20: Introduction to Financial Management | E20: 1 | F20: 5 | G20: 5 | K20: CD
D21: one free choice | E21: 1 | F21: 5 | G21: 5 | K21: F
H22: =SUM(F17:F22) -> 25 | I22: =SUM(G17:G22) -> 20
B23: Spring | D23: RV from previous term(s) | G23: 5
C24: LAW B262 | D24: Business Law I | E24: 1 | F24: 5 | G24: 5 | K24: CD
C25: MGT B240 | D25: Principles and Practices of Management | E25: 1 | F25: 5 | G25: 5 | K25: CD
C26: ACT B304 | D26: Accounting Information Systems | E26: 1 | F26: 5 | G26: 5 | H26: =SUM(F23:F26) -> 15 | I26: =SUM(G23:G26) -> 20 | K26: ACC
B27: Summer | D27: RV from previous term(s) | G27: 0
H28: =SUM(F27:F28) -> 0 | I28: =SUM(G27:G28) -> 0
B29: Year 3 Study (24/25)
B30: Autumn | D30: RV from previous term(s) | G30: 0
C31: ACT B313 | D31: Management and Cost Accounting | E31: 1 | F31: 5 | G31: 5 | K31: ACC
C32: ACT B414 | D32: Taxation I | E32: 1 | F32: 5 | G32: 5 | K32: ACC
C33: ACT B416 | D33: Auditing I | E33: 1 | F33: 5 | G33: 5 | K33: ACC
C34: BUS B368 | D34: Business Issues and Ethics | E34: 1 | F34: 5 | G34: 5 | K34: ACC
H35: =SUM(F30:F35) -> 20 | I35: =SUM(G30:G35) -> 20
B36: Spring | D36: RV from previous term(s) | G36: 0
C37: ACT B405 | D37: Advanced Management Accounting | E37: 1 | F37: 5 | G37: 5 | K37: ACC
C38: ACT B415 | D38: Taxation II | E38: 1 | F38: 5 | G38: 5 | K38: BUS
C39: IB B397 | D39: Global Issues in Management | E39: 1 | F39: 5 | G39: 5 | K39: BUS
D40: one free choice | E40: 1 | F40: 5 | G40: 5 | K40: F
H41: =SUM(F36:F41) -> 20 | I41: =SUM(G36:G41) -> 20
B42: Summer | D42: RV from previous term(s) | G42: 0
H43: =SUM(F42:F43) -> 0 | I43: =SUM(G42:G43) -> 0
B44: Year 4 Study (25/26)
B45: Autumn | D45: RV from previous term(s) | G45: 0
C46: ACT B407 | D46: Advanced Financial Reporting and Analysis I | E46: 1 | F46: 5 | G46: 5 | K46: ACC
C47: LAW B333 | D47: Company Law I | E47: 1 | F47: 5 | G47: 5 | K47: ACC
C48: ACT B331 | D48: Company Accounting I | E48: 1 | F48: 5 | G48: 5 | K48: ACC
C49: MGT B399 | D49: Management Policy and Strategy | E49: 1 | F49: 5 | G49: 5 | K49: CD
H50: =SUM(F45:F50) -> 20 | I50: =SUM(G45:G50) -> 20
B51: Spring | D51: RV from previous term(s) | G51: 0
C52: ACT B332 | D52: Company Accounting II | E52: 1 | F52: 5 | G52: 5 | K52: ACC
C53: ACT B417 | D53: Auditing II | E53: 1 | F53: 5 | G53: 5 | K53: ACC
C54: FIN B388 | D54: Banking System | E54: 1 | F54: 5 | G54: 5 | K54: BUS
D55: one free choice | E55: 1 | F55: 5 | G55: 5 | K55: F
H56: =SUM(F51:F56) -> 20 | I56: =SUM(G51:G56) -> 20
B57: Summer | D57: RV from previous term(s) | G57: 0
H58: =SUM(F57:F58) -> 0 | I58: =SUM(G57:G58) -> 0
B59: Year 5 Study (26/27)
B60: Autumn | D60: RV from previous term(s)
H63: =SUM(F60:F63) -> 0 | I63: =SUM(G60:G63) -> 0
B64: Spring | D64: RV from previous term(s)
H67: =SUM(F64:F67) -> 0 | I67: =SUM(G64:G67) -> 0
B68: Summer
G71: Total Credits Required for the Programme | H71: =SUM(H4:H70) -> 160 | I71: =SUM(I4:I70) -> 160

Sheet Study Progression Schedule (2)
B1: Study Progression Plan for Course Enrolment
C2: Course code | D2: Course title | E2: Length in term(s) | F2: Credit | G2: RV | H2: Credits Sub-total by Term | I2: RV sub-total by Term | J2: Completion/ Planned Enrolment Term | K2: Label
B3: Year 1 Study (2022/23)
B4: Autumn | C4: BIS B123 | D4: Business Computing Applications | E4: 1 | F4: 5 | G4: 5 | K4: CD
C5: BUS B103 | D5: English and Communications for Business I | E5: 1 | F5: 5 | G5: 5 | K5: CD
C6: ACT B210 | D6: Introduction to Accounting | E6: 2 | F6: 10 | G6: 5 | K6: CD
H7: =SUM(F4:F7) -> 20 | I7: =SUM(G4:G7) -> 15
B8: Spring | D8: RV from previous term(s) | G8: 5
C9: BUS B104 | D9: English and Communications for Business II | E9: 1 | F9: 5 | G9: 5 | K9: CD
C10: MGT B240 | D10: Principles and Practices of Management | E10: 1 | F10: 5 | G10: 5 | K10: CD
C11: ECON A231 | D11: Introduction to Microeconomics | E11: 1 | F11: 5 | G11: 5 | K11: CD
H12: =SUM(F8:F12) -> 15 | I12: =SUM(G8:G12) -> 20
B13: Summer | D13: RV from previous term(s) | G13: 0
C14: MKT B250 | D14: Introduction to Marketing | E14: 1 | F14: 5 | G14: 5 | K14: CD
H15: =SUM(F13:F15) -> 5 | I15: =SUM(G13:G15) -> 5
B16: Year 2 Study (2023/24)
B17: Autumn | D17: RV from previous term(s) | G17: 0
C18: BUS B273 | D18: Quantitative Analysis for Business | E18: 2 | F18: 10 | G18: 5 | K18: CD
C19: ECON A232 | D19: Introduction to Macroeconomics | E19: 1 | F19: 5 | G19: 5 | K19: CD
C20: FIN B280 | D20: Introduction to Financial Management | E20: 1 | F20: 5 | G20: 5 | K20: CD
D21: one free choice | E21: 1 | F21: 5 | G21: 5 | K21: F
H22: =SUM(F17:F22) -> 25 | I22: =SUM(G17:G22) -> 20
B23: Spring | D23: RV from previous term(s) | G23: 5
C24: LAW B262 | D24: Business Law I | E24: 1 | F24: 5 | G24: 5 | K24: CD
C25: ACT B304 | D25: Accounting Information Systems | E25: 1 | F25: 5 | G25: 5 | K25: ACC
D26: one free choice | E26: 1 | F26: 5 | G26: 5 | H26: =SUM(F23:F26) -> 15 | I26: =SUM(G23:G26) -> 20 | K26: F
B27: Summer | D27: RV from previous term(s) | G27: 0
H28: =SUM(F27:F28) -> 0 | I28: =SUM(G27:G28) -> 0
B29: Year 3 Study (2024/25)
B30: Autumn | D30: RV from previous term(s) | G30: 0
C31: ACT B313 | D31: Management and Cost Accounting | E31: 1 | F31: 5 | G31: 5 | K31: ACC
C32: ACT B414 | D32: Taxation I | E32: 1 | F32: 5 | G32: 5 | K32: ACC
C33: BUS B368 | D33: Business Issues and Ethics | E33: 1 | F33: 5 | G33: 5 | K33: ACC
D34: one free choice | E34: 1 | F34: 5 | G34: 5 | K34: F
H35: =SUM(F30:F35) -> 20 | I35: =SUM(G30:G35) -> 20
B36: Spring | D36: RV from previous term(s) | G36: 0
C37: ACT B405 | D37: Advanced Management Accounting | E37: 1 | F37: 5 | G37: 5 | K37: ACC
C38: ACT B415 | D38: Taxation II | E38: 1 | F38: 5 | G38: 5 | K38: BUS
C39: IB B397 | D39: Global Issues in Management | E39: 1 | F39: 5 | G39: 5 | K39: BUS
C40: MGT B399 | D40: Management Policy and Strategy | E40: 1 | F40: 5 | G40: 5 | K40: CD
H41: =SUM(F36:F41) -> 20 | I41: =SUM(G36:G41) -> 20
B42: Summer | D42: RV from previous term(s) | G42: 0
H43: =SUM(F42:F43) -> 0 | I43: =SUM(G42:G43) -> 0
B44: Year 4 Study (2025/26)
B45: Autumn | D45: RV from previous term(s) | G45: 0
C46: ACT B407 | D46: Advanced Financial Reporting and Analysis I | E46: 1 | F46: 5 | G46: 5 | K46: ACC
C47: LAW B333 | D47: Company Law I | E47: 1 | F47: 5 | G47: 5 | K47: ACC
C48: ACT B331 | D48: Company Accounting I | E48: 1 | F48: 5 | G48: 5 | K48: ACC
C49: ACT B416 | D49: Auditing I | E49: 1 | F49: 5 | G49: 5 | K49: ACC
H50: =SUM(F45:F50) -> 20 | I50: =SUM(G45:G50) -> 20
B51: Spring | D51: RV from previous term(s) | G51: 0
C52: ACT B332 | D52: Company Accounting II | E52: 1 | F52: 5 | G52: 5 | K52: ACC
C53: ACT B417 | D53: Auditing II | E53: 1 | F53: 5 | G53: 5 | K53: ACC
C54: FIN B388 | D54: Banking System | E54: 1 | F54: 5 | G54: 5 | K54: BUS
D55: one free choice | E55: 1 | F55: 5 | G55: 5 | K55: F
H56: =SUM(F51:F56) -> 20 | I56: =SUM(G51:G56) -> 20
B57: Summer | D57: RV from previous term(s) | G57: 0
H58: =SUM(F57:F58) -> 0 | I58: =SUM(G57:G58) -> 0
B59: Year 5 Study (26/27)
B60: Autumn | D60: RV from previous term(s)
H63: =SUM(F60:F63) -> 0 | I63: =SUM(G60:G63) -> 0
B64: Spring | D64: RV from previous term(s)
H67: =SUM(F64:F67) -> 0 | I67: =SUM(G64:G67) -> 0
B68: Summer
G71: Total Credits Required for the Programme | H71: =SUM(H4:H70) -> 160 | I71: =SUM(I4:I70) -> 160

Sheet Course Enrollment Guide 科目註冊指引
B52: Programme Requirements | E52: https://www.hkmu.edu.hk/as/programmes-courses/distance-learning/bssclesm2/
B53: 課程要求 | E53: https://www.hkmu.edu.hk/as/tc/programmes-courses/distance-learning/bssclesm2/

Sheet 建議科目註冊計劃
B1: Recommended Course Enrolment Plan (BSSCLESM2)
B2: Programme Requirements (https://www.hkmu.edu.hk/as/programmes-courses/distance-learning/bssclesm2/)
B3: Term | C3: Course code | D3: Course title | E3: Length in term(s) | F3: Credit | G3: Registration Value (RV) | H3: Credits Sub-total by Term | I3: RV sub-total by Term | J3: Completion/ Planned Enrolment Term | K3: Label | M3: Note: Column with yellow filled for students' use
B4: 1st Year of Study (2022/23)
B5: Autumn | C5: ENGL A101 | D5: =VLOOKUP($C5, 'All Courses'!$B$3:$E$118, 2, FALSE) -> University English Writing Skills | E5: =VLOOKUP($C5, 'All Courses'!$B$3:$E$118, 3, FALSE) -> 1 | F5: =VLOOKUP($C5, 'All Courses'!$B$3:$E$118, 4, FALSE) -> 5
C6: ENGL A122 | D6: =VLOOKUP($C6, 'All Courses'!$B$3:$E$118, 2, FALSE) -> Presentation Skills | E6: =VLOOKUP($C6, 'All Courses'!$B$3:$E$118, 3, FALSE) -> 1 | F6: =VLOOKUP($C6, 'All Courses'!$B$3:$E$118, 4, FALSE) -> 5
C7: LESM A204 | D7: =VLOOKUP($C7, 'All Courses'!$B$3:$E$118, 2, FALSE) -> Security Practice and Management | E7: =VLOOKUP($C7, 'All Courses'!$B$3:$E$118, 3, FALSE) -> 2 | F7: 5
H8: =SUM(F5:F8) -> 15 | I8: =SUM(G5:G8) -> 0
B9: Spring | D9: RV from previous term(s)
C10: LESM A204 | D10: =VLOOKUP($C10, 'All Courses'!$B$3:$E$118, 2, FALSE) -> Security Practice and Management | E10: =VLOOKUP($C10, 'All Courses'!$B$3:$E$118, 3, FALSE) -> 2 | F10: 5
C11: SOSC A121C | D11: =VLOOKUP($C11, 'All Courses'!$B$3:$E$118, 2, FALSE) -> 社會科學基礎課程：心理學 | E11: =VLOOKUP($C11, 'All Courses'!$B$3:$E$118, 3, FALSE) -> 1 | F11: =VLOOKUP($C11, 'All Courses'!$B$3:$E$118, 4, FALSE) -> 5
C12: LESM A201 | D12: =VLOOKUP($C12, 'All Courses'!$B$3:$E$118, 2, FALSE) -> Hong Kong Criminal Justice System | E12: =VLOOKUP($C12, 'All Courses'!$B$3:$E$118, 3, FALSE) -> 2 | F12: 5 | H12: =SUM(F9:F12) -> 15 | I12: =SUM(G9:G12) -> 0
B13: Summer | D13: RV from previous term(s)
H15: =SUM(F13:F15) -> 0 | I15: =SUM(G13:G15) -> 0
B16: 2nd year of Study (2023/24)
B17: Autumn | D17: RV from previous term(s)
C18: LESM A201 | D18: =VLOOKUP($C18, 'All Courses'!$B$3:$E$118, 2, FALSE) -> Hong Kong Criminal Justice System | E18: =VLOOKUP($C18, 'All Courses'!$B$3:$E$118, 3, FALSE) -> 2 | F18: 5
C19: SOSC A122C | D19: =VLOOKUP($C19, 'All Courses'!$B$3:$E$118, 2, FALSE) -> 社會科學基礎課程：社會學 | E19: =VLOOKUP($C19, 'All Courses'!$B$3:$E$118, 3, FALSE) -> 1 | F19: =VLOOKUP($C19, 'All Courses'!$B$3:$E$118, 4, FALSE) -> 5
C20: PUAD A203 | D20: =VLOOKUP($C20, 'All Courses'!$B$3:$E$118, 2, FALSE) -> Introduction to Public Policy | E20: =VLOOKUP($C20, 'All Courses'!$B$3:$E$118, 3, FALSE) -> 1 | F20: =VLOOKUP($C20, 'All Courses'!$B$3:$E$118, 4, FALSE) -> 5
H21: =SUM(F17:F21) -> 15 | I21: =SUM(G17:G21) -> 0
B22: Spring | D22: RV from previous term(s)
C23: PUAD A202 | D23: =VLOOKUP($C23, 'All Courses'!$B$3:$E$118, 2, FALSE) -> Introduction to Public Administration | E23: =VLOOKUP($C23, 'All Courses'!$B$3:$E$118, 3, FALSE) -> 1 | F23: =VLOOKUP($C23, 'All Courses'!$B$3:$E$118, 4, FALSE) -> 5
C24: LESM A301 | D24: =VLOOKUP($C24, 'All Courses'!$B$3:$E$118, 2, FALSE) -> Core Issues in Policing | E24: =VLOOKUP($C24, 'All Courses'!$B$3:$E$118, 3, FALSE) -> 2 | F24: 5
C25: LESM A304 | D25: =VLOOKUP($C25, 'All Courses'!$B$3:$E$118, 2, FALSE) -> Research Methods in Law Enforcement and Security Studies | E25: =VLOOKUP($C25, 'All Courses'!$B$3:$E$118, 3, FALSE) -> 2 | F25: 5 | H25: =SUM(F22:F25) -> 15 | I25: =SUM(G22:G25) -> 0
B28: Summer | D28: RV from previous term(s)
H30: =SUM(F28:F30) -> 0 | I30: =SUM(G28:G30) -> 0
B31: 3rd Year of Study (2024/25)
B32: Autumn | D32: RV from previous term(s)
C33: LESM A301 | D33: =VLOOKUP($C33, 'All Courses'!$B$3:$E$118, 2, FALSE) -> Core Issues in Policing | E33: =VLOOKUP($C33, 'All Courses'!$B$3:$E$118, 3, FALSE) -> 2 | F33: 5
C34: LESM A304 | D34: =VLOOKUP($C34, 'All Courses'!$B$3:$E$118, 2, FALSE) -> Research Methods in Law Enforcement and Security Studies | E34: =VLOOKUP($C34, 'All Courses'!$B$3:$E$118, 3, FALSE) -> 2 | F34: 5
C35: ECON A232 | D35: =VLOOKUP($C35, 'All Courses'!$B$3:$E$118, 2, FALSE) -> Introduction to Macroeconomics | E35: =VLOOKUP($C35, 'All Courses'!$B$3:$E$118, 3, FALSE) -> 1 | F35: 5
H37: =SUM(F32:F37) -> 15 | I37: =SUM(G32:G37) -> 0
B38: Spring | D38: RV from previous term(s)
C39: LESM A303 | D39: =VLOOKUP($C39, 'All Courses'!$B$3:$E$118, 2, FALSE) -> Law Enforcement and Policing in Chinese Societies | E39: =VLOOKUP($C39, 'All Courses'!$B$3:$E$118, 3, FALSE) -> 1 | F39: =VLOOKUP($C39, 'All Courses'!$B$3:$E$118, 4, FALSE) -> 5
C40: ECON A231 | D40: =VLOOKUP($C40, 'All Courses'!$B$3:$E$118, 2, FALSE) -> Introduction to Microeconomics | E40: =VLOOKUP($C40, 'All Courses'!$B$3:$E$118, 3, FALSE) -> 1 | F40: =VLOOKUP($C40, 'All Courses'!$B$3:$E$118, 4, FALSE) -> 5
C41: LESM A302 | D41: =VLOOKUP($C41, 'All Courses'!$B$3:$E$118, 2, FALSE) -> Public Order Management | E41: =VLOOKUP($C41, 'All Courses'!$B$3:$E$118, 3, FALSE) -> 1 | F41: =VLOOKUP($C41, 'All Courses'!$B$3:$E$118, 4, FALSE) -> 5
H42: =SUM(F38:F42) -> 15 | I42: =SUM(G38:G42) -> 0
B43: Summer | D43: RV from previous term(s)
H45: =SUM(F43:F45) -> 0 | I45: =SUM(G43:G45) -> 0
B46: 4th Year of Study (2025/26)
B47: Autumn | D47: RV from previous term(s)
H52: =SUM(F47:F52) -> 0 | I52: =SUM(G47:G52) -> 0
B53: Spring | D53: RV from previous term(s)
H57: =SUM(F53:F57) -> 0 | I57: =SUM(G53:G57) -> 0
B58: Summer | D58: RV from previous term(s)
H60: =SUM(F58:F60) -> 0 | I60: =SUM(G58:G60) -> 0
B61: 5th Year of Study (26/27)
B62: Autumn | D62: RV from previous term(s)
H67: =SUM(F62:F67) -> 0 | I67: =SUM(G62:G67) -> 0
B68: Spring | D68: RV from previous term(s)
H72: =SUM(F68:F72) -> 0 | I72: =SUM(G68:G72) -> 0
B73: Summer | D73: RV from previous term(s)
G76: Total Credits Required for the Programme | H76: =SUM(H5:H75) -> 90 | I76: 90
B78: Note: Registration Value (RV) equals credits divided by length in terms

Sheet 科目開設時間表
B1: Planned Course Presentation Schedule (as of XX-April-2022)
B2: Core and Elective courses for following Programme(s): BSSCLESM2
B3: The University will follow the planned course presentation schedule as far as possible but may make changes if necessary. Please check back often for the most up to date information.
B5: Compulsory/ Elective | C5: Course | D5: Course Title | E5: Length | F5: Credits | G5: 2022 | H5: 2023 | I5: 2023 | J5: 2023 | K5: 2024 | L5: 2024 | M5: 2024 | N5: 2025 | O5: 2025 | P5: 2025 | Q5: 2026 | R5: 2026 | S5: 2026 | T5: 2027 | U5: 2027
C6: Code | E6: in Terms | G6: Autumn | H6: Spring | I6: Summer | J6: Autumn | K6: Spring | L6: Summer | M6: Autumn | N6: Spring | O6: Summer | P6: Autumn | Q6: Spring | R6: Summer | S6: Autumn | T6: Spring | U6: Summer
A7: 1 | B7: Compulsory | C7: LESM A201 | D7: =VLOOKUP($C7, 'All Courses'!$B$3:$T$118, 2, FALSE) -> Hong Kong Criminal Justice System | E7: =VLOOKUP($C7, 'All Courses'!$B$3:$T$118, 3, FALSE) -> 2 | F7: =VLOOKUP($C7, 'All Courses'!$B$3:$T$118, 4, FALSE) -> 10 | G7: =VLOOKUP($C7, 'All Courses'!$B$3:$T$118, 5, FALSE) | H7: =VLOOKUP($C7, 'All Courses'!$B$3:$T$118, 6, FALSE) -> √ | I7: =VLOOKUP($C7, 'All Courses'!$B$3:$T$118, 7, FALSE) -> 0 | J7: =VLOOKUP($C7, 'All Courses'!$B$3:$T$118, 8, FALSE) -> 0 | K7: =VLOOKUP($C7, 'All Courses'!$B$3:$T$118, 9, FALSE) -> √ | L7: =VLOOKUP($C7, 'All Courses'!$B$3:$T$118, 10, FALSE) -> 0 | M7: =VLOOKUP($C7, 'All Courses'!$B$3:$T$118, 11, FALSE) -> 0 | N7: =VLOOKUP($C7, 'All Courses'!$B$3:$T$118, 12, FALSE) -> √ | O7: =VLOOKUP($C7, 'All Courses'!$B$3:$T$118, 13, FALSE) -> 0 | P7: =VLOOKUP($C7, 'All Courses'!$B$3:$T$118, 14, FALSE) -> 0 | Q7: =VLOOKUP($C7, 'All Courses'!$B$3:$T$118, 15, FALSE) -> √ | R7: =VLOOKUP($C7, 'All Courses'!$B$3:$T$118, 16, FALSE) -> 0 | S7: =VLOOKUP($C7, 'All Courses'!$B$3:$T$118, 17, FALSE) -> 0 | T7: =VLOOKUP($C7, 'All Courses'!$B$3:$T$118, 18, FALSE) -> 0 | U7: =VLOOKUP($C7, 'All Courses'!$B$3:$T$118, 19, FALSE) -> 0
A8: 2 | B8: Compulsory | C8: LESM A204 | D8: =VLOOKUP($C8, 'All Courses'!$B$3:$T$118, 2, FALSE) -> Security Practice and Management | E8: =VLOOKUP($C8, 'All Courses'!$B$3:$T$118, 3, FALSE) -> 2 | F8: =VLOOKUP($C8, 'All Courses'!$B$3:$T$118, 4, FALSE) -> 10 | G8: =VLOOKUP($C8, 'All Courses'!$B$3:$T$118, 5, FALSE) -> √ | H8: =VLOOKUP($C8, 'All Courses'!$B$3:$T$118, 6, FALSE) -> 0 | I8: =VLOOKUP($C8, 'All Courses'!$B$3:$T$118, 7, FALSE) -> 0 | J8: =VLOOKUP($C8, 'All Courses'!$B$3:$T$118, 8, FALSE) -> √ | K8: =VLOOKUP($C8, 'All Courses'!$B$3:$T$118, 9, FALSE) -> 0 | L8: =VLOOKUP($C8, 'All Courses'!$B$3:$T$118, 10, FALSE) -> 0 | M8: =VLOOKUP($C8, 'All Courses'!$B$3:$T$118, 11, FALSE) -> √ | N8: =VLOOKUP($C8, 'All Courses'!$B$3:$T$118, 12, FALSE) -> 0 | O8: =VLOOKUP($C8, 'All Courses'!$B$3:$T$118, 13, FALSE) -> 0 | P8: =VLOOKUP($C8, 'All Courses'!$B$3:$T$118, 14, FALSE) -> √ | Q8: =VLOOKUP($C8, 'All Courses'!$B$3:$T$118, 15, FALSE) -> 0 | R8: =VLOOKUP($C8, 'All Courses'!$B$3:$T$118, 16, FALSE) -> 0 | S8: =VLOOKUP($C8, 'All Courses'!$B$3:$T$118, 17, FALSE) -> √ | T8: =VLOOKUP($C8, 'All Courses'!$B$3:$T$118, 18, FALSE) -> 0 | U8: =VLOOKUP($C8, 'All Courses'!$B$3:$T$118, 19, FALSE) -> 0
A9: 3 | B9: Compulsory | C9: LESM A301 | D9: =VLOOKUP($C9, 'All Courses'!$B$3:$T$118, 2, FALSE) -> Core Issues in Policing | E9: =VLOOKUP($C9, 'All Courses'!$B$3:$T$118, 3, FALSE) -> 2 | F9: =VLOOKUP($C9, 'All Courses'!$B$3:$T$118, 4, FALSE) -> 10 | G9: =VLOOKUP($C9, 'All Courses'!$B$3:$T$118, 5, FALSE) | H9: =VLOOKUP($C9, 'All Courses'!$B$3:$T$118, 6, FALSE) -> √ | I9: =VLOOKUP($C9, 'All Courses'!$B$3:$T$118, 7, FALSE) -> 0 | J9: =VLOOKUP($C9, 'All Courses'!$B$3:$T$118, 8, FALSE) -> 0 | K9: =VLOOKUP($C9, 'All Courses'!$B$3:$T$118, 9, FALSE) -> √ | L9: =VLOOKUP($C9, 'All Courses'!$B$3:$T$118, 10, FALSE) -> 0 | M9: =VLOOKUP($C9, 'All Courses'!$B$3:$T$118, 11, FALSE) -> 0 | N9: =VLOOKUP($C9, 'All Courses'!$B$3:$T$118, 12, FALSE) -> √ | O9: =VLOOKUP($C9, 'All Courses'!$B$3:$T$118, 13, FALSE) -> 0 | P9: =VLOOKUP($C9, 'All Courses'!$B$3:$T$118, 14, FALSE) -> 0 | Q9: =VLOOKUP($C9, 'All Courses'!$B$3:$T$118, 15, FALSE) -> √ | R9: =VLOOKUP($C9, 'All Courses'!$B$3:$T$118, 16, FALSE) -> 0 | S9: =VLOOKUP($C9, 'All Courses'!$B$3:$T$118, 17, FALSE) -> 0 | T9: =VLOOKUP($C9, 'All Courses'!$B$3:$T$118, 18, FALSE) -> 0 | U9: =VLOOKUP($C9, 'All Courses'!$B$3:$T$118, 19, FALSE) -> 0
A10: 4 | B10: Compulsory | C10: LESM A305 | D10: =VLOOKUP($C10, 'All Courses'!$B$3:$T$118, 2, FALSE) -> Major Issues in Criminology and Penology | E10: =VLOOKUP($C10, 'All Courses'!$B$3:$T$118, 3, FALSE) -> 2 | F10: =VLOOKUP($C10, 'All Courses'!$B$3:$T$118, 4, FALSE) -> 10 | G10: =VLOOKUP($C10, 'All Courses'!$B$3:$T$118, 5, FALSE) -> √ | H10: =VLOOKUP($C10, 'All Courses'!$B$3:$T$118, 6, FALSE) -> 0 | I10: =VLOOKUP($C10, 'All Courses'!$B$3:$T$118, 7, FALSE) -> 0 | J10: =VLOOKUP($C10, 'All Courses'!$B$3:$T$118, 8, FALSE) -> √ | K10: =VLOOKUP($C10, 'All Courses'!$B$3:$T$118, 9, FALSE) -> 0 | L10: =VLOOKUP($C10, 'All Courses'!$B$3:$T$118, 10, FALSE) -> 0 | M10: =VLOOKUP($C10, 'All Courses'!$B$3:$T$118, 11, FALSE) -> √ | N10: =VLOOKUP($C10, 'All Courses'!$B$3:$T$118, 12, FALSE) -> 0 | O10: =VLOOKUP($C10, 'All Courses'!$B$3:$T$118, 13, FALSE) -> 0 | P10: =VLOOKUP($C10, 'All Courses'!$B$3:$T$118, 14, FALSE) -> √ | Q10: =VLOOKUP($C10, 'All Courses'!$B$3:$T$118, 15, FALSE) -> 0 | R10: =VLOOKUP($C10, 'All Courses'!$B$3:$T$118, 16, FALSE) -> 0 | S10: =VLOOKUP($C10, 'All Courses'!$B$3:$T$118, 17, FALSE) -> √ | T10: =VLOOKUP($C10, 'All Courses'!$B$3:$T$118, 18, FALSE) -> 0 | U10: =VLOOKUP($C10, 'All Courses'!$B$3:$T$118, 19, FALSE) -> 0
A11: 5 | B11: Elective | C11: LESM A302 | D11: =VLOOKUP($C11, 'All Courses'!$B$3:$T$118, 2, FALSE) -> Public Order Management | E11: =VLOOKUP($C11, 'All Courses'!$B$3:$T$118, 3, FALSE) -> 1 | F11: =VLOOKUP($C11, 'All Courses'!$B$3:$T$118, 4, FALSE) -> 5 | G11: =VLOOKUP($C11, 'All Courses'!$B$3:$T$118, 5, FALSE) | H11: =VLOOKUP($C11, 'All Courses'!$B$3:$T$118, 6, FALSE) -> 0 | I11: =VLOOKUP($C11, 'All Courses'!$B$3:$T$118, 7, FALSE) -> 0 | J11: =VLOOKUP($C11, 'All Courses'!$B$3:$T$118, 8, FALSE) -> √ | K11: =VLOOKUP($C11, 'All Courses'!$B$3:$T$118, 9, FALSE) -> 0 | L11: =VLOOKUP($C11, 'All Courses'!$B$3:$T$118, 10, FALSE) -> 0 | M11: =VLOOKUP($C11, 'All Courses'!$B$3:$T$118, 11, FALSE) -> 0 | N11: =VLOOKUP($C11, 'All Courses'!$B$3:$T$118, 12, FALSE) -> √ | O11: =VLOOKUP($C11, 'All Courses'!$B$3:$T$118, 13, FALSE) -> 0 | P11: =VLOOKUP($C11, 'All Courses'!$B$3:$T$118, 14, FALSE) -> 0 | Q11: =VLOOKUP($C11, 'All Courses'!$B$3:$T$118, 15, FALSE) -> 0 | R11: =VLOOKUP($C11, 'All Courses'!$B$3:$T$118, 16, FALSE) -> 0 | S11: =VLOOKUP($C11, 'All Courses'!$B$3:$T$118, 17, FALSE) -> √ | T11: =VLOOKUP($C11, 'All Courses'!$B$3:$T$118, 18, FALSE) -> 0 | U11: =VLOOKUP($C11, 'All Courses'!$B$3:$T$118, 19, FALSE) -> 0
A12: 6 | B12: Elective | C12: LESM A303 | D12: =VLOOKUP($C12, 'All Courses'!$B$3:$T$118, 2, FALSE) -> Law Enforcement and Policing in Chinese Societies | E12: =VLOOKUP($C12, 'All Courses'!$B$3:$T$118, 3, FALSE) -> 1 | F12: =VLOOKUP($C12, 'All Courses'!$B$3:$T$118, 4, FALSE) -> 5 | G12: =VLOOKUP($C12, 'All Courses'!$B$3:$T$118, 5, FALSE) | H12: =VLOOKUP($C12, 'All Courses'!$B$3:$T$118, 6, FALSE) -> √ | I12: =VLOOKUP($C12, 'All Courses'!$B$3:$T$118, 7, FALSE) -> 0 | J12: =VLOOKUP($C12, 'All Courses'!$B$3:$T$118, 8, FALSE) -> 0 | K12: =VLOOKUP($C12, 'All Courses'!$B$3:$T$118, 9, FALSE) -> √ | L12: =VLOOKUP($C12, 'All Courses'!$B$3:$T$118, 10, FALSE) -> 0 | M12: =VLOOKUP($C12, 'All Courses'!$B$3:$T$118, 11, FALSE) -> 0 | N12: =VLOOKUP($C12, 'All Courses'!$B$3:$T$118, 12, FALSE) -> √ | O12: =VLOOKUP($C12, 'All Courses'!$B$3:$T$118, 13, FALSE) -> 0 | P12: =VLOOKUP($C12, 'All Courses'!$B$3:$T$118, 14, FALSE) -> 0 | Q12: =VLOOKUP($C12, 'All Courses'!$B$3:$T$118, 15, FALSE) -> √ | R12: =VLOOKUP($C12, 'All Courses'!$B$3:$T$118, 16, FALSE) -> 0 | S12: =VLOOKUP($C12, 'All Courses'!$B$3:$T$118, 17, FALSE) -> 0 | T12: =VLOOKUP($C12, 'All Courses'!$B$3:$T$118, 18, FALSE) -> √ | U12: =VLOOKUP($C12, 'All Courses'!$B$3:$T$118, 19, FALSE) -> 0
A13: 7 | B13: Elective | C13: LESM A304 | D13: =VLOOKUP($C13, 'All Courses'!$B$3:$T$118, 2, FALSE) -> Research Methods in Law Enforcement and Security Studies | E13: =VLOOKUP($C13, 'All Courses'!$B$3:$T$118, 3, FALSE) -> 2 | F13: =VLOOKUP($C13, 'All Courses'!$B$3:$T$118, 4, FALSE) -> 10 | G13: =VLOOKUP($C13, 'All Courses'!$B$3:$T$118, 5, FALSE) | H13: =VLOOKUP($C13, 'All Courses'!$B$3:$T$118, 6, FALSE) -> √ | I13: =VLOOKUP($C13, 'All Courses'!$B$3:$T$118, 7, FALSE) -> 0 | J13: =VLOOKUP($C13, 'All Courses'!$B$3:$T$118, 8, FALSE) -> 0 | K13: =VLOOKUP($C13, 'All Courses'!$B$3:$T$118, 9, FALSE) -> √ | L13: =VLOOKUP($C13, 'All Courses'!$B$3:$T$118, 10, FALSE) -> 0 | M13: =VLOOKUP($C13, 'All Courses'!$B$3:$T$118, 11, FALSE) -> 0 | N13: =VLOOKUP($C13, 'All Courses'!$B$3:$T$118, 12, FALSE) -> √ | O13: =VLOOKUP($C13, 'All Courses'!$B$3:$T$118, 13, FALSE) -> 0 | P13: =VLOOKUP($C13, 'All Courses'!$B$3:$T$118, 14, FALSE) -> 0 | Q13: =VLOOKUP($C13, 'All Courses'!$B$3:$T$118, 15, FALSE) -> √ | R13: =VLOOKUP($C13, 'All Courses'!$B$3:$T$118, 16, FALSE) -> 0 | S13: =VLOOKUP($C13, 'All Courses'!$B$3:$T$118, 17, FALSE) -> 0 | T13: =VLOOKUP($C13, 'All Courses'!$B$3:$T$118, 18, FALSE) -> 0 | U13: =VLOOKUP($C13, 'All Courses'!$B$3:$T$118, 19, FALSE) -> 0
A14: 8 | B14: Elective | C14: BIS B123 | D14: Business Computing Applications | E14: 1 | F14: 5 | G14: =VLOOKUP($C14, 'All Courses'!$B$3:$T$118, 5, FALSE) -> √ | H14: =VLOOKUP($C14, 'All Courses'!$B$3:$T$118, 6, FALSE) -> √ | I14: =VLOOKUP($C14, 'All Courses'!$B$3:$T$118, 7, FALSE) -> 0 | J14: =VLOOKUP($C14, 'All Courses'!$B$3:$T$118, 8, FALSE) -> √ | K14: =VLOOKUP($C14, 'All Courses'!$B$3:$T$118, 9, FALSE) -> √ | L14: =VLOOKUP($C14, 'All Courses'!$B$3:$T$118, 10, FALSE) -> 0 | M14: =VLOOKUP($C14, 'All Courses'!$B$3:$T$118, 11, FALSE) -> √ | N14: =VLOOKUP($C14, 'All Courses'!$B$3:$T$118, 12, FALSE) -> √ | O14: =VLOOKUP($C14, 'All Courses'!$B$3:$T$118, 13, FALSE) -> 0 | P14: =VLOOKUP($C14, 'All Courses'!$B$3:$T$118, 14, FALSE) -> √ | Q14: =VLOOKUP($C14, 'All Courses'!$B$3:$T$118, 15, FALSE) -> 0 | R14: =VLOOKUP($C14, 'All Courses'!$B$3:$T$118, 16, FALSE) -> 0 | S14: =VLOOKUP($C14, 'All Courses'!$B$3:$T$118, 17, FALSE) -> √ | T14: =VLOOKUP($C14, 'All Courses'!$B$3:$T$118, 18, FALSE) -> 0 | U14: =VLOOKUP($C14, 'All Courses'!$B$3:$T$118, 19, FALSE) -> 0
A15: 9 | B15: Elective | C15: CHIN A171C | D15: =VLOOKUP($C15, 'All Courses'!$B$3:$T$118, 2, FALSE) -> 應用文 | E15: =VLOOKUP($C15, 'All Courses'!$B$3:$T$118, 3, FALSE) -> 1 | F15: =VLOOKUP($C15, 'All Courses'!$B$3:$T$118, 4, FALSE) -> 5 | G15: =VLOOKUP($C15, 'All Courses'!$B$3:$T$118, 5, FALSE) -> √ | H15: =VLOOKUP($C15, 'All Courses'!$B$3:$T$118, 6, FALSE) -> 0 | I15: =VLOOKUP($C15, 'All Courses'!$B$3:$T$118, 7, FALSE) -> 0 | J15: =VLOOKUP($C15, 'All Courses'!$B$3:$T$118, 8, FALSE) -> √ | K15: =VLOOKUP($C15, 'All Courses'!$B$3:$T$118, 9, FALSE) -> 0 | L15: =VLOOKUP($C15, 'All Courses'!$B$3:$T$118, 10, FALSE) -> 0 | M15: =VLOOKUP($C15, 'All Courses'!$B$3:$T$118, 11, FALSE) -> √ | N15: =VLOOKUP($C15, 'All Courses'!$B$3:$T$118, 12, FALSE) -> 0 | O15: =VLOOKUP($C15, 'All Courses'!$B$3:$T$118, 13, FALSE) -> 0 | P15: =VLOOKUP($C15, 'All Courses'!$B$3:$T$118, 14, FALSE) -> √ | Q15: =VLOOKUP($C15, 'All Courses'!$B$3:$T$118, 15, FALSE) -> 0 | R15: =VLOOKUP($C15, 'All Courses'!$B$3:$T$118, 16, FALSE) -> 0 | S15: =VLOOKUP($C15, 'All Courses'!$B$3:$T$118, 17, FALSE) -> √ | T15: =VLOOKUP($C15, 'All Courses'!$B$3:$T$118, 18, FALSE) -> 0 | U15: =VLOOKUP($C15, 'All Courses'!$B$3:$T$118, 19, FALSE) -> 0
A16: 10 | B16: Elective | C16: ENGL A101 | D16: =VLOOKUP($C16, 'All Courses'!$B$3:$T$118, 2, FALSE) -> University English Writing Skills | E16: =VLOOKUP($C16, 'All Courses'!$B$3:$T$118, 3, FALSE) -> 1 | F16: =VLOOKUP($C16, 'All Courses'!$B$3:$T$118, 4, FALSE) -> 5 | G16: =VLOOKUP($C16, 'All Courses'!$B$3:$T$118, 5, FALSE) -> √ | H16: =VLOOKUP($C16, 'All Courses'!$B$3:$T$118, 6, FALSE) -> √ | I16: =VLOOKUP($C16, 'All Courses'!$B$3:$T$118, 7, FALSE) -> 0 | J16: =VLOOKUP($C16, 'All Courses'!$B$3:$T$118, 8, FALSE) -> √ | K16: =VLOOKUP($C16, 'All Courses'!$B$3:$T$118, 9, FALSE) -> √ | L16: =VLOOKUP($C16, 'All Courses'!$B$3:$T$118, 10, FALSE) -> 0 | M16: =VLOOKUP($C16, 'All Courses'!$B$3:$T$118, 11, FALSE) -> √ | N16: =VLOOKUP($C16, 'All Courses'!$B$3:$T$118, 12, FALSE) -> √ | O16: =VLOOKUP($C16, 'All Courses'!$B$3:$T$118, 13, FALSE) -> 0 | P16: =VLOOKUP($C16, 'All Courses'!$B$3:$T$118, 14, FALSE) -> √ | Q16: =VLOOKUP($C16, 'All Courses'!$B$3:$T$118, 15, FALSE) -> √ | R16: =VLOOKUP($C16, 'All Courses'!$B$3:$T$118, 16, FALSE) -> 0 | S16: =VLOOKUP($C16, 'All Courses'!$B$3:$T$118, 17, FALSE) -> √ | T16: =VLOOKUP($C16, 'All Courses'!$B$3:$T$118, 18, FALSE) -> √ | U16: =VLOOKUP($C16, 'All Courses'!$B$3:$T$118, 19, FALSE) -> 0
A17: 11 | B17: Elective | C17: ENGL A122 | D17: =VLOOKUP($C17, 'All Courses'!$B$3:$T$118, 2, FALSE) -> Presentation Skills | E17: =VLOOKUP($C17, 'All Courses'!$B$3:$T$118, 3, FALSE) -> 1 | F17: =VLOOKUP($C17, 'All Courses'!$B$3:$T$118, 4, FALSE) -> 5 | G17: =VLOOKUP($C17, 'All Courses'!$B$3:$T$118, 5, FALSE) -> √ | H17: =VLOOKUP($C17, 'All Courses'!$B$3:$T$118, 6, FALSE) -> √ | I17: =VLOOKUP($C17, 'All Courses'!$B$3:$T$118, 7, FALSE) -> 0 | J17: =VLOOKUP($C17, 'All Courses'!$B$3:$T$118, 8, FALSE) -> √ | K17: =VLOOKUP($C17, 'All Courses'!$B$3:$T$118, 9, FALSE) -> √ | L17: =VLOOKUP($C17, 'All Courses'!$B$3:$T$118, 10, FALSE) -> 0 | M17: =VLOOKUP($C17, 'All Courses'!$B$3:$T$118, 11, FALSE) -> √ | N17: =VLOOKUP($C17, 'All Courses'!$B$3:$T$118, 12, FALSE) -> √ | O17: =VLOOKUP($C17, 'All Courses'!$B$3:$T$118, 13, FALSE) -> 0 | P17: =VLOOKUP($C17, 'All Courses'!$B$3:$T$118, 14, FALSE) -> √ | Q17: =VLOOKUP($C17, 'All Courses'!$B$3:$T$118, 15, FALSE) -> √ | R17: =VLOOKUP($C17, 'All Courses'!$B$3:$T$118, 16, FALSE) -> 0 | S17: =VLOOKUP($C17, 'All Courses'!$B$3:$T$118, 17, FALSE) -> √ | T17: =VLOOKUP($C17, 'All Courses'!$B$3:$T$118, 18, FALSE) -> √ | U17: =VLOOKUP($C17, 'All Courses'!$B$3:$T$118, 19, FALSE) -> 0
A18: 12 | B18: Elective | C18: MGT B160 | D18: Business Management Fundamentals | E18: 1 | F18: 5 | G18: =VLOOKUP($C18, 'All Courses'!$B$3:$T$118, 5, FALSE) -> 0 | H18: =VLOOKUP($C18, 'All Courses'!$B$3:$T$118, 6, FALSE) -> √ | I18: =VLOOKUP($C18, 'All Courses'!$B$3:$T$118, 7, FALSE) -> 0 | J18: =VLOOKUP($C18, 'All Courses'!$B$3:$T$118, 8, FALSE) -> 0 | K18: =VLOOKUP($C18, 'All Courses'!$B$3:$T$118, 9, FALSE) -> √ | L18: =VLOOKUP($C18, 'All Courses'!$B$3:$T$118, 10, FALSE) -> 0 | M18: =VLOOKUP($C18, 'All Courses'!$B$3:$T$118, 11, FALSE) -> 0 | N18: =VLOOKUP($C18, 'All Courses'!$B$3:$T$118, 12, FALSE) -> √ | O18: =VLOOKUP($C18, 'All Courses'!$B$3:$T$118, 13, FALSE) -> 0 | P18: =VLOOKUP($C18, 'All Courses'!$B$3:$T$118, 14, FALSE) -> 0 | Q18: =VLOOKUP($C18, 'All Courses'!$B$3:$T$118, 15, FALSE) -> √ | R18: =VLOOKUP($C18, 'All Courses'!$B$3:$T$118, 16, FALSE) -> 0 | S18: =VLOOKUP($C18, 'All Courses'!$B$3:$T$118, 17, FALSE) -> 0 | T18: =VLOOKUP($C18, 'All Courses'!$B$3:$T$118, 18, FALSE) -> 0 | U18: =VLOOKUP($C18, 'All Courses'!$B$3:$T$118, 19, FALSE) -> 0
A19: 13 | B19: Elective | C19: PTH E150C | D19: 基礎普通話 | E19: 1 | F19: 5 | G19: =VLOOKUP($C19, 'All Courses'!$B$3:$T$118, 5, FALSE) -> √ | H19: =VLOOKUP($C19, 'All Courses'!$B$3:$T$118, 6, FALSE) -> √ | I19: =VLOOKUP($C19, 'All Courses'!$B$3:$T$118, 7, FALSE) -> 0 | J19: =VLOOKUP($C19, 'All Courses'!$B$3:$T$118, 8, FALSE) -> √ | K19: =VLOOKUP($C19, 'All Courses'!$B$3:$T$118, 9, FALSE) -> √ | L19: =VLOOKUP($C19, 'All Courses'!$B$3:$T$118, 10, FALSE) -> 0 | M19: =VLOOKUP($C19, 'All Courses'!$B$3:$T$118, 11, FALSE) -> √ | N19: =VLOOKUP($C19, 'All Courses'!$B$3:$T$118, 12, FALSE) -> √ | O19: =VLOOKUP($C19, 'All Courses'!$B$3:$T$118, 13, FALSE) -> 0 | P19: =VLOOKUP($C19, 'All Courses'!$B$3:$T$118, 14, FALSE) -> √ | Q19: =VLOOKUP($C19, 'All Courses'!$B$3:$T$118, 15, FALSE) -> √ | R19: =VLOOKUP($C19, 'All Courses'!$B$3:$T$118, 16, FALSE) -> 0 | S19: =VLOOKUP($C19, 'All Courses'!$B$3:$T$118, 17, FALSE) -> 0 | T19: =VLOOKUP($C19, 'All Courses'!$B$3:$T$118, 18, FALSE) -> 0 | U19: =VLOOKUP($C19, 'All Courses'!$B$3:$T$118, 19, FALSE) -> 0
A20: 14 | B20: Elective | C20: SOSC A112C | D20: =VLOOKUP($C20, 'All Courses'!$B$3:$T$118, 2, FALSE) -> 社會科學基礎課程：經濟學與政治學 | E20: =VLOOKUP($C20, 'All Courses'!$B$3:$T$118, 3, FALSE) -> 2 | F20: =VLOOKUP($C20, 'All Courses'!$B$3:$T$118, 4, FALSE) -> 10 | G20: =VLOOKUP($C20, 'All Courses'!$B$3:$T$118, 5, FALSE) -> √ | H20: =VLOOKUP($C20, 'All Courses'!$B$3:$T$118, 6, FALSE) -> 0 | I20: =VLOOKUP($C20, 'All Courses'!$B$3:$T$118, 7, FALSE) -> 0 | J20: =VLOOKUP($C20, 'All Courses'!$B$3:$T$118, 8, FALSE) -> √ | K20: =VLOOKUP($C20, 'All Courses'!$B$3:$T$118, 9, FALSE) -> 0 | L20: =VLOOKUP($C20, 'All Courses'!$B$3:$T$118, 10, FALSE) -> 0 | M20: =VLOOKUP($C20, 'All Courses'!$B$3:$T$118, 11, FALSE) -> √ | N20: =VLOOKUP($C20, 'All Courses'!$B$3:$T$118, 12, FALSE) -> 0 | O20: =VLOOKUP($C20, 'All Courses'!$B$3:$T$118, 13, FALSE) -> 0 | P20: =VLOOKUP($C20, 'All Courses'!$B$3:$T$118, 14, FALSE) -> √ | Q20: =VLOOKUP($C20, 'All Courses'!$B$3:$T$118, 15, FALSE) -> 0 | R20: =VLOOKUP($C20, 'All Courses'!$B$3:$T$118, 16, FALSE) -> 0 | S20: =VLOOKUP($C20, 'All Courses'!$B$3:$T$118, 17, FALSE) -> √ | T20: =VLOOKUP($C20, 'All Courses'!$B$3:$T$118, 18, FALSE) -> 0 | U20: =VLOOKUP($C20, 'All Courses'!$B$3:$T$118, 19, FALSE) -> 0
A21: 15 | B21: Elective | C21: SOSC A121C | D21: =VLOOKUP($C21, 'All Courses'!$B$3:$T$118, 2, FALSE) -> 社會科學基礎課程：心理學 | E21: =VLOOKUP($C21, 'All Courses'!$B$3:$T$118, 3, FALSE) -> 1 | F21: =VLOOKUP($C21, 'All Courses'!$B$3:$T$118, 4, FALSE) -> 5 | G21: =VLOOKUP($C21, 'All Courses'!$B$3:$T$118, 5, FALSE) | H21: =VLOOKUP($C21, 'All Courses'!$B$3:$T$118, 6, FALSE) -> √ | I21: =VLOOKUP($C21, 'All Courses'!$B$3:$T$118, 7, FALSE) -> 0 | J21: =VLOOKUP($C21, 'All Courses'!$B$3:$T$118, 8, FALSE) -> 0 | K21: =VLOOKUP($C21, 'All Courses'!$B$3:$T$118, 9, FALSE) -> √ | L21: =VLOOKUP($C21, 'All Courses'!$B$3:$T$118, 10, FALSE) -> 0 | M21: =VLOOKUP($C21, 'All Courses'!$B$3:$T$118, 11, FALSE) -> 0 | N21: =VLOOKUP($C21, 'All Courses'!$B$3:$T$118, 12, FALSE) -> √ | O21: =VLOOKUP($C21, 'All Courses'!$B$3:$T$118, 13, FALSE) -> 0 | P21: =VLOOKUP($C21, 'All Courses'!$B$3:$T$118, 14, FALSE) -> 0 | Q21: =VLOOKUP($C21, 'All Courses'!$B$3:$T$118, 15, FALSE) -> √ | R21: =VLOOKUP($C21, 'All Courses'!$B$3:$T$118, 16, FALSE) -> 0 | S21: =VLOOKUP($C21, 'All Courses'!$B$3:$T$118, 17, FALSE) -> 0 | T21: =VLOOKUP($C21, 'All Courses'!$B$3:$T$118, 18, FALSE) -> √ | U21: =VLOOKUP($C21, 'All Courses'!$B$3:$T$118, 19, FALSE) -> 0
A22: 16 | B22: Elective | C22: SOSC A122C | D22: =VLOOKUP($C22, 'All Courses'!$B$3:$T$118, 2, FALSE) -> 社會科學基礎課程：社會學 | E22: =VLOOKUP($C22, 'All Courses'!$B$3:$T$118, 3, FALSE) -> 1 | F22: =VLOOKUP($C22, 'All Courses'!$B$3:$T$118, 4, FALSE) -> 5 | G22: =VLOOKUP($C22, 'All Courses'!$B$3:$T$118, 5, FALSE) -> √ | H22: =VLOOKUP($C22, 'All Courses'!$B$3:$T$118, 6, FALSE) -> 0 | I22: =VLOOKUP($C22, 'All Courses'!$B$3:$T$118, 7, FALSE) -> 0 | J22: =VLOOKUP($C22, 'All Courses'!$B$3:$T$118, 8, FALSE) -> √ | K22: =VLOOKUP($C22, 'All Courses'!$B$3:$T$118, 9, FALSE) -> 0 | L22: =VLOOKUP($C22, 'All Courses'!$B$3:$T$118, 10, FALSE) -> 0 | M22: =VLOOKUP($C22, 'All Courses'!$B$3:$T$118, 11, FALSE) -> √ | N22: =VLOOKUP($C22, 'All Courses'!$B$3:$T$118, 12, FALSE) -> 0 | O22: =VLOOKUP($C22, 'All Courses'!$B$3:$T$118, 13, FALSE) -> 0 | P22: =VLOOKUP($C22, 'All Courses'!$B$3:$T$118, 14, FALSE) -> √ | Q22: =VLOOKUP($C22, 'All Courses'!$B$3:$T$118, 15, FALSE) -> 0 | R22: =VLOOKUP($C22, 'All Courses'!$B$3:$T$118, 16, FALSE) -> 0 | S22: =VLOOKUP($C22, 'All Courses'!$B$3:$T$118, 17, FALSE) -> √ | T22: =VLOOKUP($C22, 'All Courses'!$B$3:$T$118, 18, FALSE) -> 0 | U22: =VLOOKUP($C22, 'All Courses'!$B$3:$T$118, 19, FALSE) -> 0
A23: 17 | B23: Elective | C23: BUS B273 | D23: Quantitative Analysis for Business | E23: 2 | F23: 10 | G23: =VLOOKUP($C23, 'All Courses'!$B$3:$T$118, 5, FALSE) -> √ | H23: =VLOOKUP($C23, 'All Courses'!$B$3:$T$118, 6, FALSE) -> 0 | I23: =VLOOKUP($C23, 'All Courses'!$B$3:$T$118, 7, FALSE) -> 0 | J23: =VLOOKUP($C23, 'All Courses'!$B$3:$T$118, 8, FALSE) -> √ | K23: =VLOOKUP($C23, 'All Courses'!$B$3:$T$118, 9, FALSE) -> 0 | L23: =VLOOKUP($C23, 'All Courses'!$B$3:$T$118, 10, FALSE) -> 0 | M23: =VLOOKUP($C23, 'All Courses'!$B$3:$T$118, 11, FALSE) -> √ | N23: =VLOOKUP($C23, 'All Courses'!$B$3:$T$118, 12, FALSE) -> 0 | O23: =VLOOKUP($C23, 'All Courses'!$B$3:$T$118, 13, FALSE) -> 0 | P23: =VLOOKUP($C23, 'All Courses'!$B$3:$T$118, 14, FALSE) -> √ | Q23: =VLOOKUP($C23, 'All Courses'!$B$3:$T$118, 15, FALSE) -> 0 | R23: =VLOOKUP($C23, 'All Courses'!$B$3:$T$118, 16, FALSE) -> 0 | S23: =VLOOKUP($C23, 'All Courses'!$B$3:$T$118, 17, FALSE) -> √ | T23: =VLOOKUP($C23, 'All Courses'!$B$3:$T$118, 18, FALSE) -> 0 | U23: =VLOOKUP($C23, 'All Courses'!$B$3:$T$118, 19, FALSE) -> 0
A24: 18 | B24: Elective | C24: ECON A231 | D24: =VLOOKUP($C24, 'All Courses'!$B$3:$T$118, 2, FALSE) -> Introduction to Microeconomics | E24: =VLOOKUP($C24, 'All Courses'!$B$3:$T$118, 3, FALSE) -> 1 | F24: =VLOOKUP($C24, 'All Courses'!$B$3:$T$118, 4, FALSE) -> 5 | G24: =VLOOKUP($C24, 'All Courses'!$B$3:$T$118, 5, FALSE) | H24: =VLOOKUP($C24, 'All Courses'!$B$3:$T$118, 6, FALSE) -> √ | I24: =VLOOKUP($C24, 'All Courses'!$B$3:$T$118, 7, FALSE) -> 0 | J24: =VLOOKUP($C24, 'All Courses'!$B$3:$T$118, 8, FALSE) -> 0 | K24: =VLOOKUP($C24, 'All Courses'!$B$3:$T$118, 9, FALSE) -> √ | L24: =VLOOKUP($C24, 'All Courses'!$B$3:$T$118, 10, FALSE) -> 0 | M24: =VLOOKUP($C24, 'All Courses'!$B$3:$T$118, 11, FALSE) -> 0 | N24: =VLOOKUP($C24, 'All Courses'!$B$3:$T$118, 12, FALSE) -> √ | O24: =VLOOKUP($C24, 'All Courses'!$B$3:$T$118, 13, FALSE) -> 0 | P24: =VLOOKUP($C24, 'All Courses'!$B$3:$T$118, 14, FALSE) -> 0 | Q24: =VLOOKUP($C24, 'All Courses'!$B$3:$T$118, 15, FALSE) -> √ | R24: =VLOOKUP($C24, 'All Courses'!$B$3:$T$118, 16, FALSE) -> 0 | S24: =VLOOKUP($C24, 'All Courses'!$B$3:$T$118, 17, FALSE) -> 0 | T24: =VLOOKUP($C24, 'All Courses'!$B$3:$T$118, 18, FALSE) -> √ | U24: =VLOOKUP($C24, 'All Courses'!$B$3:$T$118, 19, FALSE) -> 0
A25: 19 | B25: Elective | C25: ECON A231C | D25: =VLOOKUP($C25, 'All Courses'!$B$3:$T$118, 2, FALSE) -> 微觀經濟學導論 | E25: =VLOOKUP($C25, 'All Courses'!$B$3:$T$118, 3, FALSE) -> 1 | F25: =VLOOKUP($C25, 'All Courses'!$B$3:$T$118, 4, FALSE) -> 5 | G25: =VLOOKUP($C25, 'All Courses'!$B$3:$T$118, 5, FALSE) -> √ | H25: =VLOOKUP($C25, 'All Courses'!$B$3:$T$118, 6, FALSE) -> 0 | I25: =VLOOKUP($C25, 'All Courses'!$B$3:$T$118, 7, FALSE) -> 0 | J25: =VLOOKUP($C25, 'All Courses'!$B$3:$T$118, 8, FALSE) -> √ | K25: =VLOOKUP($C25, 'All Courses'!$B$3:$T$118, 9, FALSE) -> 0 | L25: =VLOOKUP($C25, 'All Courses'!$B$3:$T$118, 10, FALSE) -> 0 | M25: =VLOOKUP($C25, 'All Courses'!$B$3:$T$118, 11, FALSE) -> √ | N25: =VLOOKUP($C25, 'All Courses'!$B$3:$T$118, 12, FALSE) -> 0 | O25: =VLOOKUP($C25, 'All Courses'!$B$3:$T$118, 13, FALSE) -> 0 | P25: =VLOOKUP($C25, 'All Courses'!$B$3:$T$118, 14, FALSE) -> √ | Q25: =VLOOKUP($C25, 'All Courses'!$B$3:$T$118, 15, FALSE) -> 0 | R25: =VLOOKUP($C25, 'All Courses'!$B$3:$T$118, 16, FALSE) -> 0 | S25: =VLOOKUP($C25, 'All Courses'!$B$3:$T$118, 17, FALSE) -> √ | T25: =VLOOKUP($C25, 'All Courses'!$B$3:$T$118, 18, FALSE) -> 0 | U25: =VLOOKUP($C25, 'All Courses'!$B$3:$T$118, 19, FALSE) -> 0
A26: 20 | B26: Elective | C26: ECON A232 | D26: =VLOOKUP($C26, 'All Courses'!$B$3:$T$118, 2, FALSE) -> Introduction to Macroeconomics | E26: =VLOOKUP($C26, 'All Courses'!$B$3:$T$118, 3, FALSE) -> 1 | F26: =VLOOKUP($C26, 'All Courses'!$B$3:$T$118, 4, FALSE) -> 5 | G26: =VLOOKUP($C26, 'All Courses'!$B$3:$T$118, 5, FALSE) -> √ | H26: =VLOOKUP($C26, 'All Courses'!$B$3:$T$118, 6, FALSE) -> 0 | I26: =VLOOKUP($C26, 'All Courses'!$B$3:$T$118, 7, FALSE) -> 0 | J26: =VLOOKUP($C26, 'All Courses'!$B$3:$T$118, 8, FALSE) -> √ | K26: =VLOOKUP($C26, 'All Courses'!$B$3:$T$118, 9, FALSE) -> 0 | L26: =VLOOKUP($C26, 'All Courses'!$B$3:$T$118, 10, FALSE) -> 0 | M26: =VLOOKUP($C26, 'All Courses'!$B$3:$T$118, 11, FALSE) -> √ | N26: =VLOOKUP($C26, 'All Courses'!$B$3:$T$118, 12, FALSE) -> 0 | O26: =VLOOKUP($C26, 'All Courses'!$B$3:$T$118, 13, FALSE) -> 0 | P26: =VLOOKUP($C26, 'All Courses'!$B$3:$T$118, 14, FALSE) -> √ | Q26: =VLOOKUP($C26, 'All Courses'!$B$3:$T$118, 15, FALSE) -> 0 | R26: =VLOOKUP($C26, 'All Courses'!$B$3:$T$118, 16, FALSE) -> 0 | S26: =VLOOKUP($C26, 'All Courses'!$B$3:$T$118, 17, FALSE) -> √ | T26: =VLOOKUP($C26, 'All Courses'!$B$3:$T$118, 18, FALSE) -> 0 | U26: =VLOOKUP($C26, 'All Courses'!$B$3:$T$118, 19, FALSE) -> 0
A27: 21 | B27: Elective | C27: ECON A232C | D27: =VLOOKUP($C27, 'All Courses'!$B$3:$T$118, 2, FALSE) -> 宏觀經濟學導論 | E27: =VLOOKUP($C27, 'All Courses'!$B$3:$T$118, 3, FALSE) -> 1 | F27: =VLOOKUP($C27, 'All Courses'!$B$3:$T$118, 4, FALSE) -> 5 | G27: =VLOOKUP($C27, 'All Courses'!$B$3:$T$118, 5, FALSE) | H27: =VLOOKUP($C27, 'All Courses'!$B$3:$T$118, 6, FALSE) -> √ | I27: =VLOOKUP($C27, 'All Courses'!$B$3:$T$118, 7, FALSE) -> 0 | J27: =VLOOKUP($C27, 'All Courses'!$B$3:$T$118, 8, FALSE) -> 0 | K27: =VLOOKUP($C27, 'All Courses'!$B$3:$T$118, 9, FALSE) -> √ | L27: =VLOOKUP($C27, 'All Courses'!$B$3:$T$118, 10, FALSE) -> 0 | M27: =VLOOKUP($C27, 'All Courses'!$B$3:$T$118, 11, FALSE) -> 0 | N27: =VLOOKUP($C27, 'All Courses'!$B$3:$T$118, 12, FALSE) -> √ | O27: =VLOOKUP($C27, 'All Courses'!$B$3:$T$118, 13, FALSE) -> 0 | P27: =VLOOKUP($C27, 'All Courses'!$B$3:$T$118, 14, FALSE) -> 0 | Q27: =VLOOKUP($C27, 'All Courses'!$B$3:$T$118, 15, FALSE) -> √ | R27: =VLOOKUP($C27, 'All Courses'!$B$3:$T$118, 16, FALSE) -> 0 | S27: =VLOOKUP($C27, 'All Courses'!$B$3:$T$118, 17, FALSE) -> 0 | T27: =VLOOKUP($C27, 'All Courses'!$B$3:$T$118, 18, FALSE) -> √ | U27: =VLOOKUP($C27, 'All Courses'!$B$3:$T$118, 19, FALSE) -> 0
A28: 22 | B28: Elective | C28: MGT B240 | D28: Principles and Practices of Management | E28: 1 | F28: 5 | G28: =VLOOKUP($C28, 'All Courses'!$B$3:$T$118, 5, FALSE) -> √ | H28: =VLOOKUP($C28, 'All Courses'!$B$3:$T$118, 6, FALSE) -> √ | I28: =VLOOKUP($C28, 'All Courses'!$B$3:$T$118, 7, FALSE) -> 0 | J28: =VLOOKUP($C28, 'All Courses'!$B$3:$T$118, 8, FALSE) -> √ | K28: =VLOOKUP($C28, 'All Courses'!$B$3:$T$118, 9, FALSE) -> √ | L28: =VLOOKUP($C28, 'All Courses'!$B$3:$T$118, 10, FALSE) -> 0 | M28: =VLOOKUP($C28, 'All Courses'!$B$3:$T$118, 11, FALSE) -> √ | N28: =VLOOKUP($C28, 'All Courses'!$B$3:$T$118, 12, FALSE) -> √ | O28: =VLOOKUP($C28, 'All Courses'!$B$3:$T$118, 13, FALSE) -> 0 | P28: =VLOOKUP($C28, 'All Courses'!$B$3:$T$118, 14, FALSE) -> 0 | Q28: =VLOOKUP($C28, 'All Courses'!$B$3:$T$118, 15, FALSE) -> √ | R28: =VLOOKUP($C28, 'All Courses'!$B$3:$T$118, 16, FALSE) -> 0 | S28: =VLOOKUP($C28, 'All Courses'!$B$3:$T$118, 17, FALSE) -> 0 | T28: =VLOOKUP($C28, 'All Courses'!$B$3:$T$118, 18, FALSE) -> √ | U28: =VLOOKUP($C28, 'All Courses'!$B$3:$T$118, 19, FALSE) -> 0
A29: 23 | B29: Elective | C29: POLS A201 | D29: =VLOOKUP($C29, 'All Courses'!$B$3:$T$118, 2, FALSE) -> Introduction to Political Science | E29: =VLOOKUP($C29, 'All Courses'!$B$3:$T$118, 3, FALSE) -> 2 | F29: =VLOOKUP($C29, 'All Courses'!$B$3:$T$118, 4, FALSE) -> 10 | G29: =VLOOKUP($C29, 'All Courses'!$B$3:$T$118, 5, FALSE) -> √ | H29: =VLOOKUP($C29, 'All Courses'!$B$3:$T$118, 6, FALSE) -> 0 | I29: =VLOOKUP($C29, 'All Courses'!$B$3:$T$118, 7, FALSE) -> 0 | J29: =VLOOKUP($C29, 'All Courses'!$B$3:$T$118, 8, FALSE) -> 0 | K29: =VLOOKUP($C29, 'All Courses'!$B$3:$T$118, 9, FALSE) -> √ | L29: =VLOOKUP($C29, 'All Courses'!$B$3:$T$118, 10, FALSE) -> 0 | M29: =VLOOKUP($C29, 'All Courses'!$B$3:$T$118, 11, FALSE) -> 0 | N29: =VLOOKUP($C29, 'All Courses'!$B$3:$T$118, 12, FALSE) -> 0 | O29: =VLOOKUP($C29, 'All Courses'!$B$3:$T$118, 13, FALSE) -> 0 | P29: =VLOOKUP($C29, 'All Courses'!$B$3:$T$118, 14, FALSE) -> √ | Q29: =VLOOKUP($C29, 'All Courses'!$B$3:$T$118, 15, FALSE) -> 0 | R29: =VLOOKUP($C29, 'All Courses'!$B$3:$T$118, 16, FALSE) -> 0 | S29: =VLOOKUP($C29, 'All Courses'!$B$3:$T$118, 17, FALSE) -> 0 | T29: =VLOOKUP($C29, 'All Courses'!$B$3:$T$118, 18, FALSE) -> 0 | U29: =VLOOKUP($C29, 'All Courses'!$B$3:$T$118, 19, FALSE) -> 0
A30: 24 | B30: Elective | C30: POLS A201C | D30: =VLOOKUP($C30, 'All Courses'!$B$3:$T$118, 2, FALSE) -> 政治學導論 | E30: =VLOOKUP($C30, 'All Courses'!$B$3:$T$118, 3, FALSE) -> 2 | F30: =VLOOKUP($C30, 'All Courses'!$B$3:$T$118, 4, FALSE) -> 10 | G30: =VLOOKUP($C30, 'All Courses'!$B$3:$T$118, 5, FALSE) | H30: =VLOOKUP($C30, 'All Courses'!$B$3:$T$118, 6, FALSE) -> √ | I30: =VLOOKUP($C30, 'All Courses'!$B$3:$T$118, 7, FALSE) -> 0 | J30: =VLOOKUP($C30, 'All Courses'!$B$3:$T$118, 8, FALSE) -> 0 | K30: =VLOOKUP($C30, 'All Courses'!$B$3:$T$118, 9, FALSE) -> 0 | L30: =VLOOKUP($C30, 'All Courses'!$B$3:$T$118, 10, FALSE) -> 0 | M30: =VLOOKUP($C30, 'All Courses'!$B$3:$T$118, 11, FALSE) -> √ | N30: =VLOOKUP($C30, 'All Courses'!$B$3:$T$118, 12, FALSE) -> 0 | O30: =VLOOKUP($C30, 'All Courses'!$B$3:$T$118, 13, FALSE) -> 0 | P30: =VLOOKUP($C30, 'All Courses'!$B$3:$T$118, 14, FALSE) -> 0 | Q30: =VLOOKUP($C30, 'All Courses'!$B$3:$T$118, 15, FALSE) -> √ | R30: =VLOOKUP($C30, 'All Courses'!$B$3:$T$118, 16, FALSE) -> 0 | S30: =VLOOKUP($C30, 'All Courses'!$B$3:$T$118, 17, FALSE) -> 0 | T30: =VLOOKUP($C30, 'All Courses'!$B$3:$T$118, 18, FALSE) -> 0 | U30: =VLOOKUP($C30, 'All Courses'!$B$3:$T$118, 19, FALSE) -> 0
A31: 25 | B31: Elective | C31: POLS A211 | D31: =VLOOKUP($C31, 'All Courses'!$B$3:$T$118, 2, FALSE) -> Government and Politics of Hong Kong | E31: =VLOOKUP($C31, 'All Courses'!$B$3:$T$118, 3, FALSE) -> 2 | F31: =VLOOKUP($C31, 'All Courses'!$B$3:$T$118, 4, FALSE) -> 10 | G31: =VLOOKUP($C31, 'All Courses'!$B$3:$T$118, 5, FALSE) | H31: =VLOOKUP($C31, 'All Courses'!$B$3:$T$118, 6, FALSE) -> √ | I31: =VLOOKUP($C31, 'All Courses'!$B$3:$T$118, 7, FALSE) -> 0 | J31: =VLOOKUP($C31, 'All Courses'!$B$3:$T$118, 8, FALSE) -> 0 | K31: =VLOOKUP($C31, 'All Courses'!$B$3:$T$118, 9, FALSE) -> 0 | L31: =VLOOKUP($C31, 'All Courses'!$B$3:$T$118, 10, FALSE) -> 0 | M31: =VLOOKUP($C31, 'All Courses'!$B$3:$T$118, 11, FALSE) -> √ | N31: =VLOOKUP($C31, 'All Courses'!$B$3:$T$118, 12, FALSE) -> 0 | O31: =VLOOKUP($C31, 'All Courses'!$B$3:$T$118, 13, FALSE) -> 0 | P31: =VLOOKUP($C31, 'All Courses'!$B$3:$T$118, 14, FALSE) -> 0 | Q31: =VLOOKUP($C31, 'All Courses'!$B$3:$T$118, 15, FALSE) -> √ | R31: =VLOOKUP($C31, 'All Courses'!$B$3:$T$118, 16, FALSE) -> 0 | S31: =VLOOKUP($C31, 'All Courses'!$B$3:$T$118, 17, FALSE) -> 0 | T31: =VLOOKUP($C31, 'All Courses'!$B$3:$T$118, 18, FALSE) -> 0 | U31: =VLOOKUP($C31, 'All Courses'!$B$3:$T$118, 19, FALSE) -> 0
A32: 26 | B32: Elective | C32: POLS A211C | D32: =VLOOKUP($C32, 'All Courses'!$B$3:$T$118, 2, FALSE) -> 香港政府及政治 | E32: =VLOOKUP($C32, 'All Courses'!$B$3:$T$118, 3, FALSE) -> 2 | F32: =VLOOKUP($C32, 'All Courses'!$B$3:$T$118, 4, FALSE) -> 10 | G32: =VLOOKUP($C32, 'All Courses'!$B$3:$T$118, 5, FALSE) | H32: =VLOOKUP($C32, 'All Courses'!$B$3:$T$118, 6, FALSE) -> 0 | I32: =VLOOKUP($C32, 'All Courses'!$B$3:$T$118, 7, FALSE) -> 0 | J32: =VLOOKUP($C32, 'All Courses'!$B$3:$T$118, 8, FALSE) -> √ | K32: =VLOOKUP($C32, 'All Courses'!$B$3:$T$118, 9, FALSE) -> 0 | L32: =VLOOKUP($C32, 'All Courses'!$B$3:$T$118, 10, FALSE) -> 0 | M32: =VLOOKUP($C32, 'All Courses'!$B$3:$T$118, 11, FALSE) -> 0 | N32: =VLOOKUP($C32, 'All Courses'!$B$3:$T$118, 12, FALSE) -> √ | O32: =VLOOKUP($C32, 'All Courses'!$B$3:$T$118, 13, FALSE) -> 0 | P32: =VLOOKUP($C32, 'All Courses'!$B$3:$T$118, 14, FALSE) -> 0 | Q32: =VLOOKUP($C32, 'All Courses'!$B$3:$T$118, 15, FALSE) -> 0 | R32: =VLOOKUP($C32, 'All Courses'!$B$3:$T$118, 16, FALSE) -> 0 | S32: =VLOOKUP($C32, 'All Courses'!$B$3:$T$118, 17, FALSE) -> √ | T32: =VLOOKUP($C32, 'All Courses'!$B$3:$T$118, 18, FALSE) -> 0 | U32: =VLOOKUP($C32, 'All Courses'!$B$3:$T$118, 19, FALSE) -> 0
A33: 27 | B33: Elective | C33: PUAD A202 | D33: =VLOOKUP($C33, 'All Courses'!$B$3:$T$118, 2, FALSE) -> Introduction to Public Administration | E33: =VLOOKUP($C33, 'All Courses'!$B$3:$T$118, 3, FALSE) -> 1 | F33: =VLOOKUP($C33, 'All Courses'!$B$3:$T$118, 4, FALSE) -> 5 | G33: =VLOOKUP($C33, 'All Courses'!$B$3:$T$118, 5, FALSE) | H33: =VLOOKUP($C33, 'All Courses'!$B$3:$T$118, 6, FALSE) -> √ | I33: =VLOOKUP($C33, 'All Courses'!$B$3:$T$118, 7, FALSE) -> 0 | J33: =VLOOKUP($C33, 'All Courses'!$B$3:$T$118, 8, FALSE) -> 0 | K33: =VLOOKUP($C33, 'All Courses'!$B$3:$T$118, 9, FALSE) -> √ | L33: =VLOOKUP($C33, 'All Courses'!$B$3:$T$118, 10, FALSE) -> 0 | M33: =VLOOKUP($C33, 'All Courses'!$B$3:$T$118, 11, FALSE) -> 0 | N33: =VLOOKUP($C33, 'All Courses'!$B$3:$T$118, 12, FALSE) -> √ | O33: =VLOOKUP($C33, 'All Courses'!$B$3:$T$118, 13, FALSE) -> 0 | P33: =VLOOKUP($C33, 'All Courses'!$B$3:$T$118, 14, FALSE) -> 0 | Q33: =VLOOKUP($C33, 'All Courses'!$B$3:$T$118, 15, FALSE) -> √ | R33: =VLOOKUP($C33, 'All Courses'!$B$3:$T$118, 16, FALSE) -> 0 | S33: =VLOOKUP($C33, 'All Courses'!$B$3:$T$118, 17, FALSE) -> 0 | T33: =VLOOKUP($C33, 'All Courses'!$B$3:$T$118, 18, FALSE) -> √ | U33: =VLOOKUP($C33, 'All Courses'!$B$3:$T$118, 19, FALSE) -> 0
A34: 28 | B34: Elective | C34: PUAD A203 | D34: =VLOOKUP($C34, 'All Courses'!$B$3:$T$118, 2, FALSE) -> Introduction to Public Policy | E34: =VLOOKUP($C34, 'All Courses'!$B$3:$T$118, 3, FALSE) -> 1 | F34: =VLOOKUP($C34, 'All Courses'!$B$3:$T$118, 4, FALSE) -> 5 | G34: =VLOOKUP($C34, 'All Courses'!$B$3:$T$118, 5, FALSE) -> √ | H34: =VLOOKUP($C34, 'All Courses'!$B$3:$T$118, 6, FALSE) -> 0 | I34: =VLOOKUP($C34, 'All Courses'!$B$3:$T$118, 7, FALSE) -> 0 | J34: =VLOOKUP($C34, 'All Courses'!$B$3:$T$118, 8, FALSE) -> √ | K34: =VLOOKUP($C34, 'All Courses'!$B$3:$T$118, 9, FALSE) -> 0 | L34: =VLOOKUP($C34, 'All Courses'!$B$3:$T$118, 10, FALSE) -> 0 | M34: =VLOOKUP($C34, 'All Courses'!$B$3:$T$118, 11, FALSE) -> √ | N34: =VLOOKUP($C34, 'All Courses'!$B$3:$T$118, 12, FALSE) -> 0 | O34: =VLOOKUP($C34, 'All Courses'!$B$3:$T$118, 13, FALSE) -> 0 | P34: =VLOOKUP($C34, 'All Courses'!$B$3:$T$118, 14, FALSE) -> √ | Q34: =VLOOKUP($C34, 'All Courses'!$B$3:$T$118, 15, FALSE) -> 0 | R34: =VLOOKUP($C34, 'All Courses'!$B$3:$T$118, 16, FALSE) -> 0 | S34: =VLOOKUP($C34, 'All Courses'!$B$3:$T$118, 17, FALSE) -> √ | T34: =VLOOKUP($C34, 'All Courses'!$B$3:$T$118, 18, FALSE) -> 0 | U34: =VLOOKUP($C34, 'All Courses'!$B$3:$T$118, 19, FALSE) -> 0
A35: 29 | B35: Elective | C35: SOCI A202 | D35: =VLOOKUP($C35, 'All Courses'!$B$3:$T$118, 2, FALSE) -> Hong Kong Society | E35: =VLOOKUP($C35, 'All Courses'!$B$3:$T$118, 3, FALSE) -> 2 | F35: =VLOOKUP($C35, 'All Courses'!$B$3:$T$118, 4, FALSE) -> 10 | G35: =VLOOKUP($C35, 'All Courses'!$B$3:$T$118, 5, FALSE) | H35: =VLOOKUP($C35, 'All Courses'!$B$3:$T$118, 6, FALSE) -> √ | I35: =VLOOKUP($C35, 'All Courses'!$B$3:$T$118, 7, FALSE) -> 0 | J35: =VLOOKUP($C35, 'All Courses'!$B$3:$T$118, 8, FALSE) -> 0 | K35: =VLOOKUP($C35, 'All Courses'!$B$3:$T$118, 9, FALSE) -> 0 | L35: =VLOOKUP($C35, 'All Courses'!$B$3:$T$118, 10, FALSE) -> 0 | M35: =VLOOKUP($C35, 'All Courses'!$B$3:$T$118, 11, FALSE) -> 0 | N35: =VLOOKUP($C35, 'All Courses'!$B$3:$T$118, 12, FALSE) -> √ | O35: =VLOOKUP($C35, 'All Courses'!$B$3:$T$118, 13, FALSE) -> 0 | P35: =VLOOKUP($C35, 'All Courses'!$B$3:$T$118, 14, FALSE) -> 0 | Q35: =VLOOKUP($C35, 'All Courses'!$B$3:$T$118, 15, FALSE) -> 0 | R35: =VLOOKUP($C35, 'All Courses'!$B$3:$T$118, 16, FALSE) -> 0 | S35: =VLOOKUP($C35, 'All Courses'!$B$3:$T$118, 17, FALSE) -> 0 | T35: =VLOOKUP($C35, 'All Courses'!$B$3:$T$118, 18, FALSE) -> 0 | U35: =VLOOKUP($C35, 'All Courses'!$B$3:$T$118, 19, FALSE) -> 0
A36: 30 | B36: Elective | C36: SOCI A202C | D36: =VLOOKUP($C36, 'All Courses'!$B$3:$T$118, 2, FALSE) -> 香港社會 | E36: =VLOOKUP($C36, 'All Courses'!$B$3:$T$118, 3, FALSE) -> 2 | F36: =VLOOKUP($C36, 'All Courses'!$B$3:$T$118, 4, FALSE) -> 10 | G36: =VLOOKUP($C36, 'All Courses'!$B$3:$T$118, 5, FALSE) | H36: =VLOOKUP($C36, 'All Courses'!$B$3:$T$118, 6, FALSE) -> 0 | I36: =VLOOKUP($C36, 'All Courses'!$B$3:$T$118, 7, FALSE) -> 0 | J36: =VLOOKUP($C36, 'All Courses'!$B$3:$T$118, 8, FALSE) -> 0 | K36: =VLOOKUP($C36, 'All Courses'!$B$3:$T$118, 9, FALSE) -> √ | L36: =VLOOKUP($C36, 'All Courses'!$B$3:$T$118, 10, FALSE) -> 0 | M36: =VLOOKUP($C36, 'All Courses'!$B$3:$T$118, 11, FALSE) -> 0 | N36: =VLOOKUP($C36, 'All Courses'!$B$3:$T$118, 12, FALSE) -> 0 | O36: =VLOOKUP($C36, 'All Courses'!$B$3:$T$118, 13, FALSE) -> 0 | P36: =VLOOKUP($C36, 'All Courses'!$B$3:$T$118, 14, FALSE) -> 0 | Q36: =VLOOKUP($C36, 'All Courses'!$B$3:$T$118, 15, FALSE) -> √ | R36: =VLOOKUP($C36, 'All Courses'!$B$3:$T$118, 16, FALSE) -> 0 | S36: =VLOOKUP($C36, 'All Courses'!$B$3:$T$118, 17, FALSE) -> 0 | T36: =VLOOKUP($C36, 'All Courses'!$B$3:$T$118, 18, FALSE) -> 0 | U36: =VLOOKUP($C36, 'All Courses'!$B$3:$T$118, 19, FALSE) -> 0
A37: 31 | B37: Elective | C37: PUAD A301 | D37: Public Sector Management in Hong Kong | E37: 2 | F37: 10 | G37: =VLOOKUP($C37, 'All Courses'!$B$3:$T$118, 5, FALSE) -> √ | H37: =VLOOKUP($C37, 'All Courses'!$B$3:$T$118, 6, FALSE) -> 0 | I37: =VLOOKUP($C37, 'All Courses'!$B$3:$T$118, 7, FALSE) -> 0 | J37: =VLOOKUP($C37, 'All Courses'!$B$3:$T$118, 8, FALSE) -> √ | K37: =VLOOKUP($C37, 'All Courses'!$B$3:$T$118, 9, FALSE) -> 0 | L37: =VLOOKUP($C37, 'All Courses'!$B$3:$T$118, 10, FALSE) -> 0 | M37: =VLOOKUP($C37, 'All Courses'!$B$3:$T$118, 11, FALSE) -> √ | N37: =VLOOKUP($C37, 'All Courses'!$B$3:$T$118, 12, FALSE) -> 0 | O37: =VLOOKUP($C37, 'All Courses'!$B$3:$T$118, 13, FALSE) -> 0 | P37: =VLOOKUP($C37, 'All Courses'!$B$3:$T$118, 14, FALSE) -> √ | Q37: =VLOOKUP($C37, 'All Courses'!$B$3:$T$118, 15, FALSE) -> 0 | R37: =VLOOKUP($C37, 'All Courses'!$B$3:$T$118, 16, FALSE) -> 0 | S37: =VLOOKUP($C37, 'All Courses'!$B$3:$T$118, 17, FALSE) -> √ | T37: =VLOOKUP($C37, 'All Courses'!$B$3:$T$118, 18, FALSE) -> 0 | U37: =VLOOKUP($C37, 'All Courses'!$B$3:$T$118, 19, FALSE) -> 0
A38: 32 | B38: Elective | C38: MGT B440 | D38: Strategic Management of Human Resources | E38: 2 | F38: 10 | G38: =VLOOKUP($C38, 'All Courses'!$B$3:$T$118, 5, FALSE) -> √ | H38: =VLOOKUP($C38, 'All Courses'!$B$3:$T$118, 6, FALSE) -> 0 | I38: =VLOOKUP($C38, 'All Courses'!$B$3:$T$118, 7, FALSE) -> 0 | J38: =VLOOKUP($C38, 'All Courses'!$B$3:$T$118, 8, FALSE) -> √ | K38: =VLOOKUP($C38, 'All Courses'!$B$3:$T$118, 9, FALSE) -> 0 | L38: =VLOOKUP($C38, 'All Courses'!$B$3:$T$118, 10, FALSE) -> 0 | M38: =VLOOKUP($C38, 'All Courses'!$B$3:$T$118, 11, FALSE) -> √ | N38: =VLOOKUP($C38, 'All Courses'!$B$3:$T$118, 12, FALSE) -> 0 | O38: =VLOOKUP($C38, 'All Courses'!$B$3:$T$118, 13, FALSE) -> 0 | P38: =VLOOKUP($C38, 'All Courses'!$B$3:$T$118, 14, FALSE) -> √ | Q38: =VLOOKUP($C38, 'All Courses'!$B$3:$T$118, 15, FALSE) -> 0 | R38: =VLOOKUP($C38, 'All Courses'!$B$3:$T$118, 16, FALSE) -> 0 | S38: =VLOOKUP($C38, 'All Courses'!$B$3:$T$118, 17, FALSE) -> √ | T38: =VLOOKUP($C38, 'All Courses'!$B$3:$T$118, 18, FALSE) -> 0 | U38: =VLOOKUP($C38, 'All Courses'!$B$3:$T$118, 19, FALSE) -> 0
A39: 33
A40: 34
B41: Note:
B42: ✓: Course planned for presentation in this term

Sheet 學業規劃表
B1: Study Plan for Programme: Bachelor of Social Sciences in Law Enforcement and Security Management (Pathway 2)(BSSCLESM2)
B2: This programme is suitable for HKCC (with CLECMCF) and HKPC (with CLESMCF) graduates
B3: Graduates pursuing this programme must successfully complete at least 120 credits, including the 30 credits completed for the CLESMCF awarded by the OUHK under the partnership between the OUHK and the Hong Kong Police Force, or the CLECMCF awarded by OUHK under the partnership between OUHK and the Customs and Excise Department and the other 90 credits as follows. Of these 90 credits, not more than 10 credits can be obtained from courses in Chinese.
B4: Programme Regulations (https://www.hkmu.edu.hk/as/programmes-courses/distance-learning/bssclesm2/)
B5: Enter Completion/ Planned Enrolment Term below | C5: Recommended Year of study | D5: Offer Term | E5: Course Code | F5: Course Title | G5: Length in term(s) | H5: Credit | I5: Course Passed? | J5: Remarks | L5: Note: Columns with blue filled are to be completed by student
B6: Complete 20 credits of Complusory courses below
A7: 1 | C7: Year 1/2 | E7: LESM A201 | F7: =VLOOKUP($E7, 'All Courses'!$B$3:$E$118, 2, FALSE) -> Hong Kong Criminal Justice System | G7: =VLOOKUP($E7, 'All Courses'!$B$3:$E$118, 3, FALSE) -> 2 | H7: =VLOOKUP($E7, 'All Courses'!$B$3:$E$118, 4, FALSE) -> 10
A8: 2 | C8: Year 1/2 | E8: LESM A204 | F8: =VLOOKUP($E8, 'All Courses'!$B$3:$E$118, 2, FALSE) -> Security Practice and Management | G8: =VLOOKUP($E8, 'All Courses'!$B$3:$E$118, 3, FALSE) -> 2 | H8: =VLOOKUP($E8, 'All Courses'!$B$3:$E$118, 4, FALSE) -> 10
B9: Complete 20 credits from Foundation level courses below
A10: 3 | C10: Year 1 | E10: BIS B123 | F10: Business Computing Applications | G10: 1 | H10: 5
A11: 4 | C11: Year 1 | E11: CHIN A171C | F11: =VLOOKUP($E11, 'All Courses'!$B$3:$E$118, 2, FALSE) -> 應用文 | G11: =VLOOKUP($E11, 'All Courses'!$B$3:$E$118, 3, FALSE) -> 1 | H11: =VLOOKUP($E11, 'All Courses'!$B$3:$E$118, 4, FALSE) -> 5
A12: 5 | C12: Year 1 | E12: ENGL A101 | F12: =VLOOKUP($E12, 'All Courses'!$B$3:$E$118, 2, FALSE) -> University English Writing Skills | G12: =VLOOKUP($E12, 'All Courses'!$B$3:$E$118, 3, FALSE) -> 1 | H12: =VLOOKUP($E12, 'All Courses'!$B$3:$E$118, 4, FALSE) -> 5
A13: 6 | C13: Year 1 | E13: ENGL A122 | F13: =VLOOKUP($E13, 'All Courses'!$B$3:$E$118, 2, FALSE) -> Presentation Skills | G13: =VLOOKUP($E13, 'All Courses'!$B$3:$E$118, 3, FALSE) -> 1 | H13: =VLOOKUP($E13, 'All Courses'!$B$3:$E$118, 4, FALSE) -> 5
A14: 7 | C14: Year 1 | E14: MGT B160 | F14: Business Management Fundamentals | G14: 1 | H14: 5
A15: 8 | C15: Year 1 | E15: PTH E150C | F15: 基礎普通話 | G15: 1 | H15: 5
A16: 9 | C16: Year 1 | E16: SOSC A101 | F16: Social Sciences: A Foundation Course | G16: 2 | H16: 10 | J16: SOSC A101 forms an excluded combinations with SOSC A112C, SOSC A121C and SOSC A122C.
A17: 10 | C17: Year 1 | E17: SOSC A112C | F17: =VLOOKUP($E17, 'All Courses'!$B$3:$E$118, 2, FALSE) -> 社會科學基礎課程：經濟學與政治學 | G17: =VLOOKUP($E17, 'All Courses'!$B$3:$E$118, 3, FALSE) -> 2 | H17: =VLOOKUP($E17, 'All Courses'!$B$3:$E$118, 4, FALSE) -> 10
A18: 11 | C18: Year 1 | E18: SOSC A121C | F18: =VLOOKUP($E18, 'All Courses'!$B$3:$E$118, 2, FALSE) -> 社會科學基礎課程：心理學 | G18: =VLOOKUP($E18, 'All Courses'!$B$3:$E$118, 3, FALSE) -> 1 | H18: =VLOOKUP($E18, 'All Courses'!$B$3:$E$118, 4, FALSE) -> 5
A19: 12 | C19: Year 1 | E19: SOSC A122C | F19: =VLOOKUP($E19, 'All Courses'!$B$3:$E$118, 2, FALSE) -> 社會科學基礎課程：社會學 | G19: =VLOOKUP($E19, 'All Courses'!$B$3:$E$118, 3, FALSE) -> 1 | H19: =VLOOKUP($E19, 'All Courses'!$B$3:$E$118, 4, FALSE) -> 5
B20: Complete 20 credits from Middle level courses below
A21: 13 | C21: Year 1/2 | E21: BUS B237 | F21: Quantitative Analysis for Business | G21: 2 | H21: 10
A22: 14 | C22: Year 1/2 | E22: ECON A231 | F22: =VLOOKUP($E22, 'All Courses'!$B$3:$E$118, 2, FALSE) -> Introduction to Microeconomics | G22: =VLOOKUP($E22, 'All Courses'!$B$3:$E$118, 3, FALSE) -> 1 | H22: =VLOOKUP($E22, 'All Courses'!$B$3:$E$118, 4, FALSE) -> 5 | J22: Student can choose either ECON A231 or ECON A231C.
A23: 15 | C23: Year 1/2 | E23: ECON A231C | F23: =VLOOKUP($E23, 'All Courses'!$B$3:$E$118, 2, FALSE) -> 微觀經濟學導論 | G23: =VLOOKUP($E23, 'All Courses'!$B$3:$E$118, 3, FALSE) -> 1 | H23: =VLOOKUP($E23, 'All Courses'!$B$3:$E$118, 4, FALSE) -> 5
A24: 16 | C24: Year 1/2 | E24: ECON A232 | F24: =VLOOKUP($E24, 'All Courses'!$B$3:$E$118, 2, FALSE) -> Introduction to Macroeconomics | G24: =VLOOKUP($E24, 'All Courses'!$B$3:$E$118, 3, FALSE) -> 1 | H24: =VLOOKUP($E24, 'All Courses'!$B$3:$E$118, 4, FALSE) -> 5 | J24: Student can choose either ECON A232 or ECON A232C.
A25: 17 | C25: Year 1/2 | E25: ECON A232C | F25: =VLOOKUP($E25, 'All Courses'!$B$3:$E$118, 2, FALSE) -> 宏觀經濟學導論 | G25: =VLOOKUP($E25, 'All Courses'!$B$3:$E$118, 3, FALSE) -> 1 | H25: =VLOOKUP($E25, 'All Courses'!$B$3:$E$118, 4, FALSE) -> 5
A26: 18 | C26: Year 1/2 | E26: MGT B240 | F26: Principles and Practices of Management | G26: 1 | H26: 5
A27: 19 | C27: Year 1/2 | E27: POLS A201 | F27: =VLOOKUP($E27, 'All Courses'!$B$3:$E$118, 2, FALSE) -> Introduction to Political Science | G27: =VLOOKUP($E27, 'All Courses'!$B$3:$E$118, 3, FALSE) -> 2 | H27: =VLOOKUP($E27, 'All Courses'!$B$3:$E$118, 4, FALSE) -> 10 | J27: Student can choose either POLS A201 or POLS A201C
A28: 20 | C28: Year 1/2 | E28: POLS A201C | F28: =VLOOKUP($E28, 'All Courses'!$B$3:$E$118, 2, FALSE) -> 政治學導論 | G28: =VLOOKUP($E28, 'All Courses'!$B$3:$E$118, 3, FALSE) -> 2 | H28: =VLOOKUP($E28, 'All Courses'!$B$3:$E$118, 4, FALSE) -> 10
A29: 21 | C29: Year 1/2 | E29: POLS A211 | F29: =VLOOKUP($E29, 'All Courses'!$B$3:$E$118, 2, FALSE) -> Government and Politics of Hong Kong | G29: =VLOOKUP($E29, 'All Courses'!$B$3:$E$118, 3, FALSE) -> 2 | H29: =VLOOKUP($E29, 'All Courses'!$B$3:$E$118, 4, FALSE) -> 10 | J29: Stdent can chse either POLS A211 or POLS A211C.
A30: 22 | C30: Year 1/2 | E30: POLS A211C | F30: =VLOOKUP($E30, 'All Courses'!$B$3:$E$118, 2, FALSE) -> 香港政府及政治 | G30: =VLOOKUP($E30, 'All Courses'!$B$3:$E$118, 3, FALSE) -> 2 | H30: =VLOOKUP($E30, 'All Courses'!$B$3:$E$118, 4, FALSE) -> 10
A31: 23 | C31: Year 1/2 | E31: PUAD A202 | F31: =VLOOKUP($E31, 'All Courses'!$B$3:$E$118, 2, FALSE) -> Introduction to Public Administration | G31: =VLOOKUP($E31, 'All Courses'!$B$3:$E$118, 3, FALSE) -> 1 | H31: =VLOOKUP($E31, 'All Courses'!$B$3:$E$118, 4, FALSE) -> 5 | J31: Students who have taken PUAD A201 are deemed to have completed PUAD A202 and PUAD A203.
C32: Year 1/2 | E32: PUAD A203 | F32: Introduction to Public Policy | G32: 1 | H32: 5 | J32: Students who have taken PUAD A201 are deemed to have completed PUAD A202 and PUAD A203.
C33: Year 1/2 | E33: SOCI A202 | F33: Hong Kong Society | G33: 2 | H33: 10 | J33: Student can choose either SOCI A202 or SOCI A202C.
C34: Year 1/2 | E34: SOCI A202C | F34: 香港社會 | G34: 2 | H34: 10
B35: 20 credits from the Higher level courses below
A36: 24 | C36: Year 2/3 | E36: LESM A301 | F36: =VLOOKUP($E36, '[1]All Courses'!$B$3:$E$112, 2, FALSE) -> Core Issues in Policing | G36: =VLOOKUP($E36, '[1]All Courses'!$B$3:$E$112, 3, FALSE) -> 2 | H36: =VLOOKUP($E36, '[1]All Courses'!$B$3:$E$112, 4, FALSE) -> 10 | J36: Student must take either LESM A301 or LESM A305, or both.
A37: 25 | C37: Year 2/3 | E37: LESM A305 | F37: =VLOOKUP($E37, '[1]All Courses'!$B$3:$E$112, 2, FALSE) -> Major Issues in Criminology and Penology | G37: =VLOOKUP($E37, '[1]All Courses'!$B$3:$E$112, 3, FALSE) -> 2 | H37: =VLOOKUP($E37, '[1]All Courses'!$B$3:$E$112, 4, FALSE) -> 10
A38: 26 | C38: Year 2/3 | E38: LESM A302 | F38: =VLOOKUP($E38, '[1]All Courses'!$B$3:$E$112, 2, FALSE) -> Public Order Management | G38: =VLOOKUP($E38, '[1]All Courses'!$B$3:$E$112, 3, FALSE) -> 1 | H38: =VLOOKUP($E38, '[1]All Courses'!$B$3:$E$112, 4, FALSE) -> 5 | J38: Student who takes LESM A302 must also take LESM A303 to make up the requirred credits.
A39: 27 | C39: Year 2/3 | E39: LESM A303 | F39: =VLOOKUP($E39, '[1]All Courses'!$B$3:$E$112, 2, FALSE) -> Law Enforcement and Policing in Chinese Societies | G39: =VLOOKUP($E39, '[1]All Courses'!$B$3:$E$112, 3, FALSE) -> 1 | H39: =VLOOKUP($E39, '[1]All Courses'!$B$3:$E$112, 4, FALSE) -> 5
A40: 28 | C40: Year 2/3 | E40: LESM A304 | F40: =VLOOKUP($E40, '[1]All Courses'!$B$3:$E$112, 2, FALSE) -> Research Methods in Law Enforcement and Security Studies | G40: =VLOOKUP($E40, '[1]All Courses'!$B$3:$E$112, 3, FALSE) -> 2 | H40: =VLOOKUP($E40, '[1]All Courses'!$B$3:$E$112, 4, FALSE) -> 10
A41: 29 | C41: Year 2/3 | E41: PAUD A301 | F41: Public Sector Management in Hong Kong | G41: 2 | H41: 10
A42: 30 | C42: Year 3 and up | E42: MGT B440 | F42: Strategic Management of Human Resources | G42: 2 | H42: 10
B43: Complete 10 credits of free choice credits
A44: 32 | F44: Free choice courses can be any foundation, middle or higher level courses offered by the University.
A45: 33 | J45: The courses LESM A205CF and LESM A206CF taken at the HKPC, or the course LESM A208CF and LESM A209CF taken at the HKCC, are overlapping with the courses LESM A202 and LESM 203. Hence, students will not be allowed to take LESM A202 or LESM A203.
A46: 34
A47: 35
B48: * denotes courses not offer every year | G48: Total Credits Required for the Programme | H48: 90
B50: Check list of other requirements (tick in the box as appropriate)
B51: Foundation level <= 40 credits
B52: Course in Chinese <= 10 credits | D52: ü

Sheet All Courses
A1: Offering schedule of 5-credit DL Courses in A&SS
B2: Course code | C2: Course Title | D2: Length (terms) | E2: Credits | F2: Aut 22 | G2: Spr 23 | H2: Sum 23 | I2: Aut 23 | J2: Spr 24 | K2: Sum 24 | L2: Aut 24 | M2: Spr 25 | N2: Sum 25 | O2: Aut 25 | P2: Spr 26 | Q2: Sum 26 | R2: Aut 26 | S2: Spr 27 | T2: Sum 27
A3: 1 | B3: CHIN A162C | C3: =VLOOKUP(B3, '[2]Summary (from 2018 Autumn)'!$E$5:$F$136, 2, FALSE) -> 中國人文學科基礎課程（一）：歷史與文學 | D3: 2 | E3: 10 | G3: √ | J3: √ | M3: √ | P3: √
A4: 2 | B4: CHIN A163C | C4: =VLOOKUP(B4, '[2]Summary (from 2018 Autumn)'!$E$5:$F$136, 2, FALSE) -> 中國人文學科基礎課程（二）：思想與信仰 | D4: 2 | E4: 10 | F4: √ | I4: √ | L4: √ | O4: √ | R4: √
A5: 3 | B5: CHIN A171C | C5: =VLOOKUP(B5, '[2]Summary (from 2018 Autumn)'!$E$5:$F$136, 2, FALSE) -> 應用文 | D5: 1 | E5: 5 | F5: √ | I5: √ | L5: √ | O5: √ | R5: √
A6: 4 | B6: CHIN A172C | C6: =VLOOKUP(B6, '[2]Summary (from 2018 Autumn)'!$E$5:$F$136, 2, FALSE) -> 語文通論 | D6: 1 | E6: 5 | F6: √ | I6: √ | L6: √ | O6: √ | R6: √
A7: 5 | B7: CHIN A202C | C7: =VLOOKUP(B7, '[2]Summary (from 2018 Autumn)'!$E$5:$F$136, 2, FALSE) -> 當代中國文化 | D7: 2 | E7: 10 | F7: √ | I7: √ | L7: √ | O7: √ | R7: √
A8: 6 | B8: CHIN A213C | C8: =VLOOKUP(B8, '[2]Summary (from 2018 Autumn)'!$E$5:$F$136, 2, FALSE) -> 香港歷史（1842-1997） | D8: 2 | E8: 10 | G8: √ | L8: √ | P8: √
A9: 7 | B9: CHIN A240C | C9: =VLOOKUP(B9, '[2]Summary (from 2018 Autumn)'!$E$5:$F$136, 2, FALSE) -> 中文傳意：理論與實踐 | D9: 2 | E9: 10 | G9: √ | J9: √ | M9: √ | P9: √
A10: 8 | B10: CHIN A264C | C10: =VLOOKUP(B10, '[2]Summary (from 2018 Autumn)'!$E$5:$F$136, 2, FALSE) -> 歷代散文 | D10: 2 | E10: 10 | F10: √ | I10: √ | L10: √ | O10: √ | R10: √
A11: 9 | B11: CHIN A265C | C11: =VLOOKUP(B11, '[2]Summary (from 2018 Autumn)'!$E$5:$F$136, 2, FALSE) -> 中國現代修辭學 | D11: 2 | E11: 10 | G11: √ | J11: √ | M11: √ | P11: √
A12: 10 | B12: CHIN A270C | C12: =VLOOKUP(B12, '[2]Summary (from 2018 Autumn)'!$E$5:$F$136, 2, FALSE) -> 中國文學與文化導論 | D12: 2 | E12: 10 | F12: √ | I12: √ | L12: √ | O12: √ | R12: √
A13: 11 | B13: CHIN A272C | C13: =VLOOKUP(B13, '[2]Summary (from 2018 Autumn)'!$E$5:$F$136, 2, FALSE) -> 中國現代語法 | D13: 2 | E13: 10 | G13: √ | J13: √ | M13: √ | P13: √
A14: 12 | B14: CHIN A273C | C14: =VLOOKUP(B14, '[2]Summary (from 2018 Autumn)'!$E$5:$F$136, 2, FALSE) -> 詩詞選 | D14: 2 | E14: 10 | F14: √ | I14: √ | L14: √ | O14: √ | R14: √
A15: 13 | B15: CHIN A274C | C15: =VLOOKUP(B15, '[2]Summary (from 2018 Autumn)'!$E$5:$F$136, 2, FALSE) -> 現代文學 | D15: 2 | E15: 10 | I15: √ | M15: √ | R15: √
A16: 14 | B16: CHIN A281C | C16: =VLOOKUP(B16, '[2]Summary (from 2018 Autumn)'!$E$5:$F$136, 2, FALSE) -> 中國中古史 | D16: 2 | E16: 10 | F16: √ | I16: √ | L16: √ | O16: √ | R16: √
A17: 15 | B17: CHIN A282C | C17: =VLOOKUP(B17, '[2]Summary (from 2018 Autumn)'!$E$5:$F$136, 2, FALSE) -> 中國近世史 | D17: 2 | E17: 10 | F17: √ | J17: √ | O17: √
A18: 16 | B18: CHIN A291C | C18: =VLOOKUP(B18, '[2]Summary (from 2018 Autumn)'!$E$5:$F$136, 2, FALSE) -> 邏輯與方法論 | D18: 2 | E18: 10 | I18: √ | R18: √
A19: 17 | B19: CHIN A293C | C19: =VLOOKUP(B19, '[2]Summary (from 2018 Autumn)'!$E$5:$F$136, 2, FALSE) -> 中國古代哲學思想 | D19: 2 | E19: 10 | G19: √ | L19: √ | P19: √
A20: 18 | B20: CHIN A350C | C20: =VLOOKUP(B20, '[2]Summary (from 2018 Autumn)'!$E$5:$F$136, 2, FALSE) -> 多媒體寫作及互聯網在研究上的應用 | D20: 2 | E20: 10 | G20: √ | J20: √ | M20: √ | P20: √
A21: 19 | B21: CHIN A360C | C21: =VLOOKUP(B21, '[2]Summary (from 2018 Autumn)'!$E$5:$F$136, 2, FALSE) -> 新聞、編輯及廣告 | D21: 2 | E21: 10 | F21: √ | I21: √ | L21: √ | O21: √ | R21: √
A22: 20 | B22: CHIN A361C | C22: =VLOOKUP(B22, '[2]Summary (from 2018 Autumn)'!$E$5:$F$136, 2, FALSE) -> 中國人文學科研究方法及文獻目錄學 | D22: 2 | E22: 10 | F22: √ | I22: √ | L22: √ | O22: √ | R22: √
A23: 21 | B23: CHIN A362C | C23: =VLOOKUP(B23, '[2]Summary (from 2018 Autumn)'!$E$5:$F$136, 2, FALSE) -> 中國當代文學 | D23: 2 | E23: 10 | G23: √ | J23: √ | M23: √ | P23: √
A24: 22 | B24: CHIN A366C | C24: =VLOOKUP(B24, '[2]Summary (from 2018 Autumn)'!$E$5:$F$136, 2, FALSE) -> 中國現當代散文選讀及創作 | D24: 2 | E24: 10 | G24: √ | J24: √ | M24: √ | P24: √
A25: 23 | B25: CHIN A371C | C25: =VLOOKUP(B25, '[2]Summary (from 2018 Autumn)'!$E$5:$F$136, 2, FALSE) -> 中國古典小說 | D25: 2 | E25: 10 | G25: √ | J25: √ | M25: √ | P25: √
A26: 24 | B26: CHIN A372C | C26: =VLOOKUP(B26, '[2]Summary (from 2018 Autumn)'!$E$5:$F$136, 2, FALSE) -> 中國文學批評 | D26: 2 | E26: 10 | G26: √ | M26: √
A27: 25 | B27: CHIN A373B | C27: =VLOOKUP(B27, '[2]Summary (from 2018 Autumn)'!$E$5:$F$136, 2, FALSE) -> 中西比較文學 | D27: 2 | E27: 10 | G27: √ | J27: √ | M27: √ | P27: √
A28: 26 | B28: CHIN A381C | C28: =VLOOKUP(B28, '[2]Summary (from 2018 Autumn)'!$E$5:$F$136, 2, FALSE) -> 史學方法 | D28: 2 | E28: 10 | J28: √ | P28: √
A29: 27 | B29: CHIN A383C | C29: =VLOOKUP(B29, '[2]Summary (from 2018 Autumn)'!$E$5:$F$136, 2, FALSE) -> 中國近代史（1840-1949） | D29: 2 | E29: 10 | F29: √ | L29: √ | R29: √
A30: 28 | B30: CHIN A384C | C30: =VLOOKUP(B30, '[2]Summary (from 2018 Autumn)'!$E$5:$F$136, 2, FALSE) -> 宋元明清社會經濟史 | D30: 2 | E30: 10 | G30: √ | L30: √ | P30: √
A31: 29 | B31: CHIN A391C | C31: =VLOOKUP(B31, '[2]Summary (from 2018 Autumn)'!$E$5:$F$136, 2, FALSE) -> 中國宋元明哲學 | D31: 2 | E31: 10 | I31: √ | O31: √
A32: 30 | B32: CHIN A392C | C32: =VLOOKUP(B32, '[2]Summary (from 2018 Autumn)'!$E$5:$F$136, 2, FALSE) -> 明末以來中國思想史 | D32: 2 | E32: 10 | I32: √ | M32: √ | R32: √
A33: 31 | B33: CHST A303C | C33: =VLOOKUP(B33, '[2]Summary (from 2018 Autumn)'!$E$5:$F$136, 2, FALSE) -> 中國對外貿易與投資 | D33: 2 | E33: 10 | I33: √ | M33: √ | R33: √
A34: 32 | B34: CHST A304C | C34: =VLOOKUP(B34, '[2]Summary (from 2018 Autumn)'!$E$5:$F$136, 2, FALSE) -> 中國當代史 | D34: 2 | E34: 10 | G34: √ | L34: √ | P34: √
A35: 33 | B35: ECON A202C | C35: =VLOOKUP(B35, '[2]Summary (from 2018 Autumn)'!$E$5:$F$136, 2, FALSE) -> 當代中國經濟發展 | D35: 2 | E35: 10 | G35: √ | L35: √ | P35: √
A36: 34 | B36: ECON A203 | C36: =VLOOKUP(B36, '[2]Summary (from 2018 Autumn)'!$E$5:$F$136, 2, FALSE) -> Hong Kong Economy | D36: 2 | E36: 10 | F36: √ | I36: √ | L36: √ | O36: √ | R36: √
A37: 35 | B37: ECON A231 | C37: =VLOOKUP(B37, '[2]Summary (from 2018 Autumn)'!$E$5:$F$136, 2, FALSE) -> Introduction to Microeconomics | D37: 1 | E37: 5 | G37: √ | J37: √ | M37: √ | P37: √ | S37: √
A38: 36 | B38: ECON A231C | C38: =VLOOKUP(B38, '[2]Summary (from 2018 Autumn)'!$E$5:$F$136, 2, FALSE) -> 微觀經濟學導論 | D38: 1 | E38: 5 | F38: √ | I38: √ | L38: √ | O38: √ | R38: √
A39: 37 | B39: ECON A232 | C39: =VLOOKUP(B39, '[2]Summary (from 2018 Autumn)'!$E$5:$F$136, 2, FALSE) -> Introduction to Macroeconomics | D39: 1 | E39: 5 | F39: √ | I39: √ | L39: √ | O39: √ | R39: √
A40: 38 | B40: ECON A232C | C40: =VLOOKUP(B40, '[2]Summary (from 2018 Autumn)'!$E$5:$F$136, 2, FALSE) -> 宏觀經濟學導論 | D40: 1 | E40: 5 | G40: √ | J40: √ | M40: √ | P40: √ | S40: √
A41: 39 | B41: ECON A305 | C41: =VLOOKUP(B41, '[2]Summary (from 2018 Autumn)'!$E$5:$F$136, 2, FALSE) -> Money and Banking | D41: 2 | E41: 10 | F41: √ | J41: √ | O41: √
A42: 40 | B42: ECON A311 | C42: =VLOOKUP(B42, '[2]Summary (from 2018 Autumn)'!$E$5:$F$136, 2, FALSE) -> Intermediate Microeconomics | D42: 1 | E42: 5 | G42: √ | J42: √ | M42: √ | P42: √ | S42: √
A43: 41 | B43: ECON A312 | C43: =VLOOKUP(B43, '[2]Summary (from 2018 Autumn)'!$E$5:$F$136, 2, FALSE) -> Intermediate Macroeconomics | D43: 1 | E43: 5 | F43: √ | I43: √ | L43: √ | O43: √ | R43: √
A44: 42 | B44: ECON A313 | C44: =VLOOKUP(B44, '[2]Summary (from 2018 Autumn)'!$E$5:$F$136, 2, FALSE) -> Introductory Econometrics | D44: 1 | E44: 5 | G44: √ | L44: √ | P44: √
A45: 43 | B45: ECON A314 | C45: =VLOOKUP(B45, '[2]Summary (from 2018 Autumn)'!$E$5:$F$136, 2, FALSE) -> Econometrics and Forecasting | D45: 1 | E45: 5 | I45: √ | M45: √ | R45: √
A46: 44 | B46: ECON A316 | C46: =VLOOKUP(B46, '[2]Summary (from 2018 Autumn)'!$E$5:$F$136, 2, FALSE) -> International Finance | D46: 1 | E46: 5 | I46: √ | M46: √ | R46: √
A47: 45 | B47: ECON A317 | C47: =VLOOKUP(B47, '[2]Summary (from 2018 Autumn)'!$E$5:$F$136, 2, FALSE) -> Theory of Public Finance | D47: 1 | E47: 5 | I47: √ | M47: √ | R47: √
A48: 46 | B48: ECON A318 | C48: =VLOOKUP(B48, '[2]Summary (from 2018 Autumn)'!$E$5:$F$136, 2, FALSE) -> Economic Analysis of Public Policy | D48: 1 | E48: 5 | F48: √ | J48: √ | O48: √ | S48: √
A49: 47 | B49: ENGL A090 | C49: =VLOOKUP(B49, '[2]Summary (from 2018 Autumn)'!$E$5:$F$136, 2, FALSE) -> English Speaking and Listening Skills | D49: 1 | E49: 5 | F49: √ | I49: √ | L49: √ | O49: √ | R49: √
A50: 48 | B50: ENGL A101 | C50: =VLOOKUP(B50, '[2]Summary (from 2018 Autumn)'!$E$5:$F$136, 2, FALSE) -> University English Writing Skills | D50: 1 | E50: 5 | F50: √ | G50: √ | I50: √ | J50: √ | L50: √ | M50: √ | O50: √ | P50: √ | R50: √ | S50: √
A51: 49 | B51: ENGL A122 | C51: =VLOOKUP(B51, '[2]Summary (from 2018 Autumn)'!$E$5:$F$136, 2, FALSE) -> Presentation Skills | D51: 1 | E51: 5 | F51: √ | G51: √ | I51: √ | J51: √ | L51: √ | M51: √ | O51: √ | P51: √ | R51: √ | S51: √
A52: 50 | B52: ENGL A131 | C52: =VLOOKUP(B52, '[2]Summary (from 2018 Autumn)'!$E$5:$F$136, 2, FALSE) -> Introduction to English Fiction | D52: 1 | E52: 5 | F52: √ | I52: √ | L52: √ | O52: √ | R52: √
A53: 51 | B53: ENGL A132 | C53: =VLOOKUP(B53, '[2]Summary (from 2018 Autumn)'!$E$5:$F$136, 2, FALSE) -> Introduction to English Drama and Poetry | D53: 1 | E53: 5 | G53: √ | J53: √ | M53: √ | P53: √ | S53: √
A54: 52 | B54: ENGL A200 | C54: =VLOOKUP(B54, '[2]Summary (from 2018 Autumn)'!$E$5:$F$136, 2, FALSE) -> Analysing English Grammar | D54: 2 | E54: 10 | F54: √ | I54: √ | L54: √ | O54: √ | R54: √
A55: 53 | B55: ENGL A202 | C55: =VLOOKUP(B55, '[2]Summary (from 2018 Autumn)'!$E$5:$F$136, 2, FALSE) -> The Structure of Modern English | D55: 2 | E55: 10 | F55: √ | I55: √ | L55: √ | O55: √ | R55: √
A56: 54 | B56: ENGL A231 | C56: =VLOOKUP(B56, '[2]Summary (from 2018 Autumn)'!$E$5:$F$136, 2, FALSE) -> English Literature in the Modern World | D56: 1 | E56: 5 | G56: √ | L56: √ | P56: √
A57: 55 | B57: ENGL A232 | C57: =VLOOKUP(B57, '[2]Summary (from 2018 Autumn)'!$E$5:$F$136, 2, FALSE) -> Socio-cultural Issues in English Literature | D57: 2 | E57: 10 | F57: √ | J57: √ | O57: √
A58: 56 | B58: ENGL A336 | C58: =VLOOKUP(B58, '[2]Summary (from 2018 Autumn)'!$E$5:$F$136, 2, FALSE) -> Major Authors in English Literature | D58: 2 | E58: 10 | I58: √ | M58: √ | R58: √
A59: 57 | B59: ENGL A337 | C59: =VLOOKUP(B59, '[2]Summary (from 2018 Autumn)'!$E$5:$F$136, 2, FALSE) -> Critical Approaches to Literature | D59: 2 | E59: 10 | G59: √ | L59: √ | P59: √
A60: 58 | B60: GCST A216 | C60: =VLOOKUP(B60, '[2]Summary (from 2018 Autumn)'!$E$5:$F$136, 2, FALSE) -> Chinese International Relations since 1949 | D60: 1 | E60: 5 | F60: √ | J60: √ | O60: √ | S60: √
A61: 59 | B61: LANG A330 | C61: =VLOOKUP(B61, '[2]Summary (from 2018 Autumn)'!$E$5:$F$136, 2, FALSE) -> Introduction to Semantics and Pragmatics | D61: 2 | E61: 10 | F61: √ | I61: √ | L61: √ | O61: √ | R61: √
A62: 60 | B62: LANG A331 | C62: =VLOOKUP(B62, '[2]Summary (from 2018 Autumn)'!$E$5:$F$136, 2, FALSE) -> Language and Society in Hong Kong | D62: 2 | E62: 10 | F62: √ | I62: √ | L62: √ | O62: √ | R62: √
A63: 61 | B63: LANG A332 | C63: =VLOOKUP(B63, '[2]Summary (from 2018 Autumn)'!$E$5:$F$136, 2, FALSE) -> Stylistics and Discourse Analysis | D63: 2 | E63: 10 | F63: √ | I63: √ | L63: √ | O63: √ | R63: √
A64: 62 | B64: LESM A201 | C64: =VLOOKUP(B64, '[2]Summary (from 2018 Autumn)'!$E$5:$F$136, 2, FALSE) -> Hong Kong Criminal Justice System | D64: 2 | E64: 10 | G64: √ | J64: √ | M64: √ | P64: √
A65: 63 | B65: LESM A202 | C65: =VLOOKUP(B65, '[2]Summary (from 2018 Autumn)'!$E$5:$F$136, 2, FALSE) -> Police and Society | D65: 2 | E65: 10 | F65: √ | I65: √ | L65: √ | O65: √ | R65: √
A66: 64 | B66: LESM A203 | C66: =VLOOKUP(B66, '[2]Summary (from 2018 Autumn)'!$E$5:$F$136, 2, FALSE) -> Psychology for Law Enforcement | D66: 2 | E66: 10 | G66: √ | J66: √ | M66: √ | P66: √
A67: 65 | B67: LESM A204 | C67: =VLOOKUP(B67, '[2]Summary (from 2018 Autumn)'!$E$5:$F$136, 2, FALSE) -> Security Practice and Management | D67: 2 | E67: 10 | F67: √ | I67: √ | L67: √ | O67: √ | R67: √
A68: 66 | B68: LESM A301 | C68: =VLOOKUP(B68, '[2]Summary (from 2018 Autumn)'!$E$5:$F$136, 2, FALSE) -> Core Issues in Policing | D68: 2 | E68: 10 | G68: √ | J68: √ | M68: √ | P68: √
A69: 67 | B69: LESM A302 | C69: =VLOOKUP(B69, '[2]Summary (from 2018 Autumn)'!$E$5:$F$136, 2, FALSE) -> Public Order Management | D69: 1 | E69: 5 | I69: √ | M69: √ | R69: √
A70: 68 | B70: LESM A303 | C70: =VLOOKUP(B70, '[2]Summary (from 2018 Autumn)'!$E$5:$F$136, 2, FALSE) -> Law Enforcement and Policing in Chinese Societies | D70: 1 | E70: 5 | G70: √ | J70: √ | M70: √ | P70: √ | S70: √
A71: 69 | B71: LESM A304 | C71: =VLOOKUP(B71, '[2]Summary (from 2018 Autumn)'!$E$5:$F$136, 2, FALSE) -> Research Methods in Law Enforcement and Security Studies | D71: 2 | E71: 10 | G71: √ | J71: √ | M71: √ | P71: √
A72: 70 | B72: LESM A305 | C72: =VLOOKUP(B72, '[2]Summary (from 2018 Autumn)'!$E$5:$F$136, 2, FALSE) -> Major Issues in Criminology and Penology | D72: 2 | E72: 10 | F72: √ | I72: √ | L72: √ | O72: √ | R72: √
A73: 71 | B73: POLS A201 | C73: =VLOOKUP(B73, '[2]Summary (from 2018 Autumn)'!$E$5:$F$136, 2, FALSE) -> Introduction to Political Science | D73: 2 | E73: 10 | F73: √ | J73: √ | O73: √
A74: 72 | B74: POLS A201C | C74: =VLOOKUP(B74, '[2]Summary (from 2018 Autumn)'!$E$5:$F$136, 2, FALSE) -> 政治學導論 | D74: 2 | E74: 10 | G74: √ | L74: √ | P74: √
A75: 73 | B75: POLS A211 | C75: =VLOOKUP(B75, '[2]Summary (from 2018 Autumn)'!$E$5:$F$136, 2, FALSE) -> Government and Politics of Hong Kong | D75: 2 | E75: 10 | G75: √ | L75: √ | P75: √
A76: 74 | B76: POLS A211C | C76: =VLOOKUP(B76, '[2]Summary (from 2018 Autumn)'!$E$5:$F$136, 2, FALSE) -> 香港政府及政治 | D76: 2 | E76: 10 | I76: √ | M76: √ | R76: √
A77: 75 | B77: PSYC A227 | C77: =VLOOKUP(B77, '[2]Summary (from 2018 Autumn)'!$E$5:$F$136, 2, FALSE) -> Positive Psychology | D77: 2 | E77: 10 | F77: √ | I77: √ | L77: √ | O77: √ | R77: √
A78: 76 | B78: PSYC A228 | C78: =VLOOKUP(B78, '[2]Summary (from 2018 Autumn)'!$E$5:$F$136, 2, FALSE) -> Introduction to Psychology | D78: 2 | E78: 10 | F78: √ | I78: √ | L78: √ | O78: √ | R78: √
A79: 77 | B79: PSYC A229 | C79: =VLOOKUP(B79, '[2]Summary (from 2018 Autumn)'!$E$5:$F$136, 2, FALSE) -> Biological Psychology: Theories and Principles | D79: 2 | E79: 10 | G79: √ | J79: √ | M79: √ | P79: √
A80: 78 | B80: PSYC A230 | C80: =VLOOKUP(B80, '[2]Summary (from 2018 Autumn)'!$E$5:$F$136, 2, FALSE) -> Developmental Psychology | D80: 2 | E80: 10 | F80: √ | I80: √ | L80: √ | O80: √ | R80: √
A81: 79 | B81: PSYC A231 | C81: =VLOOKUP(B81, '[2]Summary (from 2018 Autumn)'!$E$5:$F$136, 2, FALSE) -> Introduction to Counselling Psychology | D81: 1 | E81: 5 | H81: √ | K81: √ | N81: √ | Q81: √ | T81: √
A82: 80 | B82: PSYC A232 | C82: =VLOOKUP(B82, '[2]Summary (from 2018 Autumn)'!$E$5:$F$136, 2, FALSE) -> Introduction to Abnormal Psychology | D82: 1 | E82: 5 | H82: √ | K82: √ | N82: √ | Q82: √ | T82: √
A83: 81 | B83: PSYC A318 | C83: =VLOOKUP(B83, '[2]Summary (from 2018 Autumn)'!$E$5:$F$136, 2, FALSE) -> History of Psychology | D83: 2 | E83: 10 | G83: √ | J83: √ | M83: √ | P83: √
A84: 82 | B84: PSYC A319 | C84: =VLOOKUP(B84, '[2]Summary (from 2018 Autumn)'!$E$5:$F$136, 2, FALSE) -> Theories of Personality Psychology | D84: 2 | E84: 10 | F84: √ | I84: √ | L84: √ | O84: √ | R84: √
A85: 83 | B85: PSYC A320 | C85: =VLOOKUP(B85, '[2]Summary (from 2018 Autumn)'!$E$5:$F$136, 2, FALSE) -> Cognitive Psychology: Theories and Applications | D85: 2 | E85: 10 | F85: √ | I85: √ | L85: √ | O85: √ | R85: √
A86: 84 | B86: PSYC A321 | C86: =VLOOKUP(B86, '[2]Summary (from 2018 Autumn)'!$E$5:$F$136, 2, FALSE) -> Social Psychology: Theories and Applications | D86: 2 | E86: 20 | G86: √ | J86: √ | M86: √ | P86: √
A87: 85 | B87: PTH A200C | C87: =VLOOKUP(B87, '[2]Summary (from 2018 Autumn)'!$E$5:$F$136, 2, FALSE) -> 普通話II | D87: 2 | E87: 10 | F87: √ | I87: √ | L87: √ | O87: √ | R87: √
A88: 86 | B88: PUAD A202 | C88: =VLOOKUP(B88, '[2]Summary (from 2018 Autumn)'!$E$5:$F$136, 2, FALSE) -> Introduction to Public Administration | D88: 1 | E88: 5 | G88: √ | J88: √ | M88: √ | P88: √ | S88: √
A89: 87 | B89: PUAD A203 | C89: =VLOOKUP(B89, '[2]Summary (from 2018 Autumn)'!$E$5:$F$136, 2, FALSE) -> Introduction to Public Policy | D89: 1 | E89: 5 | F89: √ | I89: √ | L89: √ | O89: √ | R89: √
A90: 88 | B90: PUAD A301 | C90: =VLOOKUP(B90, '[2]Summary (from 2018 Autumn)'!$E$5:$F$136, 2, FALSE) -> Public Sector Management in Hong Kong | D90: 2 | E90: 10 | F90: √ | I90: √ | L90: √ | O90: √ | R90: √
A91: 89 | B91: PUAD A302 | C91: =VLOOKUP(B91, '[2]Summary (from 2018 Autumn)'!$E$5:$F$136, 2, FALSE) -> Government and Business | D91: 2 | E91: 10 | F91: √ | J91: √ | O91: √
A92: 90 | B92: PUAD A303 | C92: =VLOOKUP(B92, '[2]Summary (from 2018 Autumn)'!$E$5:$F$136, 2, FALSE) -> Current Issues in Public Sector Management | D92: 2 | E92: 10 | I92: √ | M92: √ | R92: √
A93: 91 | B93: SOCI A202 | C93: =VLOOKUP(B93, '[2]Summary (from 2018 Autumn)'!$E$5:$F$136, 2, FALSE) -> Hong Kong Society | D93: 2 | E93: 10 | G93: √ | M93: √
A94: 92 | B94: SOCI A202C | C94: =VLOOKUP(B94, '[2]Summary (from 2018 Autumn)'!$E$5:$F$136, 2, FALSE) -> 香港社會 | D94: 2 | E94: 10 | J94: √ | P94: √
A95: 93 | B95: SOCI A208 | C95: =VLOOKUP(B95, '[2]Summary (from 2018 Autumn)'!$E$5:$F$136, 2, FALSE) -> Welfare, Crime and Society | D95: 2 | E95: 20 | F95: √ | I95: √ | L95: √ | O95: √ | R95: √
A96: 94 | B96: SOSC A112 | C96: =VLOOKUP(B96, '[2]Summary (from 2018 Autumn)'!$E$5:$F$136, 2, FALSE) -> Understanding Economics and Politics | D96: 2 | E96: 10 | F96: √ | I96: √ | L96: √ | O96: √ | R96: √
A97: 95 | B97: SOSC A112C | C97: =VLOOKUP(B97, '[2]Summary (from 2018 Autumn)'!$E$5:$F$136, 2, FALSE) -> 社會科學基礎課程：經濟學與政治學 | D97: 2 | E97: 10 | F97: √ | I97: √ | L97: √ | O97: √ | R97: √
A98: 96 | B98: SOSC A121 | C98: =VLOOKUP(B98, '[2]Summary (from 2018 Autumn)'!$E$5:$F$136, 2, FALSE) -> Psychology for Everyday Life | D98: 1 | E98: 5 | F98: √ | I98: √ | L98: √ | O98: √ | R98: √
A99: 97 | B99: SOSC A121C | C99: =VLOOKUP(B99, '[2]Summary (from 2018 Autumn)'!$E$5:$F$136, 2, FALSE) -> 社會科學基礎課程：心理學 | D99: 1 | E99: 5 | G99: √ | J99: √ | M99: √ | P99: √ | S99: √
A100: 98 | B100: SOSC A122 | C100: =VLOOKUP(B100, '[2]Summary (from 2018 Autumn)'!$E$5:$F$136, 2, FALSE) -> Understanding Sociology | D100: 1 | E100: 5 | F100: √ | I100: √ | L100: √ | O100: √ | R100: √
...
