Workbook

Sheet Study Plan Template
B1: Study Plan
B2: Completion/ Planned Enrolment Term | C2: Course Code | D2: Course Title | E2: Length in term(s) | F2: Credit | G2: RV | H2: Course Passed?
A3: 1
A4: 2
A5: 3
A6: 4
A7: 5
A8: 6
A9: 7
A10: 8
A11: 9
A12: 10
A13: 11
A14: 12
... A27: 25
E28: Total Credits Required for the Programme

Sheet Study Progression Schedule 
B1: Study Progression Schedule (Course Enrolment Plan)
C2: Course code | D2: Course title | E2: Length in term(s) | F2: Credit | G2: RV | H2: Credits Sub-total by Term | I2: RV sub-total by Term | J2: Completion/ Planned Enrolment Term | K2: Label
B3: Year 1 Study (22/23)
B4: Autumn | C4: BIS B123 | D4: Business Computing Applications | E4: 1 | F4: 5 | G4: 5 | K4: CD
C5: BUS B103 | D5: English and Communications for Business I | E5: 1 | F5: 5 | G5: 5 | K5: CD
C6: ACT B210 | D6: Introduction to Accounting | E6: 2 | F6: 10 | G6: 5 | K6: CD
H7: =SUM(F4:F7) -> 20 | I7: =SUM(G4:G7) -> 15
B8: Spring | D8: RV from previous term(s) | G8: 5
C9: BUS B104 | D9: English and Communications for Business II | E9: 1 | F9: 5 | G9: 5 | K9: CD
C10: ECON A231 | D10: Introduction to Microeconomics | E10: 1 | F10: 5 | G10: 5 | K10: CD
D11: one free choice | E11: 1 | F11: 5 | G11: 5 | K11: F
H12: =SUM(F8:F12) -> 15 | I12: =SUM(G8:G12) -> 20
B13: Summer | D13: RV from previous term(s) | G13: 0
C14: MKT B250 | D14: Introduction to Marketing | E14: 1 | F14: 5 | G14: 5 | K14: CD
H15: =SUM(F13:F15) -> 5 | I15: =SUM(G13:G15) -> 5
B16: Year 2 Study (23/24)
B17: Autumn | D17: RV from previous term(s) | G17: 0
C18: BUS B273 | D18: Quantitative Analysis for Business | E18: 2 | F18: 10 | G18: 5 | K18: CD
C19: ECON A232 | D19: Introduction to Macroeconomics | E19: 1 | F19: 5 | G19: 5 | K19: CD
C20: FIN B280 | D20: Introduction to Financial Management | E20: 1 | F20: 5 | G20: 5 | K20: CD
D21: one free choice | E21: 1 | F21: 5 | G21: 5 | K21: F
H22: =SUM(F17:F22) -> 25 | I22: =SUM(G17:G22) -> 20
B23: Spring | D23: RV from previous term(s) | G23: 5
C24: LAW B262 | D24: Business Law I | E24: 1 | F24: 5 | G24: 5 | K24: CD
C25: MGT B240 | D25: Principles and Practices of Management | E25: 1 | F25: 5 | G25: 5 | K25: CD
C26: ACT B304 | D26: Accounting Information Systems | E26: 1 | F26: 5 | G26: 5 | H26: =SUM(F23:F26) -> 15 | I26: =SUM(G23:G26) -> 20 | K26: ACC
B27: Summer | D27: RV from previous term(s) | G27: 0
H28: =SUM(F27:F28) -> 0 | I28: =SUM(G27:G28) -> 0
B29: Year 3 Study (24/25)
B30: Autumn | D30: RV from previous term(s) | G30: 0
C31: ACT B313 | D31: Management and Cost Accounting | E31: 1 | F31: 5 | G31: 5 | K31: ACC
C32: ACT B414 | D32: Taxation I | E32: 1 | F32: 5 | G32: 5 | K32: ACC
C33: ACT B416 | D33: Auditing I | E33: 1 | F33: 5 | G33: 5 | K33: ACC
C34: BUS B368 | D34: Business Issues and Ethics | E34: 1 | F34: 5 | G34: 5 | K34: ACC
H35: =SUM(F30:F35) -> 20 | I35: =SUM(G30:G35) -> 20
B36: Spring | D36: RV from previous term(s) | G36: 0
C37: ACT B405 | D37: Advanced Management Accounting | E37: 1 | F37: 5 | G37: 5 | K37: ACC
C38: ACT B415 | D38: Taxation II | E38: 1 | F38: 5 | G38: 5 | K38: BUS
C39: IB B397 | D39: Global Issues in Management | E39: 1 | F39: 5 | G39: 5 | K39: BUS
D40: one free choice | E40: 1 | F40: 5 | G40: 5 | K40: F
...

Sheet Study Progression Schedule (2)
B1: Study Progression Plan for Course Enrolment
C2: Course code | D2: Course title | E2: Length in term(s) | F2: Credit | G2: RV | H2: Credits Sub-total by Term | I2: RV sub-total by Term | J2: Completion/ Planned Enrolment Term | K2: Label
B3: Year 1 Study (2022/23)
B4: Autumn | C4: BIS B123 | D4: Business Computing Applications | E4: 1 | F4: 5 | G4: 5 | K4: CD
C5: BUS B103 | D5: English and Communications for Business I | E5: 1 | F5: 5 | G5: 5 | K5: CD
C6: ACT B210 | D6: Introduction to Accounting | E6: 2 | F6: 10 | G6: 5 | K6: CD
H7: =SUM(F4:F7) -> 20 | I7: =SUM(G4:G7) -> 15
B8: Spring | D8: RV from previous term(s) | G8: 5
C9: BUS B104 | D9: English and Communications for Business II | E9: 1 | F9: 5 | G9: 5 | K9: CD
C10: MGT B240 | D10: Principles and Practices of Management | E10: 1 | F10: 5 | G10: 5 | K10: CD
C11: ECON A231 | D11: Introduction to Microeconomics | E11: 1 | F11: 5 | G11: 5 | K11: CD
H12: =SUM(F8:F12) -> 15 | I12: =SUM(G8:G12) -> 20
B13: Summer | D13: RV from previous term(s) | G13: 0
C14: MKT B250 | D14: Introduction to Marketing | E14: 1 | F14: 5 | G14: 5 | K14: CD
H15: =SUM(F13:F15) -> 5 | I15: =SUM(G13:G15) -> 5
B16: Year 2 Study (2023/24)
B17: Autumn | D17: RV from previous term(s) | G17: 0
C18: BUS B273 | D18: Quantitative Analysis for Business | E18: 2 | F18: 10 | G18: 5 | K18: CD
C19: ECON A232 | D19: Introduction to Macroeconomics | E19: 1 | F19: 5 | G19: 5 | K19: CD
C20: FIN B280 | D20: Introduction to Financial Management | E20: 1 | F20: 5 | G20: 5 | K20: CD
D21: one free choice | E21: 1 | F21: 5 | G21: 5 | K21: F
H22: =SUM(F17:F22) -> 25 | I22: =SUM(G17:G22) -> 20
B23: Spring | D23: RV from previous term(s) | G23: 5
C24: LAW B262 | D24: Business Law I | E24: 1 | F24: 5 | G24: 5 | K24: CD
C25: ACT B304 | D25: Accounting Information Systems | E25: 1 | F25: 5 | G25: 5 | K25: ACC
D26: one free choice | E26: 1 | F26: 5 | G26: 5 | H26: =SUM(F23:F26) -> 15 | I26: =SUM(G23:G26) -> 20 | K26: F
B27: Summer | D27: RV from previous term(s) | G27: 0
H28: =SUM(F27:F28) -> 0 | I28: =SUM(G27:G28) -> 0
B29: Year 3 Study (2024/25)
B30: Autumn | D30: RV from previous term(s) | G30: 0
C31: ACT B313 | D31: Management and Cost Accounting | E31: 1 | F31: 5 | G31: 5 | K31: ACC
C32: ACT B414 | D32: Taxation I | E32: 1 | F32: 5 | G32: 5 | K32: ACC
C33: BUS B368 | D33: Business Issues and Ethics | E33: 1 | F33: 5 | G33: 5 | K33: ACC
D34: one free choice | E34: 1 | F34: 5 | G34: 5 | K34: F
H35: =SUM(F30:F35) -> 20 | I35: =SUM(G30:G35) -> 20
B36: Spring | D36: RV from previous term(s) | G36: 0
C37: ACT B405 | D37: Advanced Management Accounting | E37: 1 | F37: 5 | G37: 5 | K37: ACC
C38: ACT B415 | D38: Taxation II | E38: 1 | F38: 5 | G38: 5 | K38: BUS
C39: IB B397 | D39: Global Issues in Management | E39: 1 | F39: 5 | G39: 5 | K39: BUS
C40: MGT B399 | D40: Management Policy and Strategy | E40: 1 | F40: 5 | G40: 5 | K40: CD
...

Sheet Course Enrollment Guide 科目註冊指引
B52: Programme Requirements | E52: https://www.hkmu.edu.hk/as/programmes-courses/distance-learning/bssclesm2/
B53: 課程要求 | E53: https://www.hkmu.edu.hk/as/tc/programmes-courses/distance-learning/bssclesm2/

Sheet 建議科目註冊計劃
B1: Recommended Course Enrolment Plan (BSSCLESM2)
B2: Programme Requirements (https://www.hkmu.edu.hk/as/programmes-courses/distance-learning/bssclesm2/)
B3: Term | C3: Course code | D3: Course title | E3: Length in term(s) | F3: Credit | G3: Registration Value (RV) | H3: Credits Sub-total by Term | I3: RV sub-total by Term | J3: Completion/ Planned Enrolment Term | K3: Label | M3: Note: Column with yellow filled for students' use
B4: 1st Year of Study (2022/23)
B5: Autumn | C5: ENGL A101 | D5: =VLOOKUP($C5, 'All Courses'!$B$3:$E$118, 2, FALSE) -> University English Writing Skills | E5: =VLOOKUP($C5, 'All Courses'!$B$3:$E$118, 3, FALSE) -> 1 | F5: =VLOOKUP($C5, 'All Courses'!$B$3:$E$118, 4, FALSE) -> 5
C6: ENGL A122 | D6: =VLOOKUP($C6, 'All Courses'!$B$3:$E$118, 2, FALSE) -> Presentation Skills | E6: =VLOOKUP($C6, 'All Courses'!$B$3:$E$118, 3, FALSE) -> 1 | F6: =VLOOKUP($C6, 'All Courses'!$B$3:$E$118, 4, FALSE) -> 5
C7: LESM A204 | D7: =VLOOKUP($C7, 'All Courses'!$B$3:$E$118, 2, FALSE) -> Security Practice and Management | E7: =VLOOKUP($C7, 'All Courses'!$B$3:$E$118, 3, FALSE) -> 2 | F7: 5
H8: =SUM(F5:F8) -> 15 | I8: =SUM(G5:G8) -> 0
B9: Spring | D9: RV from previous term(s)
C10: LESM A204 | D10: =VLOOKUP($C10, 'All Courses'!$B$3:$E$118, 2, FALSE) -> Security Practice and Management | E10: =VLOOKUP($C10, 'All Courses'!$B$3:$E$118, 3, FALSE) -> 2 | F10: 5
C11: SOSC A121C | D11: =VLOOKUP($C11, 'All Courses'!$B$3:$E$118, 2, FALSE) -> 社會科學基礎課程：心理學 | E11: =VLOOKUP($C11, 'All Courses'!$B$3:$E$118, 3, FALSE) -> 1 | F11: =VLOOKUP($C11, 'All Courses'!$B$3:$E$118, 4, FALSE) -> 5
C12: LESM A201 | D12: =VLOOKUP($C12, 'All Courses'!$B$3:$E$118, 2, FALSE) -> Hong Kong Criminal Justice System | E12: =VLOOKUP($C12, 'All Courses'!$B$3:$E$118, 3, FALSE) -> 2 | F12: 5 | H12: =SUM(F9:F12) -> 15 | I12: =SUM(G9:G12) -> 0
B13: Summer | D13: RV from previous term(s)
H15: =SUM(F13:F15) -> 0 | I15: =SUM(G13:G15) -> 0
B16: 2nd year of Study (2023/24)
B17: Autumn | D17: RV from previous term(s)
C18: LESM A201 | D18: =VLOOKUP($C18, 'All Courses'!$B$3:$E$118, 2, FALSE) -> Hong Kong Criminal Justice System | E18: =VLOOKUP($C18, 'All Courses'!$B$3:$E$118, 3, FALSE) -> 2 | F18: 5
C19: SOSC A122C | D19: =VLOOKUP($C19, 'All Courses'!$B$3:$E$118, 2, FALSE) -> 社會科學基礎課程：社會學 | E19: =VLOOKUP($C19, 'All Courses'!$B$3:$E$118, 3, FALSE) -> 1 | F19: =VLOOKUP($C19, 'All Courses'!$B$3:$E$118, 4, FALSE) -> 5
C20: PUAD A203 | D20: =VLOOKUP($C20, 'All Courses'!$B$3:$E$118, 2, FALSE) -> Introduction to Public Policy | E20: =VLOOKUP($C20, 'All Courses'!$B$3:$E$118, 3, FALSE) -> 1 | F20: =VLOOKUP($C20, 'All Courses'!$B$3:$E$118, 4, FALSE) -> 5
H21: =SUM(F17:F21) -> 15 | I21: =SUM(G17:G21) -> 0
B22: Spring | D22: RV from previous term(s)
C23: PUAD A202 | D23: =VLOOKUP($C23, 'All Courses'!$B$3:$E$118, 2, FALSE) -> Introduction to Public Administration | E23: =VLOOKUP($C23, 'All Courses'!$B$3:$E$118, 3, FALSE) -> 1 | F23: =VLOOKUP($C23, 'All Courses'!$B$3:$E$118, 4, FALSE) -> 5
C24: LESM A301 | D24: =VLOOKUP($C24, 'All Courses'!$B$3:$E$118, 2, FALSE) -> Core Issues in Policing | E24: =VLOOKUP($C24, 'All Courses'!$B$3:$E$118, 3, FALSE) -> 2 | F24: 5
C25: LESM A304 | D25: =VLOOKUP($C25, 'All Courses'!$B$3:$E$118, 2, FALSE) -> Research Methods in Law Enforcement and Security Studies | E25: =VLOOKUP($C25, 'All Courses'!$B$3:$E$118, 3, FALSE) -> 2 | F25: 5 | H25: =SUM(F22:F25) -> 15 | I25: =SUM(G22:G25) -> 0
B28: Summer | D28: RV from previous term(s)
H30: =SUM(F28:F30) -> 0 | I30: =SUM(G28:G30) -> 0
B31: 3rd Year of Study (2024/25)
B32: Autumn | D32: RV from previous term(s)
C33: LESM A301 | D33: =VLOOKUP($C33, 'All Courses'!$B$3:$E$118, 2, FALSE) -> Core Issues in Policing | E33: =VLOOKUP($C33, 'All Courses'!$B$3:$E$118, 3, FALSE) -> 2 | F33: 5
C34: LESM A304 | D34: =VLOOKUP($C34, 'All Courses'!$B$3:$E$118, 2, FALSE) -> Research Methods in Law Enforcement and Security Studies | E34: =VLOOKUP($C34, 'All Courses'!$B$3:$E$118, 3, FALSE) -> 2 | F34: 5
C35: ECON A232 | D35: =VLOOKUP($C35, 'All Courses'!$B$3:$E$118, 2, FALSE) -> Introduction to Macroeconomics | E35: =VLOOKUP($C35, 'All Courses'!$B$3:$E$118, 3, FALSE) -> 1 | F35: 5
H37: =SUM(F32:F37) -> 15 | I37: =SUM(G32:G37) -> 0
B38: Spring | D38: RV from previous term(s)
C39: LESM A303 | D39: =VLOOKUP($C39, 'All Courses'!$B$3:$E$118, 2, FALSE) -> Law Enforcement and Policing in Chinese Societies | E39: =VLOOKUP($C39, 'All Courses'!$B$3:$E$118, 3, FALSE) -> 1 | F39: =VLOOKUP($C39, 'All Courses'!$B$3:$E$118, 4, FALSE) -> 5
C40: ECON A231 | D40: =VLOOKUP($C40, 'All Courses'!$B$3:$E$118, 2, FALSE) -> Introduction to Microeconomics | E40: =VLOOKUP($C40, 'All Courses'!$B$3:$E$118, 3, FALSE) -> 1 | F40: =VLOOKUP($C40, 'All Courses'!$B$3:$E$118, 4, FALSE) -> 5
C41: LESM A302 | D41: =VLOOKUP($C41, 'All Courses'!$B$3:$E$118, 2, FALSE) -> Public Order Management | E41: =VLOOKUP($C41, 'All Courses'!$B$3:$E$118, 3, FALSE) -> 1 | F41: =VLOOKUP($C41, 'All Courses'!$B$3:$E$118, 4, FALSE) -> 5
H42: =SUM(F38:F42) -> 15 | I42: =SUM(G38:G42) -> 0
B43: Summer | D43: RV from previous term(s)
H45: =SUM(F43:F45) -> 0 | I45: =SUM(G43:G45) -> 0
B46: 4th Year of Study (2025/26)
...

Sheet 科目開設時間表
B1: Planned Course Presentation Schedule (as of XX-April-2022)
B2: Core and Elective courses for following Programme(s): BSSCLESM2
B3: The University will follow the planned course presentation schedule as far as possible but may make changes if necessary. Please check back often for the most up to date information.
B5: Compulsory/ Elective | C5: Course | D5: Course Title | E5: Length | F5: Credits | G5: 2022 | H5: 2023 | I5: 2023 | J5: 2023 | K5: 2024 | L5: 2024 | M5: 2024 | N5: 2025 | O5: 2025 | P5: 2025 | Q5: 2026 | R5: 2026 | S5: 2026 | T5: 2027 | U5: 2027
C6: Code | E6: in Terms | G6: Autumn | H6: Spring | I6: Summer | J6: Autumn | K6: Spring | L6: Summer | M6: Autumn | N6: Spring | O6: Summer | P6: Autumn | Q6: Spring | R6: Summer | S6: Autumn | T6: Spring | U6: Summer
A7: 1 | B7: Compulsory | C7: LESM A201 | D7: =VLOOKUP($C7, 'All Courses'!$B$3:$T$118, 2, FALSE) -> Hong Kong Criminal Justice System | E7: =VLOOKUP($C7, 'All Courses'!$B$3:$T$118, 3, FALSE) -> 2 | F7: =VLOOKUP($C7, 'All Courses'!$B$3:$T$118, 4, FALSE) -> 10 | G7: =VLOOKUP($C7, 'All Courses'!$B$3:$T$118, 5, FALSE) | H7: =VLOOKUP($C7, 'All Courses'!$B$3:$T$118, 6, FALSE) -> √ | I7: =VLOOKUP($C7, 'All Courses'!$B$3:$T$118, 7, FALSE) -> 0 | J7: =VLOOKUP($C7, 'All Courses'!$B$3:$T$118, 8, FALSE) -> 0 | K7: =VLOOKUP($C7, 'All Courses'!$B$3:$T$118, 9, FALSE) -> √ | L7: =VLOOKUP($C7, 'All Courses'!$B$3:$T$118, 10, FALSE) -> 0 | M7: =VLOOKUP($C7, 'All Courses'!$B$3:$T$118, 11, FALSE) -> 0 | N7: =VLOOKUP($C7, 'All Courses'!$B$3:$T$118, 12, FALSE) -> √ | O7: =VLOOKUP($C7, 'All Courses'!$B$3:$T$118, 13, FALSE) -> 0 | P7: =VLOOKUP($C7, 'All Courses'!$B$3:$T$118, 14, FALSE) -> 0 | Q7: =VLOOKUP($C7, 'All Courses'!$B$3:$T$118, 15, FALSE) -> √ | R7: =VLOOKUP($C7, 'All Courses'!$B$3:$T$118, 16, FALSE) -> 0 | S7: =VLOOKUP($C7, 'All Courses'!$B$3:$T$118, 17, FALSE) -> 0 | T7: =VLOOKUP($C7, 'All Courses'!$B$3:$T$118, 18, FALSE) -> 0 | U7: =VLOOKUP($C7, 'All Courses'!$B$3:$T$118, 19, FALSE) -> 0
A8: 2 | B8: Compulsory | C8: LESM A204 | D8: =VLOOKUP($C8, 'All Courses'!$B$3:$T$118, 2, FALSE) -> Security Practice and Management | E8: =VLOOKUP($C8, 'All Courses'!$B$3:$T$118, 3, FALSE) -> 2 | F8: =VLOOKUP($C8, 'All Courses'!$B$3:$T$118, 4, FALSE) -> 10 | G8: =VLOOKUP($C8, 'All Courses'!$B$3:$T$118, 5, FALSE) -> √ | H8: =VLOOKUP($C8, 'All Courses'!$B$3:$T$118, 6, FALSE) -> 0 | I8: =VLOOKUP($C8, 'All Courses'!$B$3:$T$118, 7, FALSE) -> 0 | J8: =VLOOKUP($C8, 'All Courses'!$B$3:$T$118, 8, FALSE) -> √ | K8: =VLOOKUP($C8, 'All Courses'!$B$3:$T$118, 9, FALSE) -> 0 | L8: =VLOOKUP($C8, 'All Courses'!$B$3:$T$118, 10, FALSE) -> 0 | M8: =VLOOKUP($C8, 'All Courses'!$B$3:$T$118, 11, FALSE) -> √ | N8: =VLOOKUP($C8, 'All Courses'!$B$3:$T$118, 12, FALSE) -> 0 | O8: =VLOOKUP($C8, 'All Courses'!$B$3:$T$118, 13, FALSE) -> 0 | P8: =VLOOKUP($C8, 'All Courses'!$B$3:$T$118, 14, FALSE) -> √ | Q8: =VLOOKUP($C8, 'All Courses'!$B$3:$T$118, 15, FALSE) -> 0 | R8: =VLOOKUP($C8, 'All Courses'!$B$3:$T$118, 16, FALSE) -> 0 | S8: =VLOOKUP($C8, 'All Courses'!$B$3:$T$118, 17, FALSE) -> √ | T8: =VLOOKUP($C8, 'All Courses'!$B$3:$T$118, 18, FALSE) -> 0 | U8: =VLOOKUP($C8, 'All Courses'!$B$3:$T$118, 19, FALSE) -> 0
A9: 3 | B9: Compulsory | C9: LESM A301 | D9: =VLOOKUP($C9, 'All Courses'!$B$3:$T$118, 2, FALSE) -> Core Issues in Policing | E9: =VLOOKUP($C9, 'All Courses'!$B$3:$T$118, 3, FALSE) -> 2 | F9: =VLOOKUP($C9, 'All Courses'!$B$3:$T$118, 4, FALSE) -> 10 | G9: =VLOOKUP($C9, 'All Courses'!$B$3:$T$118, 5, FALSE) | H9: =VLOOKUP($C9, 'All Courses'!$B$3:$T$118, 6, FALSE) -> √ | I9: =VLOOKUP($C9, 'All Courses'!$B$3:$T$118, 7, FALSE) -> 0 | J9: =VLOOKUP($C9, 'All Courses'!$B$3:$T$118, 8, FALSE) -> 0 | K9: =VLOOKUP($C9, 'All Courses'!$B$3:$T$118, 9, FALSE) -> √ | L9: =VLOOKUP($C9, 'All Courses'!$B$3:$T$118, 10, FALSE) -> 0 | M9: =VLOOKUP($C9, 'All Courses'!$B$3:$T$118, 11, FALSE) -> 0 | N9: =VLOOKUP($C9, 'All Courses'!$B$3:$T$118, 12, FALSE) -> √ | O9: =VLOOKUP($C9, 'All Courses'!$B$3:$T$118, 13, FALSE) -> 0 | P9: =VLOOKUP($C9, 'All Courses'!$B$3:$T$118, 14, FALSE) -> 0 | Q9: =VLOOKUP($C9, 'All Courses'!$B$3:$T$118, 15, FALSE) -> √ | R9: =VLOOKUP($C9, 'All Courses'!$B$3:$T$118, 16, FALSE) -> 0 | S9: =VLOOKUP($C9, 'All Courses'!$B$3:$T$118, 17, FALSE) -> 0 | T9: =VLOOKUP($C9, 'All Courses'!$B$3:$T$118, 18, FALSE) -> 0 | U9: =VLOOKUP($C9, 'All Courses'!$B$3:$T$118, 19, FALSE) -> 0
A10: 4 | B10: Compulsory | C10: LESM A305 | D10: =VLOOKUP($C10, 'All Courses'!$B$3:$T$118, 2, FALSE) -> Major Issues in Criminology and Penology | E10: =VLOOKUP($C10, 'All Courses'!$B$3:$T$118, 3, FALSE) -> 2 | F10: =VLOOKUP($C10, 'All Courses'!$B$3:$T$118, 4, FALSE) -> 10 | G10: =VLOOKUP($C10, 'All Courses'!$B$3:$T$118, 5, FALSE) -> √ | H10: =VLOOKUP($C10, 'All Courses'!$B$3:$T$118, 6, FALSE) -> 0 | I10: =VLOOKUP($C10, 'All Courses'!$B$3:$T$118, 7, FALSE) -> 0 | J10: =VLOOKUP($C10, 'All Courses'!$B$3:$T$118, 8, FALSE) -> √ | K10: =VLOOKUP($C10, 'All Courses'!$B$3:$T$118, 9, FALSE) -> 0 | L10: =VLOOKUP($C10, 'All Courses'!$B$3:$T$118, 10, FALSE) -> 0 | M10: =VLOOKUP($C10, 'All Courses'!$B$3:$T$118, 11, FALSE) -> √ | N10: =VLOOKUP($C10, 'All Courses'!$B$3:$T$118, 12, FALSE) -> 0 | O10: =VLOOKUP($C10, 'All Courses'!$B$3:$T$118, 13, FALSE) -> 0 | P10: =VLOOKUP($C10, 'All Courses'!$B$3:$T$118, 14, FALSE) -> √ | Q10: =VLOOKUP($C10, 'All Courses'!$B$3:$T$118, 15, FALSE) -> 0 | R10: =VLOOKUP($C10, 'All Courses'!$B$3:$T$118, 16, FALSE) -> 0 | S10: =VLOOKUP($C10, 'All Courses'!$B$3:$T$118, 17, FALSE) -> √ | T10: =VLOOKUP($C10, 'All Courses'!$B$3:$T$118, 18, FALSE) -> 0 | U10: =VLOOKUP($C10, 'All Courses'!$B$3:$T$118, 19, FALSE) -> 0
A11: 5 | B11: Elective | C11: LESM A302 | D11: =VLOOKUP($C11, 'All Courses'!$B$3:$T$118, 2, FALSE) -> Public Order Management | E11: =VLOOKUP($C11, 'All Courses'!$B$3:$T$118, 3, FALSE) -> 1 | F11: =VLOOKUP($C11, 'All Courses'!$B$3:$T$118, 4, FALSE) -> 5 | G11: =VLOOKUP($C11, 'All Courses'!$B$3:$T$118, 5, FALSE) | H11: =VLOOKUP($C11, 'All Courses'!$B$3:$T$118, 6, FALSE) -> 0 | I11: =VLOOKUP($C11, 'All Courses'!$B$3:$T$118, 7, FALSE) -> 0 | J11: =VLOOKUP($C11, 'All Courses'!$B$3:$T$118, 8, FALSE) -> √ | K11: =VLOOKUP($C11, 'All Courses'!$B$3:$T$118, 9, FALSE) -> 0 | L11: =VLOOKUP($C11, 'All Courses'!$B$3:$T$118, 10, FALSE) -> 0 | M11: =VLOOKUP($C11, 'All Courses'!$B$3:$T$118, 11, FALSE) -> 0 | N11: =VLOOKUP($C11, 'All Courses'!$B$3:$T$118, 12, FALSE) -> √ | O11: =VLOOKUP($C11, 'All Courses'!$B$3:$T$118, 13, FALSE) -> 0 | P11: =VLOOKUP($C11, 'All Courses'!$B$3:$T$118, 14, FALSE) -> 0 | Q11: =VLOOKUP($C11, 'All Courses'!$B$3:$T$118, 15, FALSE) -> 0 | R11: =VLOOKUP($C11, 'All Courses'!$B$3:$T$118, 16, FALSE) -> 0 | S11: =VLOOKUP($C11, 'All Courses'!$B$3:$T$118, 17, FALSE) -> √ | T11: =VLOOKUP($C11, 'All Courses'!$B$3:$T$118, 18, FALSE) -> 0 | U11: =VLOOKUP($C11, 'All Courses'!$B$3:$T$118, 19, FALSE) -> 0
A12: 6 | B12: Elective | C12: LESM A303 | D12: =VLOOKUP($C12, 'All Courses'!$B$3:$T$118, 2, FALSE) -> Law Enforcement and Policing in Chinese Societies | E12: =VLOOKUP($C12, 'All Courses'!$B$3:$T$118, 3, FALSE) -> 1 | F12: =VLOOKUP($C12, 'All Courses'!$B$3:$T$118, 4, FALSE) -> 5 | G12: =VLOOKUP($C12, 'All Courses'!$B$3:$T$118, 5, FALSE) | H12: =VLOOKUP($C12, 'All Courses'!$B$3:$T$118, 6, FALSE) -> √ | I12: =VLOOKUP($C12, 'All Courses'!$B$3:$T$118, 7, FALSE) -> 0 | J12: =VLOOKUP($C12, 'All Courses'!$B$3:$T$118, 8, FALSE) -> 0 | K12: =VLOOKUP($C12, 'All Courses'!$B$3:$T$118, 9, FALSE) -> √ | L12: =VLOOKUP($C12, 'All Courses'!$B$3:$T$118, 10, FALSE) -> 0 | M12: =VLOOKUP($C12, 'All Courses'!$B$3:$T$118, 11, FALSE) -> 0 | N12: =VLOOKUP($C12, 'All Courses'!$B$3:$T$118, 12, FALSE) -> √ | O12: =VLOOKUP($C12, 'All Courses'!$B$3:$T$118, 13, FALSE) -> 0 | P12: =VLOOKUP($C12, 'All Courses'!$B$3:$T$118, 14, FALSE) -> 0 | Q12: =VLOOKUP($C12, 'All Courses'!$B$3:$T$118, 15, FALSE) -> √ | R12: =VLOOKUP($C12, 'All Courses'!$B$3:$T$118, 16, FALSE) -> 0 | S12: =VLOOKUP($C12, 'All Courses'!$B$3:$T$118, 17, FALSE) -> 0 | T12: =VLOOKUP($C12, 'All Courses'!$B$3:$T$118, 18, FALSE) -> √ | U12: =VLOOKUP($C12, 'All Courses'!$B$3:$T$118, 19, FALSE) -> 0
A13: 7 | B13: Elective | C13: LESM A304 | D13: =VLOOKUP($C13, 'All Courses'!$B$3:$T$118, 2, FALSE) -> Research Methods in Law Enforcement and Security Studies | E13: =VLOOKUP($C13, 'All Courses'!$B$3:$T$118, 3, FALSE) -> 2 | F13: =VLOOKUP($C13, 'All Courses'!$B$3:$T$118, 4, FALSE) -> 10 | G13: =VLOOKUP($C13, 'All Courses'!$B$3:$T$118, 5, FALSE) | H13: =VLOOKUP($C13, 'All Courses'!$B$3:$T$118, 6, FALSE) -> √ | I13: =VLOOKUP($C13, 'All Courses'!$B$3:$T$118, 7, FALSE) -> 0 | J13: =VLOOKUP($C13, 'All Courses'!$B$3:$T$118, 8, FALSE) -> 0 | K13: =VLOOKUP($C13, 'All Courses'!$B$3:$T$118, 9, FALSE) -> √ | L13: =VLOOKUP($C13, 'All Courses'!$B$3:$T$118, 10, FALSE) -> 0 | M13: =VLOOKUP($C13, 'All Courses'!$B$3:$T$118, 11, FALSE) -> 0 | N13: =VLOOKUP($C13, 'All Courses'!$B$3:$T$118, 12, FALSE) -> √ | O13: =VLOOKUP($C13, 'All Courses'!$B$3:$T$118, 13, FALSE) -> 0 | P13: =VLOOKUP($C13, 'All Courses'!$B$3:$T$118, 14, FALSE) -> 0 | Q13: =VLOOKUP($C13, 'All Courses'!$B$3:$T$118, 15, FALSE) -> √ | R13: =VLOOKUP($C13, 'All Courses'!$B$3:$T$118, 16, FALSE) -> 0 | S13: =VLOOKUP($C13, 'All Courses'!$B$3:$T$118, 17, FALSE) -> 0 | T13: =VLOOKUP($C13, 'All Courses'!$B$3:$T$118, 18, FALSE) -> 0 | U13: =VLOOKUP($C13, 'All Courses'!$B$3:$T$118, 19, FALSE) -> 0
A14: 8 | B14: Elective | C14: BIS B123 | D14: Business Computing Applications | E14: 1 | F14: 5 | G14: =VLOOKUP($C14, 'All Courses'!$B$3:$T$118, 5, FALSE) -> √ | H14: =VLOOKUP($C14, 'All Courses'!$B$3:$T$118, 6, FALSE) -> √ | I14: =VLOOKUP($C14, 'All Courses'!$B$3:$T$118, 7, FALSE) -> 0 | J14: =VLOOKUP($C14, 'All Courses'!$B$3:$T$118, 8, FALSE) -> √ | K14: =VLOOKUP($C14, 'All Courses'!$B$3:$T$118, 9, FALSE) -> √ | L14: =VLOOKUP($C14, 'All Courses'!$B$3:$T$118, 10, FALSE) -> 0 | M14: =VLOOKUP($C14, 'All Courses'!$B$3:$T$118, 11, FALSE) -> √ | N14: =VLOOKUP($C14, 'All Courses'!$B$3:$T$118, 12, FALSE) -> √ | O14: =VLOOKUP($C14, 'All Courses'!$B$3:$T$118, 13, FALSE) -> 0 | P14: =VLOOKUP($C14, 'All Courses'!$B$3:$T$118, 14, FALSE) -> √ | Q14: =VLOOKUP($C14, 'All Courses'!$B$3:$T$118, 15, FALSE) -> 0 | R14: =VLOOKUP($C14, 'All Courses'!$B$3:$T$118, 16, FALSE) -> 0 | S14: =VLOOKUP($C14, 'All Courses'!$B$3:$T$118, 17, FALSE) -> √ | T14: =VLOOKUP($C14, 'All Courses'!$B$3:$T$118, 18, FALSE) -> 0 | U14: =VLOOKUP($C14, 'All Courses'!$B$3:$T$118, 19, FALSE) -> 0
A15: 9 | B15: Elective | C15: CHIN A171C | D15: =VLOOKUP($C15, 'All Courses'!$B$3:$T$118, 2, FALSE) -> 應用文 | E15: =VLOOKUP($C15, 'All Courses'!$B$3:$T$118, 3, FALSE) -> 1 | F15: =VLOOKUP($C15, 'All Courses'!$B$3:$T$118, 4, FALSE) -> 5 | G15: =VLOOKUP($C15, 'All Courses'!$B$3:$T$118, 5, FALSE) -> √ | H15: =VLOOKUP($C15, 'All Courses'!$B$3:$T$118, 6, FALSE) -> 0 | I15: =VLOOKUP($C15, 'All Courses'!$B$3:$T$118, 7, FALSE) -> 0 | J15: =VLOOKUP($C15, 'All Courses'!$B$3:$T$118, 8, FALSE) -> √ | K15: =VLOOKUP($C15, 'All Courses'!$B$3:$T$118, 9, FALSE) -> 0 | L15: =VLOOKUP($C15, 'All Courses'!$B$3:$T$118, 10, FALSE) -> 0 | M15: =VLOOKUP($C15, 'All Courses'!$B$3:$T$118, 11, FALSE) -> √ | N15: =VLOOKUP($C15, 'All Courses'!$B$3:$T$118, 12, FALSE) -> 0 | O15: =VLOOKUP($C15, 'All Courses'!$B$3:$T$118, 13, FALSE) -> 0 | P15: =VLOOKUP($C15, 'All Courses'!$B$3:$T$118, 14, FALSE) -> √ | Q15: =VLOOKUP($C15, 'All Courses'!$B$3:$T$118, 15, FALSE) -> 0 | R15: =VLOOKUP($C15, 'All Courses'!$B$3:$T$118, 16, FALSE) -> 0 | S15: =VLOOKUP($C15, 'All Courses'!$B$3:$T$118, 17, FALSE) -> √ | T15: =VLOOKUP($C15, 'All Courses'!$B$3:$T$118, 18, FALSE) -> 0 | U15: =VLOOKUP($C15, 'All Courses'!$B$3:$T$118, 19, FALSE) -> 0
A16: 10 | B16: Elective | C16: ENGL A101 | D16: =VLOOKUP($C16, 'All Courses'!$B$3:$T$118, 2, FALSE) -> University English Writing Skills | E16: =VLOOKUP($C16, 'All Courses'!$B$3:$T$118, 3, FALSE) -> 1 | F16: =VLOOKUP($C16, 'All Courses'!$B$3:$T$118, 4, FALSE) -> 5 | G16: =VLOOKUP($C16, 'All Courses'!$B$3:$T$118, 5, FALSE) -> √ | H16: =VLOOKUP($C16, 'All Courses'!$B$3:$T$118, 6, FALSE) -> √ | I16: =VLOOKUP($C16, 'All Courses'!$B$3:$T$118, 7, FALSE) -> 0 | J16: =VLOOKUP($C16, 'All Courses'!$B$3:$T$118, 8, FALSE) -> √ | K16: =VLOOKUP($C16, 'All Courses'!$B$3:$T$118, 9, FALSE) -> √ | L16: =VLOOKUP($C16, 'All Courses'!$B$3:$T$118, 10, FALSE) -> 0 | M16: =VLOOKUP($C16, 'All Courses'!$B$3:$T$118, 11, FALSE) -> √ | N16: =VLOOKUP($C16, 'All Courses'!$B$3:$T$118, 12, FALSE) -> √ | O16: =VLOOKUP($C16, 'All Courses'!$B$3:$T$118, 13, FALSE) -> 0 | P16: =VLOOKUP($C16, 'All Courses'!$B$3:$T$118, 14, FALSE) -> √ | Q16: =VLOOKUP($C16, 'All Courses'!$B$3:$T$118, 15, FALSE) -> √ | R16: =VLOOKUP($C16, 'All Courses'!$B$3:$T$118, 16, FALSE) -> 0 | S16: =VLOOKUP($C16, 'All Courses'!$B$3:$T$118, 17, FALSE) -> √ | T16: =VLOOKUP($C16, 'All Courses'!$B$3:$T$118, 18, FALSE) -> √ | U16: =VLOOKUP($C16, 'All Courses'!$B$3:$T$118, 19, FALSE) -> 0
A17: 11 | B17: Elective | C17: ENGL A122 | D17: =VLOOKUP($C17, 'All Courses'!$B$3:$T$118, 2, FALSE) -> Presentation Skills | E17: =VLOOKUP($C17, 'All Courses'!$B$3:$T$118, 3, FALSE) -> 1 | F17: =VLOOKUP($C17, 'All Courses'!$B$3:$T$118, 4, FALSE) -> 5 | G17: =VLOOKUP($C17, 'All Courses'!$B$3:$T$118, 5, FALSE) -> √ | H17: =VLOOKUP($C17, 'All Courses'!$B$3:$T$118, 6, FALSE) -> √ | I17: =VLOOKUP($C17, 'All Courses'!$B$3:$T$118, 7, FALSE) -> 0 | J17: =VLOOKUP($C17, 'All Courses'!$B$3:$T$118, 8, FALSE) -> √ | K17: =VLOOKUP($C17, 'All Courses'!$B$3:$T$118, 9, FALSE) -> √ | L17: =VLOOKUP($C17, 'All Courses'!$B$3:$T$118, 10, FALSE) -> 0 | M17: =VLOOKUP($C17, 'All Courses'!$B$3:$T$118, 11, FALSE) -> √ | N17: =VLOOKUP($C17, 'All Courses'!$B$3:$T$118, 12, FALSE) -> √ | O17: =VLOOKUP($C17, 'All Courses'!$B$3:$T$118, 13, FALSE) -> 0 | P17: =VLOOKUP($C17, 'All Courses'!$B$3:$T$118, 14, FALSE) -> √ | Q17: =VLOOKUP($C17, 'All Courses'!$B$3:$T$118, 15, FALSE) -> √ | R17: =VLOOKUP($C17, 'All Courses'!$B$3:$T$118, 16, FALSE) -> 0 | S17: =VLOOKUP($C17, 'All Courses'!$B$3:$T$118, 17, FALSE) -> √ | T17: =VLOOKUP($C17, 'All Courses'!$B$3:$T$118, 18, FALSE) -> √ | U17: =VLOOKUP($C17, 'All Courses'!$B$3:$T$118, 19, FALSE) -> 0
A18: 12 | B18: Elective | C18: MGT B160 | D18: Business Management Fundamentals | E18: 1 | F18: 5 | G18: =VLOOKUP($C18, 'All Courses'!$B$3:$T$118, 5, FALSE) -> 0 | H18: =VLOOKUP($C18, 'All Courses'!$B$3:$T$118, 6, FALSE) -> √ | I18: =VLOOKUP($C18, 'All Courses'!$B$3:$T$118, 7, FALSE) -> 0 | J18: =VLOOKUP($C18, 'All Courses'!$B$3:$T$118, 8, FALSE) -> 0 | K18: =VLOOKUP($C18, 'All Courses'!$B$3:$T$118, 9, FALSE) -> √ | L18: =VLOOKUP($C18, 'All Courses'!$B$3:$T$118, 10, FALSE) -> 0 | M18: =VLOOKUP($C18, 'All Courses'!$B$3:$T$118, 11, FALSE) -> 0 | N18: =VLOOKUP($C18, 'All Courses'!$B$3:$T$118, 12, FALSE) -> √ | O18: =VLOOKUP($C18, 'All Courses'!$B$3:$T$118, 13, FALSE) -> 0 | P18: =VLOOKUP($C18, 'All Courses'!$B$3:$T$118, 14, FALSE) -> 0 | Q18: =VLOOKUP($C18, 'All Courses'!$B$3:$T$118, 15, FALSE) -> √ | R18: =VLOOKUP($C18, 'All Courses'!$B$3:$T$118, 16, FALSE) -> 0 | S18: =VLOOKUP($C18, 'All Courses'!$B$3:$T$118, 17, FALSE) -> 0 | T18: =VLOOKUP($C18, 'All Courses'!$B$3:$T$118, 18, FALSE) -> 0 | U18: =VLOOKUP($C18, 'All Courses'!$B$3:$T$118, 19, FALSE) -> 0
A19: 13 | B19: Elective | C19: PTH E150C | D19: 基礎普通話 | E19: 1 | F19: 5 | G19: =VLOOKUP($C19, 'All Courses'!$B$3:$T$118, 5, FALSE) -> √ | H19: =VLOOKUP($C19, 'All Courses'!$B$3:$T$118, 6, FALSE) -> √ | I19: =VLOOKUP($C19, 'All Courses'!$B$3:$T$118, 7, FALSE) -> 0 | J19: =VLOOKUP($C19, 'All Courses'!$B$3:$T$118, 8, FALSE) -> √ | K19: =VLOOKUP($C19, 'All Courses'!$B$3:$T$118, 9, FALSE) -> √ | L19: =VLOOKUP($C19, 'All Courses'!$B$3:$T$118, 10, FALSE) -> 0 | M19: =VLOOKUP($C19, 'All Courses'!$B$3:$T$118, 11, FALSE) -> √ | N19: =VLOOKUP($C19, 'All Courses'!$B$3:$T$118, 12, FALSE) -> √ | O19: =VLOOKUP($C19, 'All Courses'!$B$3:$T$118, 13, FALSE) -> 0 | P19: =VLOOKUP($C19, 'All Courses'!$B$3:$T$118, 14, FALSE) -> √ | Q19: =VLOOKUP($C19, 'All Courses'!$B$3:$T$118, 15, FALSE) -> √ | R19: =VLOOKUP($C19, 'All Courses'!$B$3:$T$118, 16, FALSE) -> 0 | S19: =VLOOKUP($C19, 'All Courses'!$B$3:$T$118, 17, FALSE) -> 0 | T19: =VLOOKUP($C19, 'All Courses'!$B$3:$T$118, 18, FALSE) -> 0 | U19: =VLOOKUP($C19, 'All Courses'!$B$3:$T$118, 19, FALSE) -> 0
A20: 14 | B20: Elective | C20: SOSC A112C | D20: =VLOOKUP($C20, 'All Courses'!$B$3:$T$118, 2, FALSE) -> 社會科學基礎課程：經濟學與政治學 | E20: =VLOOKUP($C20, 'All Courses'!$B$3:$T$118, 3, FALSE) -> 2 | F20: =VLOOKUP($C20, 'All Courses'!$B$3:$T$118, 4, FALSE) -> 10 | G20: =VLOOKUP($C20, 'All Courses'!$B$3:$T$118, 5, FALSE) -> √ | H20: =VLOOKUP($C20, 'All Courses'!$B$3:$T$118, 6, FALSE) -> 0 | I20: =VLOOKUP($C20, 'All Courses'!$B$3:$T$118, 7, FALSE) -> 0 | J20: =VLOOKUP($C20, 'All Courses'!$B$3:$T$118, 8, FALSE) -> √ | K20: =VLOOKUP($C20, 'All Courses'!$B$3:$T$118, 9, FALSE) -> 0 | L20: =VLOOKUP($C20, 'All Courses'!$B$3:$T$118, 10, FALSE) -> 0 | M20: =VLOOKUP($C20, 'All Courses'!$B$3:$T$118, 11, FALSE) -> √ | N20: =VLOOKUP($C20, 'All Courses'!$B$3:$T$118, 12, FALSE) -> 0 | O20: =VLOOKUP($C20, 'All Courses'!$B$3:$T$118, 13, FALSE) -> 0 | P20: =VLOOKUP($C20, 'All Courses'!$B$3:$T$118, 14, FALSE) -> √ | Q20: =VLOOKUP($C20, 'All Courses'!$B$3:$T$118, 15, FALSE) -> 0 | R20: =VLOOKUP($C20, 'All Courses'!$B$3:$T$118, 16, FALSE) -> 0 | S20: =VLOOKUP($C20, 'All Courses'!$B$3:$T$118, 17, FALSE) -> √ | T20: =VLOOKUP($C20, 'All Courses'!$B$3:$T$118, 18, FALSE) -> 0 | U20: =VLOOKUP($C20, 'All Courses'!$B$3:$T$118, 19, FALSE) -> 0
A21: 15 | B21: Elective | C21: SOSC A121C | D21: =VLOOKUP($C21, 'All Courses'!$B$3:$T$118, 2, FALSE) -> 社會科學基礎課程：心理學 | E21: =VLOOKUP($C21, 'All Courses'!$B$3:$T$118, 3, FALSE) -> 1 | F21: =VLOOKUP($C21, 'All Courses'!$B$3:$T$118, 4, FALSE) -> 5 | G21: =VLOOKUP($C21, 'All Courses'!$B$3:$T$118, 5, FALSE) | H21: =VLOOKUP($C21, 'All Courses'!$B$3:$T$118, 6, FALSE) -> √ | I21: =VLOOKUP($C21, 'All Courses'!$B$3:$T$118, 7, FALSE) -> 0 | J21: =VLOOKUP($C21, 'All Courses'!$B$3:$T$118, 8, FALSE) -> 0 | K21: =VLOOKUP($C21, 'All Courses'!$B$3:$T$118, 9, FALSE) -> √ | L21: =VLOOKUP($C21, 'All Courses'!$B$3:$T$118, 10, FALSE) -> 0 | M21: =VLOOKUP($C21, 'All Courses'!$B$3:$T$118, 11, FALSE) -> 0 | N21: =VLOOKUP($C21, 'All Courses'!$B$3:$T$118, 12, FALSE) -> √ | O21: =VLOOKUP($C21, 'All Courses'!$B$3:$T$118, 13, FALSE) -> 0 | P21: =VLOOKUP($C21, 'All Courses'!$B$3:$T$118, 14, FALSE) -> 0 | Q21: =VLOOKUP($C21, 'All Courses'!$B$3:$T$118, 15, FALSE) -> √ | R21: =VLOOKUP($C21, 'All Courses'!$B$3:$T$118, 16, FALSE) -> 0 | S21: =VLOOKUP($C21, 'All Courses'!$B$3:$T$118, 17, FALSE) -> 0 | T21: =VLOOKUP($C21, 'All Courses'!$B$3:$T$118, 18, FALSE) -> √ | U21: =VLOOKUP($C21, 'All Courses'!$B$3:$T$118, 19, FALSE) -> 0
A22: 16 | B22: Elective | C22: SOSC A122C | D22: =VLOOKUP($C22, 'All Courses'!$B$3:$T$118, 2, FALSE) -> 社會科學基礎課程：社會學 | E22: =VLOOKUP($C22, 'All Courses'!$B$3:$T$118, 3, FALSE) -> 1 | F22: =VLOOKUP($C22, 'All Courses'!$B$3:$T$118, 4, FALSE) -> 5 | G22: =VLOOKUP($C22, 'All Courses'!$B$3:$T$118, 5, FALSE) -> √ | H22: =VLOOKUP($C22, 'All Courses'!$B$3:$T$118, 6, FALSE) -> 0 | I22: =VLOOKUP($C22, 'All Courses'!$B$3:$T$118, 7, FALSE) -> 0 | J22: =VLOOKUP($C22, 'All Courses'!$B$3:$T$118, 8, FALSE) -> √ | K22: =VLOOKUP($C22, 'All Courses'!$B$3:$T$118, 9, FALSE) -> 0 | L22: =VLOOKUP($C22, 'All Courses'!$B$3:$T$118, 10, FALSE) -> 0 | M22: =VLOOKUP($C22, 'All Courses'!$B$3:$T$118, 11, FALSE) -> √ | N22: =VLOOKUP($C22, 'All Courses'!$B$3:$T$118, 12, FALSE) -> 0 | O22: =VLOOKUP($C22, 'All Courses'!$B$3:$T$118, 13, FALSE) -> 0 | P22: =VLOOKUP($C22, 'All Courses'!$B$3:$T$118, 14, FALSE) -> √ | Q22: =VLOOKUP($C22, 'All Courses'!$B$3:$T$118, 15, FALSE) -> 0 | R22: =VLOOKUP($C22, 'All Courses'!$B$3:$T$118, 16, FALSE) -> 0 | S22: =VLOOKUP($C22, 'All Courses'!$B$3:$T$118, 17, FALSE) -> √ | T22: =VLOOKUP($C22, 'All Courses'!$B$3:$T$118, 18, FALSE) -> 0 | U22: =VLOOKUP($C22, 'All Courses'!$B$3:$T$118, 19, FALSE) -> 0
A23: 17 | B23: Elective | C23: BUS B273 | D23: Quantitative Analysis for Business | E23: 2 | F23: 10 | G23: =VLOOKUP($C23, 'All Courses'!$B$3:$T$118, 5, FALSE) -> √ | H23: =VLOOKUP($C23, 'All Courses'!$B$3:$T$118, 6, FALSE) -> 0 | I23: =VLOOKUP($C23, 'All Courses'!$B$3:$T$118, 7, FALSE) -> 0 | J23: =VLOOKUP($C23, 'All Courses'!$B$3:$T$118, 8, FALSE) -> √ | K23: =VLOOKUP($C23, 'All Courses'!$B$3:$T$118, 9, FALSE) -> 0 | L23: =VLOOKUP($C23, 'All Courses'!$B$3:$T$118, 10, FALSE) -> 0 | M23: =VLOOKUP($C23, 'All Courses'!$B$3:$T$118, 11, FALSE) -> √ | N23: =VLOOKUP($C23, 'All Courses'!$B$3:$T$118, 12, FALSE) -> 0 | O23: =VLOOKUP($C23, 'All Courses'!$B$3:$T$118, 13, FALSE) -> 0 | P23: =VLOOKUP($C23, 'All Courses'!$B$3:$T$118, 14, FALSE) -> √ | Q23: =VLOOKUP($C23, 'All Courses'!$B$3:$T$118, 15, FALSE) -> 0 | R23: =VLOOKUP($C23, 'All Courses'!$B$3:$T$118, 16, FALSE) -> 0 | S23: =VLOOKUP($C23, 'All Courses'!$B$3:$T$118, 17, FALSE) -> √ | T23: =VLOOKUP($C23, 'All Courses'!$B$3:$T$118, 18, FALSE) -> 0 | U23: =VLOOKUP($C23, 'All Courses'!$B$3:$T$118, 19, FALSE) -> 0
A24: 18 | B24: Elective | C24: ECON A231 | D24: =VLOOKUP($C24, 'All Courses'!$B$3:$T$118, 2, FALSE) -> Introduction to Microeconomics | E24: =VLOOKUP($C24, 'All Courses'!$B$3:$T$118, 3, FALSE) -> 1 | F24: =VLOOKUP($C24, 'All Courses'!$B$3:$T$118, 4, FALSE) -> 5 | G24: =VLOOKUP($C24, 'All Courses'!$B$3:$T$118, 5, FALSE) | H24: =VLOOKUP($C24, 'All Courses'!$B$3:$T$118, 6, FALSE) -> √ | I24: =VLOOKUP($C24, 'All Courses'!$B$3:$T$118, 7, FALSE) -> 0 | J24: =VLOOKUP($C24, 'All Courses'!$B$3:$T$118, 8, FALSE) -> 0 | K24: =VLOOKUP($C24, 'All Courses'!$B$3:$T$118, 9, FALSE) -> √ | L24: =VLOOKUP($C24, 'All Courses'!$B$3:$T$118, 10, FALSE) -> 0 | M24: =VLOOKUP($C24, 'All Courses'!$B$3:$T$118, 11, FALSE) -> 0 | N24: =VLOOKUP($C24, 'All Courses'!$B$3:$T$118, 12, FALSE) -> √ | O24: =VLOOKUP($C24, 'All Courses'!$B$3:$T$118, 13, FALSE) -> 0 | P24: =VLOOKUP($C24, 'All Courses'!$B$3:$T$118, 14, FALSE) -> 0 | Q24: =VLOOKUP($C24, 'All Courses'!$B$3:$T$118, 15, FALSE) -> √ | R24: =VLOOKUP($C24, 'All Courses'!$B$3:$T$118, 16, FALSE) -> 0 | S24: =VLOOKUP($C24, 'All Courses'!$B$3:$T$118, 17, FALSE) -> 0 | T24: =VLOOKUP($C24, 'All Courses'!$B$3:$T$118, 18, FALSE) -> √ | U24: =VLOOKUP($C24, 'All Courses'!$B$3:$T$118, 19, FALSE) -> 0
A25: 19 | B25: Elective | C25: ECON A231C | D25: =VLOOKUP($C25, 'All Courses'!$B$3:$T$118, 2, FALSE) -> 微觀經濟學導論 | E25: =VLOOKUP($C25, 'All Courses'!$B$3:$T$118, 3, FALSE) -> 1 | F25: =VLOOKUP($C25, 'All Courses'!$B$3:$T$118, 4, FALSE) -> 5 | G25: =VLOOKUP($C25, 'All Courses'!$B$3:$T$118, 5, FALSE) -> √ | H25: =VLOOKUP($C25, 'All Courses'!$B$3:$T$118, 6, FALSE) -> 0 | I25: =VLOOKUP($C25, 'All Courses'!$B$3:$T$118, 7, FALSE) -> 0 | J25: =VLOOKUP($C25, 'All Courses'!$B$3:$T$118, 8, FALSE) -> √ | K25: =VLOOKUP($C25, 'All Courses'!$B$3:$T$118, 9, FALSE) -> 0 | L25: =VLOOKUP($C25, 'All Courses'!$B$3:$T$118, 10, FALSE) -> 0 | M25: =VLOOKUP($C25, 'All Courses'!$B$3:$T$118, 11, FALSE) -> √ | N25: =VLOOKUP($C25, 'All Courses'!$B$3:$T$118, 12, FALSE) -> 0 | O25: =VLOOKUP($C25, 'All Courses'!$B$3:$T$118, 13, FALSE) -> 0 | P25: =VLOOKUP($C25, 'All Courses'!$B$3:$T$118, 14, FALSE) -> √ | Q25: =VLOOKUP($C25, 'All Courses'!$B$3:$T$118, 15, FALSE) -> 0 | R25: =VLOOKUP($C25, 'All Courses'!$B$3:$T$118, 16, FALSE) -> 0 | S25: =VLOOKUP($C25, 'All Courses'!$B$3:$T$118, 17, FALSE) -> √ | T25: =VLOOKUP($C25, 'All Courses'!$B$3:$T$118, 18, FALSE) -> 0 | U25: =VLOOKUP($C25, 'All Courses'!$B$3:$T$118, 19, FALSE) -> 0
A26: 20 | B26: Elective | C26: ECON A232 | D26: =VLOOKUP($C26, 'All Courses'!$B$3:$T$118, 2, FALSE) -> Introduction to Macroeconomics | E26: =VLOOKUP($C26, 'All Courses'!$B$3:$T$118, 3, FALSE) -> 1 | F26: =VLOOKUP($C26, 'All Courses'!$B$3:$T$118, 4, FALSE) -> 5 | G26: =VLOOKUP($C26, 'All Courses'!$B$3:$T$118, 5, FALSE) -> √ | H26: =VLOOKUP($C26, 'All Courses'!$B$3:$T$118, 6, FALSE) -> 0 | I26: =VLOOKUP($C26, 'All Courses'!$B$3:$T$118, 7, FALSE) -> 0 | J26: =VLOOKUP($C26, 'All Courses'!$B$3:$T$118, 8, FALSE) -> √ | K26: =VLOOKUP($C26, 'All Courses'!$B$3:$T$118, 9, FALSE) -> 0 | L26: =VLOOKUP($C26, 'All Courses'!$B$3:$T$118, 10, FALSE) -> 0 | M26: =VLOOKUP($C26, 'All Courses'!$B$3:$T$118, 11, FALSE) -> √ | N26: =VLOOKUP($C26, 'All Courses'!$B$3:$T$118, 12, FALSE) -> 0 | O26: =VLOOKUP($C26, 'All Courses'!$B$3:$T$118, 13, FALSE) -> 0 | P26: =VLOOKUP($C26, 'All Courses'!$B$3:$T$118, 14, FALSE) -> √ | Q26: =VLOOKUP($C26, 'All Courses'!$B$3:$T$118, 15, FALSE) -> 0 | R26: =VLOOKUP($C26, 'All Courses'!$B$3:$T$118, 16, FALSE) -> 0 | S26: =VLOOKUP($C26, 'All Courses'!$B$3:$T$118, 17, FALSE) -> √ | T26: =VLOOKUP($C26, 'All Courses'!$B$3:$T$118, 18, FALSE) -> 0 | U26: =VLOOKUP($C26, 'All Courses'!$B$3:$T$118, 19, FALSE) -> 0
A27: 21 | B27: Elective | C27: ECON A232C | D27: =VLOOKUP($C27, 'All Courses'!$B$3:$T$118, 2, FALSE) -> 宏觀經濟學導論 | E27: =VLOOKUP($C27, 'All Courses'!$B$3:$T$118, 3, FALSE) -> 1 | F27: =VLOOKUP($C27, 'All Courses'!$B$3:$T$118, 4, FALSE) -> 5 | G27: =VLOOKUP($C27, 'All Courses'!$B$3:$T$118, 5, FALSE) | H27: =VLOOKUP($C27, 'All Courses'!$B$3:$T$118, 6, FALSE) -> √ | I27: =VLOOKUP($C27, 'All Courses'!$B$3:$T$118, 7, FALSE) -> 0 | J27: =VLOOKUP($C27, 'All Courses'!$B$3:$T$118, 8, FALSE) -> 0 | K27: =VLOOKUP($C27, 'All Courses'!$B$3:$T$118, 9, FALSE) -> √ | L27: =VLOOKUP($C27, 'All Courses'!$B$3:$T$118, 10, FALSE) -> 0 | M27: =VLOOKUP($C27, 'All Courses'!$B$3:$T$118, 11, FALSE) -> 0 | N27: =VLOOKUP($C27, 'All Courses'!$B$3:$T$118, 12, FALSE) -> √ | O27: =VLOOKUP($C27, 'All Courses'!$B$3:$T$118, 13, FALSE) -> 0 | P27: =VLOOKUP($C27, 'All Courses'!$B$3:$T$118, 14, FALSE) -> 0 | Q27: =VLOOKUP($C27, 'All Courses'!$B$3:$T$118, 15, FALSE) -> √ | R27: =VLOOKUP($C27, 'All Courses'!$B$3:$T$118, 16, FALSE) -> 0 | S27: =VLOOKUP($C27, 'All Courses'!$B$3:$T$118, 17, FALSE) -> 0 | T27: =VLOOKUP($C27, 'All Courses'!$B$3:$T$118, 18, FALSE) -> √ | U27: =VLOOKUP($C27, 'All Courses'!$B$3:$T$118, 19, FALSE) -> 0
A28: 22 | B28: Elective | C28: MGT B240 | D28: Principles and Practices of Management | E28: 1 | F28: 5 | G28: =VLOOKUP($C28, 'All Courses'!$B$3:$T$118, 5, FALSE) -> √ | H28: =VLOOKUP($C28, 'All Courses'!$B$3:$T$118, 6, FALSE) -> √ | I28: =VLOOKUP($C28, 'All Courses'!$B$3:$T$118, 7, FALSE) -> 0 | J28: =VLOOKUP($C28, 'All Courses'!$B$3:$T$118, 8, FALSE) -> √ | K28: =VLOOKUP($C28, 'All Courses'!$B$3:$T$118, 9, FALSE) -> √ | L28: =VLOOKUP($C28, 'All Courses'!$B$3:$T$118, 10, FALSE) -> 0 | M28: =VLOOKUP($C28, 'All Courses'!$B$3:$T$118, 11, FALSE) -> √ | N28: =VLOOKUP($C28, 'All Courses'!$B$3:$T$118, 12, FALSE) -> √ | O28: =VLOOKUP($C28, 'All Courses'!$B$3:$T$118, 13, FALSE) -> 0 | P28: =VLOOKUP($C28, 'All Courses'!$B$3:$T$118, 14, FALSE) -> 0 | Q28: =VLOOKUP($C28, 'All Courses'!$B$3:$T$118, 15, FALSE) -> √ | R28: =VLOOKUP($C28, 'All Courses'!$B$3:$T$118, 16, FALSE) -> 0 | S28: =VLOOKUP($C28, 'All Courses'!$B$3:$T$118, 17, FALSE) -> 0 | T28: =VLOOKUP($C28, 'All Courses'!$B$3:$T$118, 18, FALSE) -> √ | U28: =VLOOKUP($C28, 'All Courses'!$B$3:$T$118, 19, FALSE) -> 0
A29: 23 | B29: Elective | C29: POLS A201 | D29: =VLOOKUP($C29, 'All Courses'!$B$3:$T$118, 2, FALSE) -> Introduction to Political Science | E29: =VLOOKUP($C29, 'All Courses'!$B$3:$T$118, 3, FALSE) -> 2 | F29: =VLOOKUP($C29, 'All Courses'!$B$3:$T$118, 4, FALSE) -> 10 | G29: =VLOOKUP($C29, 'All Courses'!$B$3:$T$118, 5, FALSE) -> √ | H29: =VLOOKUP($C29, 'All Courses'!$B$3:$T$118, 6, FALSE) -> 0 | I29: =VLOOKUP($C29, 'All Courses'!$B$3:$T$118, 7, FALSE) -> 0 | J29: =VLOOKUP($C29, 'All Courses'!$B$3:$T$118, 8, FALSE) -> 0 | K29: =VLOOKUP($C29, 'All Courses'!$B$3:$T$118, 9, FALSE) -> √ | L29: =VLOOKUP($C29, 'All Courses'!$B$3:$T$118, 10, FALSE) -> 0 | M29: =VLOOKUP($C29, 'All Courses'!$B$3:$T$118, 11, FALSE) -> 0 | N29: =VLOOKUP($C29, 'All Courses'!$B$3:$T$118, 12, FALSE) -> 0 | O29: =VLOOKUP($C29, 'All Courses'!$B$3:$T$118, 13, FALSE) -> 0 | P29: =VLOOKUP($C29, 'All Courses'!$B$3:$T$118, 14, FALSE) -> √ | Q29: =VLOOKUP($C29, 'All Courses'!$B$3:$T$118, 15, FALSE) -> 0 | R29: =VLOOKUP($C29, 'All Courses'!$B$3:$T$118, 16, FALSE) -> 0 | S29: =VLOOKUP($C29, 'All Courses'!$B$3:$T$118, 17, FALSE) -> 0 | T29: =VLOOKUP($C29, 'All Courses'!$B$3:$T$118, 18, FALSE) -> 0 | U29: =VLOOKUP($C29, 'All Courses'!$B$3:$T$118, 19, FALSE) -> 0
A30: 24 | B30: Elective | C30: POLS A201C | D30: =VLOOKUP($C30, 'All Courses'!$B$3:$T$118, 2, FALSE) -> 政治學導論 | E30: =VLOOKUP($C30, 'All Courses'!$B$3:$T$118, 3, FALSE) -> 2 | F30: =VLOOKUP($C30, 'All Courses'!$B$3:$T$118, 4, FALSE) -> 10 | G30: =VLOOKUP($C30, 'All Courses'!$B$3:$T$118, 5, FALSE) | H30: =VLOOKUP($C30, 'All Courses'!$B$3:$T$118, 6, FALSE) -> √ | I30: =VLOOKUP($C30, 'All Courses'!$B$3:$T$118, 7, FALSE) -> 0 | J30: =VLOOKUP($C30, 'All Courses'!$B$3:$T$118, 8, FALSE) -> 0 | K30: =VLOOKUP($C30, 'All Courses'!$B$3:$T$118, 9, FALSE) -> 0 | L30: =VLOOKUP($C30, 'All Courses'!$B$3:$T$118, 10, FALSE) -> 0 | M30: =VLOOKUP($C30, 'All Courses'!$B$3:$T$118, 11, FALSE) -> √ | N30: =VLOOKUP($C30, 'All Courses'!$B$3:$T$118, 12, FALSE) -> 0 | O30: =VLOOKUP($C30, 'All Courses'!$B$3:$T$118, 13, FALSE) -> 0 | P30: =VLOOKUP($C30, 'All Courses'!$B$3:$T$118, 14, FALSE) -> 0 | Q30: =VLOOKUP($C30, 'All Courses'!$B$3:$T$118, 15, FALSE) -> √ | R30: =VLOOKUP($C30, 'All Courses'!$B$3:$T$118, 16, FALSE) -> 0 | S30: =VLOOKUP($C30, 'All Courses'!$B$3:$T$118, 17, FALSE) -> 0 | T30: =VLOOKUP($C30, 'All Courses'!$B$3:$T$118, 18, FALSE) -> 0 | U30: =VLOOKUP($C30, 'All Courses'!$B$3:$T$118, 19, FALSE) -> 0
A31: 25 | B31: Elective | C31: POLS A211 | D31: =VLOOKUP($C31, 'All Courses'!$B$3:$T$118, 2, FALSE) -> Government and Politics of Hong Kong | E31: =VLOOKUP($C31, 'All Courses'!$B$3:$T$118, 3, FALSE) -> 2 | F31: =VLOOKUP($C31, 'All Courses'!$B$3:$T$118, 4, FALSE) -> 10 | G31: =VLOOKUP($C31, 'All Courses'!$B$3:$T$118, 5, FALSE) | H31: =VLOOKUP($C31, 'All Courses'!$B$3:$T$118, 6, FALSE) -> √ | I31: =VLOOKUP($C31, 'All Courses'!$B$3:$T$118, 7, FALSE) -> 0 | J31: =VLOOKUP($C31, 'All Courses'!$B$3:$T$118, 8, FALSE) -> 0 | K31: =VLOOKUP($C31, 'All Courses'!$B$3:$T$118, 9, FALSE) -> 0 | L31: =VLOOKUP($C31, 'All Courses'!$B$3:$T$118, 10, FALSE) -> 0 | M31: =VLOOKUP($C31, 'All Courses'!$B$3:$T$118, 11, FALSE) -> √ | N31: =VLOOKUP($C31, 'All Courses'!$B$3:$T$118, 12, FALSE) -> 0 | O31: =VLOOKUP($C31, 'All Courses'!$B$3:$T$118, 13, FALSE) -> 0 | P31: =VLOOKUP($C31, 'All Courses'!$B$3:$T$118, 14, FALSE) -> 0 | Q31: =VLOOKUP($C31, 'All Courses'!$B$3:$T$118, 15, FALSE) -> √ | R31: =VLOOKUP($C31, 'All Courses'!$B$3:$T$118, 16, FALSE) -> 0 | S31: =VLOOKUP($C31, 'All Courses'!$B$3:$T$118, 17, FALSE) -> 0 | T31: =VLOOKUP($C31, 'All Courses'!$B$3:$T$118, 18, FALSE) -> 0 | U31: =VLOOKUP($C31, 'All Courses'!$B$3:$T$118, 19, FALSE) -> 0
A32: 26 | B32: Elective | C32: POLS A211C | D32: =VLOOKUP($C32, 'All Courses'!$B$3:$T$118, 2, FALSE) -> 香港政府及政治 | E32: =VLOOKUP($C32, 'All Courses'!$B$3:$T$118, 3, FALSE) -> 2 | F32: =VLOOKUP($C32, 'All Courses'!$B$3:$T$118, 4, FALSE) -> 10 | G32: =VLOOKUP($C32, 'All Courses'!$B$3:$T$118, 5, FALSE) | H32: =VLOOKUP($C32, 'All Courses'!$B$3:$T$118, 6, FALSE) -> 0 | I32: =VLOOKUP($C32, 'All Courses'!$B$3:$T$118, 7, FALSE) -> 0 | J32: =VLOOKUP($C32, 'All Courses'!$B$3:$T$118, 8, FALSE) -> √ | K32: =VLOOKUP($C32, 'All Courses'!$B$3:$T$118, 9, FALSE) -> 0 | L32: =VLOOKUP($C32, 'All Courses'!$B$3:$T$118, 10, FALSE) -> 0 | M32: =VLOOKUP($C32, 'All Courses'!$B$3:$T$118, 11, FALSE) -> 0 | N32: =VLOOKUP($C32, 'All Courses'!$B$3:$T$118, 12, FALSE) -> √ | O32: =VLOOKUP($C32, 'All Courses'!$B$3:$T$118, 13, FALSE) -> 0 | P32: =VLOOKUP($C32, 'All Courses'!$B$3:$T$118, 14, FALSE) -> 0 | Q32: =VLOOKUP($C32, 'All Courses'!$B$3:$T$118, 15, FALSE) -> 0 | R32: =VLOOKUP($C32, 'All Courses'!$B$3:$T$118, 16, FALSE) -> 0 | S32: =VLOOKUP($C32, 'All Courses'!$B$3:$T$118, 17, FALSE) -> √ | T32: =VLOOKUP($C32, 'All Courses'!$B$3:$T$118, 18, FALSE) -> 0 | U32: =VLOOKUP($C32, 'All Courses'!$B$3:$T$118, 19, FALSE) -> 0
A33: 27 | B33: Elective | C33: PUAD A202 | D33: =VLOOKUP($C33, 'All Courses'!$B$3:$T$118, 2, FALSE) -> Introduction to Public Administration | E33: =VLOOKUP($C33, 'All Courses'!$B$3:$T$118, 3, FALSE) -> 1 | F33: =VLOOKUP($C33, 'All Courses'!$B$3:$T$118, 4, FALSE) -> 5 | G33: =VLOOKUP($C33, 'All Courses'!$B$3:$T$118, 5, FALSE) | H33: =VLOOKUP($C33, 'All Courses'!$B$3:$T$118, 6, FALSE) -> √ | I33: =VLOOKUP($C33, 'All Courses'!$B$3:$T$118, 7, FALSE) -> 0 | J33: =VLOOKUP($C33, 'All Courses'!$B$3:$T$118, 8, FALSE) -> 0 | K33: =VLOOKUP($C33, 'All Courses'!$B$3:$T$118, 9, FALSE) -> √ | L33: =VLOOKUP($C33, 'All Courses'!$B$3:$T$118, 10, FALSE) -> 0 | M33: =VLOOKUP($C33, 'All Courses'!$B$3:$T$118, 11, FALSE) -> 0 | N33: =VLOOKUP($C33, 'All Courses'!$B$3:$T$118, 12, FALSE) -> √ | O33: =VLOOKUP($C33, 'All Courses'!$B$3:$T$118, 13, FALSE) -> 0 | P33: =VLOOKUP($C33, 'All Courses'!$B$3:$T$118, 14, FALSE) -> 0 | Q33: =VLOOKUP($C33, 'All Courses'!$B$3:$T$118, 15, FALSE) -> √ | R33: =VLOOKUP($C33, 'All Courses'!$B$3:$T$118, 16, FALSE) -> 0 | S33: =VLOOKUP($C33, 'All Courses'!$B$3:$T$118, 17, FALSE) -> 0 | T33: =VLOOKUP($C33, 'All Courses'!$B$3:$T$118, 18, FALSE) -> √ | U33: =VLOOKUP($C33, 'All Courses'!$B$3:$T$118, 19, FALSE) -> 0
A34: 28 | B34: Elective | C34: PUAD A203 | D34: =VLOOKUP($C34, 'All Courses'!$B$3:$T$118, 2, FALSE) -> Introduction to Public Policy | E34: =VLOOKUP($C34, 'All Courses'!$B$3:$T$118, 3, FALSE) -> 1 | F34: =VLOOKUP($C34, 'All Courses'!$B$3:$T$118, 4, FALSE) -> 5 | G34: =VLOOKUP($C34, 'All Courses'!$B$3:$T$118, 5, FALSE) -> √ | H34: =VLOOKUP($C34, 'All Courses'!$B$3:$T$118, 6, FALSE) -> 0 | I34: =VLOOKUP($C34, 'All Courses'!$B$3:$T$118, 7, FALSE) -> 0 | J34: =VLOOKUP($C34, 'All Courses'!$B$3:$T$118, 8, FALSE) -> √ | K34: =VLOOKUP($C34, 'All Courses'!$B$3:$T$118, 9, FALSE) -> 0 | L34: =VLOOKUP($C34, 'All Courses'!$B$3:$T$118, 10, FALSE) -> 0 | M34: =VLOOKUP($C34, 'All Courses'!$B$3:$T$118, 11, FALSE) -> √ | N34: =VLOOKUP($C34, 'All Courses'!$B$3:$T$118, 12, FALSE) -> 0 | O34: =VLOOKUP($C34, 'All Courses'!$B$3:$T$118, 13, FALSE) -> 0 | P34: =VLOOKUP($C34, 'All Courses'!$B$3:$T$118, 14, FALSE) -> √ | Q34: =VLOOKUP($C34, 'All Courses'!$B$3:$T$118, 15, FALSE) -> 0 | R34: =VLOOKUP($C34, 'All Courses'!$B$3:$T$118, 16, FALSE) -> 0 | S34: =VLOOKUP($C34, 'All Courses'!$B$3:$T$118, 17, FALSE) -> √ | T34: =VLOOKUP($C34, 'All Courses'!$B$3:$T$118, 18, FALSE) -> 0 | U34: =VLOOKUP($C34, 'All Courses'!$B$3:$T$118, 19, FALSE) -> 0
A35: 29 | B35: Elective | C35: SOCI A202 | D35: =VLOOKUP($C35, 'All Courses'!$B$3:$T$118, 2, FALSE) -> Hong Kong Society | E35: =VLOOKUP($C35, 'All Courses'!$B$3:$T$118, 3, FALSE) -> 2 | F35: =VLOOKUP($C35, 'All Courses'!$B$3:$T$118, 4, FALSE) -> 10 | G35: =VLOOKUP($C35, 'All Courses'!$B$3:$T$118, 5, FALSE) | H35: =VLOOKUP($C35, 'All Courses'!$B$3:$T$118, 6, FALSE) -> √ | I35: =VLOOKUP($C35, 'All Courses'!$B$3:$T$118, 7, FALSE) -> 0 | J35: =VLOOKUP($C35, 'All Courses'!$B$3:$T$118, 8, FALSE) -> 0 | K35: =VLOOKUP($C35, 'All Courses'!$B$3:$T$118, 9, FALSE) -> 0 | L35: =VLOOKUP($C35, 'All Courses'!$B$3:$T$118, 10, FALSE) -> 0 | M35: =VLOOKUP($C35, 'All Courses'!$B$3:$T$118, 11, FALSE) -> 0 | N35: =VLOOKUP($C35, 'All Courses'!$B$3:$T$118, 12, FALSE) -> √ | O35: =VLOOKUP($C35, 'All Courses'!$B$3:$T$118, 13, FALSE) -> 0 | P35: =VLOOKUP($C35, 'All Courses'!$B$3:$T$118, 14, FALSE) -> 0 | Q35: =VLOOKUP($C35, 'All Courses'!$B$3:$T$118, 15, FALSE) -> 0 | R35: =VLOOKUP($C35, 'All Courses'!$B$3:$T$118, 16, FALSE) -> 0 | S35: =VLOOKUP($C35, 'All Courses'!$B$3:$T$118, 17, FALSE) -> 0 | T35: =VLOOKUP($C35, 'All Courses'!$B$3:$T$118, 18, FALSE) -> 0 | U35: =VLOOKUP($C35, 'All Courses'!$B$3:$T$118, 19, FALSE) -> 0
A36: 30 | B36: Elective | C36: SOCI A202C | D36: =VLOOKUP($C36, 'All Courses'!$B$3:$T$118, 2, FALSE) -> 香港社會 | E36: =VLOOKUP($C36, 'All Courses'!$B$3:$T$118, 3, FALSE) -> 2 | F36: =VLOOKUP($C36, 'All Courses'!$B$3:$T$118, 4, FALSE) -> 10 | G36: =VLOOKUP($C36, 'All Courses'!$B$3:$T$118, 5, FALSE) | H36: =VLOOKUP($C36, 'All Courses'!$B$3:$T$118, 6, FALSE) -> 0 | I36: =VLOOKUP($C36, 'All Courses'!$B$3:$T$118, 7, FALSE) -> 0 | J36: =VLOOKUP($C36, 'All Courses'!$B$3:$T$118, 8, FALSE) -> 0 | K36: =VLOOKUP($C36, 'All Courses'!$B$3:$T$118, 9, FALSE) -> √ | L36: =VLOOKUP($C36, 'All Courses'!$B$3:$T$118, 10, FALSE) -> 0 | M36: =VLOOKUP($C36, 'All Courses'!$B$3:$T$118, 11, FALSE) -> 0 | N36: =VLOOKUP($C36, 'All Courses'!$B$3:$T$118, 12, FALSE) -> 0 | O36: =VLOOKUP($C36, 'All Courses'!$B$3:$T$118, 13, FALSE) -> 0 | P36: =VLOOKUP($C36, 'All Courses'!$B$3:$T$118, 14, FALSE) -> 0 | Q36: =VLOOKUP($C36, 'All Courses'!$B$3:$T$118, 15, FALSE) -> √ | R36: =VLOOKUP($C36, 'All Courses'!$B$3:$T$118, 16, FALSE) -> 0 | S36: =VLOOKUP($C36, 'All Courses'!$B$3:$T$118, 17, FALSE) -> 0 | T36: =VLOOKUP($C36, 'All Courses'!$B$3:$T$118, 18, FALSE) -> 0 | U36: =VLOOKUP($C36, 'All Courses'!$B$3:$T$118, 19, FALSE) -> 0
A37: 31 | B37: Elective | C37: PUAD A301 | D37: Public Sector Management in Hong Kong | E37: 2 | F37: 10 | G37: =VLOOKUP($C37, 'All Courses'!$B$3:$T$118, 5, FALSE) -> √ | H37: =VLOOKUP($C37, 'All Courses'!$B$3:$T$118, 6, FALSE) -> 0 | I37: =VLOOKUP($C37, 'All Courses'!$B$3:$T$118, 7, FALSE) -> 0 | J37: =VLOOKUP($C37, 'All Courses'!$B$3:$T$118, 8, FALSE) -> √ | K37: =VLOOKUP($C37, 'All Courses'!$B$3:$T$118, 9, FALSE) -> 0 | L37: =VLOOKUP($C37, 'All Courses'!$B$3:$T$118, 10, FALSE) -> 0 | M37: =VLOOKUP($C37, 'All Courses'!$B$3:$T$118, 11, FALSE) -> √ | N37: =VLOOKUP($C37, 'All Courses'!$B$3:$T$118, 12, FALSE) -> 0 | O37: =VLOOKUP($C37, 'All Courses'!$B$3:$T$118, 13, FALSE) -> 0 | P37: =VLOOKUP($C37, 'All Courses'!$B$3:$T$118, 14, FALSE) -> √ | Q37: =VLOOKUP($C37, 'All Courses'!$B$3:$T$118, 15, FALSE) -> 0 | R37: =VLOOKUP($C37, 'All Courses'!$B$3:$T$118, 16, FALSE) -> 0 | S37: =VLOOKUP($C37, 'All Courses'!$B$3:$T$118, 17, FALSE) -> √ | T37: =VLOOKUP($C37, 'All Courses'!$B$3:$T$118, 18, FALSE) -> 0 | U37: =VLOOKUP($C37, 'All Courses'!$B$3:$T$118, 19, FALSE) -> 0
A38: 32 | B38: Elective | C38: MGT B440 | D38: Strategic Management of Human Resources | E38: 2 | F38: 10 | G38: =VLOOKUP($C38, 'All Courses'!$B$3:$T$118, 5, FALSE) -> √ | H38: =VLOOKUP($C38, 'All Courses'!$B$3:$T$118, 6, FALSE) -> 0 | I38: =VLOOKUP($C38, 'All Courses'!$B$3:$T$118, 7, FALSE) -> 0 | J38: =VLOOKUP($C38, 'All Courses'!$B$3:$T$118, 8, FALSE) -> √ | K38: =VLOOKUP($C38, 'All Courses'!$B$3:$T$118, 9, FALSE) -> 0 | L38: =VLOOKUP($C38, 'All Courses'!$B$3:$T$118, 10, FALSE) -> 0 | M38: =VLOOKUP($C38, 'All Courses'!$B$3:$T$118, 11, FALSE) -> √ | N38: =VLOOKUP($C38, 'All Courses'!$B$3:$T$118, 12, FALSE) -> 0 | O38: =VLOOKUP($C38, 'All Courses'!$B$3:$T$118, 13, FALSE) -> 0 | P38: =VLOOKUP($C38, 'All Courses'!$B$3:$T$118, 14, FALSE) -> √ | Q38: =VLOOKUP($C38, 'All Courses'!$B$3:$T$118, 15, FALSE) -> 0 | R38: =VLOOKUP($C38, 'All Courses'!$B$3:$T$118, 16, FALSE) -> 0 | S38: =VLOOKUP($C38, 'All Courses'!$B$3:$T$118, 17, FALSE) -> √ | T38: =VLOOKUP($C38, 'All Courses'!$B$3:$T$118, 18, FALSE) -> 0 | U38: =VLOOKUP($C38, 'All Courses'!$B$3:$T$118, 19, FALSE) -> 0
A39: 33
A40: 34
B41: Note:
...

Sheet 學業規劃表
B1: Study Plan for Programme: Bachelor of Social Sciences in Law Enforcement and Security Management (Pathway 2)(BSSCLESM2)
B2: This programme is suitable for HKCC (with CLECMCF) and HKPC (with CLESMCF) graduates
B3: Graduates pursuing this programme must successfully complete at least 120 credits, including the 30 credits completed for the CLESMCF awarded by the OUHK under the partnership between the OUHK and the Hong Kong Police Force, or the CLECMCF awarded by OUHK under the partnership between OUHK and the Customs and Excise Department and the other 90 credits as follows. Of these 90 credits, not more than 10 credits can be obtained from courses in Chinese.
B4: Programme Regulations (https://www.hkmu.edu.hk/as/programmes-courses/distance-learning/bssclesm2/)
B5: Enter Completion/ Planned Enrolment Term below | C5: Recommended Year of study | D5: Offer Term | E5: Course Code | F5: Course Title | G5: Length in term(s) | H5: Credit | I5: Course Passed? | J5: Remarks | L5: Note: Columns with blue filled are to be completed by student
B6: Complete 20 credits of Complusory courses below
A7: 1 | C7: Year 1/2 | E7: LESM A201 | F7: =VLOOKUP($E7, 'All Courses'!$B$3:$E$118, 2, FALSE) -> Hong Kong Criminal Justice System | G7: =VLOOKUP($E7, 'All Courses'!$B$3:$E$118, 3, FALSE) -> 2 | H7: =VLOOKUP($E7, 'All Courses'!$B$3:$E$118, 4, FALSE) -> 10
A8: 2 | C8: Year 1/2 | E8: LESM A204 | F8: =VLOOKUP($E8, 'All Courses'!$B$3:$E$118, 2, FALSE) -> Security Practice and Management | G8: =VLOOKUP($E8, 'All Courses'!$B$3:$E$118, 3, FALSE) -> 2 | H8: =VLOOKUP($E8, 'All Courses'!$B$3:$E$118, 4, FALSE) -> 10
B9: Complete 20 credits from Foundation level courses below
A10: 3 | C10: Year 1 | E10: BIS B123 | F10: Business Computing Applications | G10: 1 | H10: 5
A11: 4 | C11: Year 1 | E11: CHIN A171C | F11: =VLOOKUP($E11, 'All Courses'!$B$3:$E$118, 2, FALSE) -> 應用文 | G11: =VLOOKUP($E11, 'All Courses'!$B$3:$E$118, 3, FALSE) -> 1 | H11: =VLOOKUP($E11, 'All Courses'!$B$3:$E$118, 4, FALSE) -> 5
A12: 5 | C12: Year 1 | E12: ENGL A101 | F12: =VLOOKUP($E12, 'All Courses'!$B$3:$E$118, 2, FALSE) -> University English Writing Skills | G12: =VLOOKUP($E12, 'All Courses'!$B$3:$E$118, 3, FALSE) -> 1 | H12: =VLOOKUP($E12, 'All Courses'!$B$3:$E$118, 4, FALSE) -> 5
A13: 6 | C13: Year 1 | E13: ENGL A122 | F13: =VLOOKUP($E13, 'All Courses'!$B$3:$E$118, 2, FALSE) -> Presentation Skills | G13: =VLOOKUP($E13, 'All Courses'!$B$3:$E$118, 3, FALSE) -> 1 | H13: =VLOOKUP($E13, 'All Courses'!$B$3:$E$118, 4, FALSE) -> 5
A14: 7 | C14: Year 1 | E14: MGT B160 | F14: Business Management Fundamentals | G14: 1 | H14: 5
A15: 8 | C15: Year 1 | E15: PTH E150C | F15: 基礎普通話 | G15: 1 | H15: 5
A16: 9 | C16: Year 1 | E16: SOSC A101 | F16: Social Sciences: A Foundation Course | G16: 2 | H16: 10 | J16: SOSC A101 forms an excluded combinations with SOSC A112C, SOSC A121C and SOSC A122C.
A17: 10 | C17: Year 1 | E17: SOSC A112C | F17: =VLOOKUP($E17, 'All Courses'!$B$3:$E$118, 2, FALSE) -> 社會科學基礎課程：經濟學與政治學 | G17: =VLOOKUP($E17, 'All Courses'!$B$3:$E$118, 3, FALSE) -> 2 | H17: =VLOOKUP($E17, 'All Courses'!$B$3:$E$118, 4, FALSE) -> 10
A18: 11 | C18: Year 1 | E18: SOSC A121C | F18: =VLOOKUP($E18, 'All Courses'!$B$3:$E$118, 2, FALSE) -> 社會科學基礎課程：心理學 | G18: =VLOOKUP($E18, 'All Courses'!$B$3:$E$118, 3, FALSE) -> 1 | H18: =VLOOKUP($E18, 'All Courses'!$B$3:$E$118, 4, FALSE) -> 5
A19: 12 | C19: Year 1 | E19: SOSC A122C | F19: =VLOOKUP($E19, 'All Courses'!$B$3:$E$118, 2, FALSE) -> 社會科學基礎課程：社會學 | G19: =VLOOKUP($E19, 'All Courses'!$B$3:$E$118, 3, FALSE) -> 1 | H19: =VLOOKUP($E19, 'All Courses'!$B$3:$E$118, 4, FALSE) -> 5
B20: Complete 20 credits from Middle level courses below
A21: 13 | C21: Year 1/2 | E21: BUS B237 | F21: Quantitative Analysis for Business | G21: 2 | H21: 10
A22: 14 | C22: Year 1/2 | E22: ECON A231 | F22: =VLOOKUP($E22, 'All Courses'!$B$3:$E$118, 2, FALSE) -> Introduction to Microeconomics | G22: =VLOOKUP($E22, 'All Courses'!$B$3:$E$118, 3, FALSE) -> 1 | H22: =VLOOKUP($E22, 'All Courses'!$B$3:$E$118, 4, FALSE) -> 5 | J22: Student can choose either ECON A231 or ECON A231C.
A23: 15 | C23: Year 1/2 | E23: ECON A231C | F23: =VLOOKUP($E23, 'All Courses'!$B$3:$E$118, 2, FALSE) -> 微觀經濟學導論 | G23: =VLOOKUP($E23, 'All Courses'!$B$3:$E$118, 3, FALSE) -> 1 | H23: =VLOOKUP($E23, 'All Courses'!$B$3:$E$118, 4, FALSE) -> 5
A24: 16 | C24: Year 1/2 | E24: ECON A232 | F24: =VLOOKUP($E24, 'All Courses'!$B$3:$E$118, 2, FALSE) -> Introduction to Macroeconomics | G24: =VLOOKUP($E24, 'All Courses'!$B$3:$E$118, 3, FALSE) -> 1 | H24: =VLOOKUP($E24, 'All Courses'!$B$3:$E$118, 4, FALSE) -> 5 | J24: Student can choose either ECON A232 or ECON A232C.
A25: 17 | C25: Year 1/2 | E25: ECON A232C | F25: =VLOOKUP($E25, 'All Courses'!$B$3:$E$118, 2, FALSE) -> 宏觀經濟學導論 | G25: =VLOOKUP($E25, 'All Courses'!$B$3:$E$118, 3, FALSE) -> 1 | H25: =VLOOKUP($E25, 'All Courses'!$B$3:$E$118, 4, FALSE) -> 5
A26: 18 | C26: Year 1/2 | E26: MGT B240 | F26: Principles and Practices of Management | G26: 1 | H26: 5
A27: 19 | C27: Year 1/2 | E27: POLS A201 | F27: =VLOOKUP($E27, 'All Courses'!$B$3:$E$118, 2, FALSE) -> Introduction to Political Science | G27: =VLOOKUP($E27, 'All Courses'!$B$3:$E$118, 3, FALSE) -> 2 | H27: =VLOOKUP($E27, 'All Courses'!$B$3:$E$118, 4, FALSE) -> 10 | J27: Student can choose either POLS A201 or POLS A201C
A28: 20 | C28: Year 1/2 | E28: POLS A201C | F28: =VLOOKUP($E28, 'All Courses'!$B$3:$E$118, 2, FALSE) -> 政治學導論 | G28: =VLOOKUP($E28, 'All Courses'!$B$3:$E$118, 3, FALSE) -> 2 | H28: =VLOOKUP($E28, 'All Courses'!$B$3:$E$118, 4, FALSE) -> 10
A29: 21 | C29: Year 1/2 | E29: POLS A211 | F29: =VLOOKUP($E29, 'All Courses'!$B$3:$E$118, 2, FALSE) -> Government and Politics of Hong Kong | G29: =VLOOKUP($E29, 'All Courses'!$B$3:$E$118, 3, FALSE) -> 2 | H29: =VLOOKUP($E29, 'All Courses'!$B$3:$E$118, 4, FALSE) -> 10 | J29: Stdent can chse either POLS A211 or POLS A211C.
A30: 22 | C30: Year 1/2 | E30: POLS A211C | F30: =VLOOKUP($E30, 'All Courses'!$B$3:$E$118, 2, FALSE) -> 香港政府及政治 | G30: =VLOOKUP($E30, 'All Courses'!$B$3:$E$118, 3, FALSE) -> 2 | H30: =VLOOKUP($E30, 'All Courses'!$B$3:$E$118, 4, FALSE) -> 10
A31: 23 | C31: Year 1/2 | E31: PUAD A202 | F31: =VLOOKUP($E31, 'All Courses'!$B$3:$E$118, 2, FALSE) -> Introduction to Public Administration | G31: =VLOOKUP($E31, 'All Courses'!$B$3:$E$118, 3, FALSE) -> 1 | H31: =VLOOKUP($E31, 'All Courses'!$B$3:$E$118, 4, FALSE) -> 5 | J31: Students who have taken PUAD A201 are deemed to have completed PUAD A202 and PUAD A203.
C32: Year 1/2 | E32: PUAD A203 | F32: Introduction to Public Policy | G32: 1 | H32: 5 | J32: Students who have taken PUAD A201 are deemed to have completed PUAD A202 and PUAD A203.
C33: Year 1/2 | E33: SOCI A202 | F33: Hong Kong Society | G33: 2 | H33: 10 | J33: Student can choose either SOCI A202 or SOCI A202C.
C34: Year 1/2 | E34: SOCI A202C | F34: 香港社會 | G34: 2 | H34: 10
B35: 20 credits from the Higher level courses below
A36: 24 | C36: Year 2/3 | E36: LESM A301 | F36: =VLOOKUP($E36, '[1]All Courses'!$B$3:$E$112, 2, FALSE) -> Core Issues in Policing | G36: =VLOOKUP($E36, '[1]All Courses'!$B$3:$E$112, 3, FALSE) -> 2 | H36: =VLOOKUP($E36, '[1]All Courses'!$B$3:$E$112, 4, FALSE) -> 10 | J36: Student must take either LESM A301 or LESM A305, or both.
A37: 25 | C37: Year 2/3 | E37: LESM A305 | F37: =VLOOKUP($E37, '[1]All Courses'!$B$3:$E$112, 2, FALSE) -> Major Issues in Criminology and Penology | G37: =VLOOKUP($E37, '[1]All Courses'!$B$3:$E$112, 3, FALSE) -> 2 | H37: =VLOOKUP($E37, '[1]All Courses'!$B$3:$E$112, 4, FALSE) -> 10
A38: 26 | C38: Year 2/3 | E38: LESM A302 | F38: =VLOOKUP($E38, '[1]All Courses'!$B$3:$E$112, 2, FALSE) -> Public Order Management | G38: =VLOOKUP($E38, '[1]All Courses'!$B$3:$E$112, 3, FALSE) -> 1 | H38: =VLOOKUP($E38, '[1]All Courses'!$B$3:$E$112, 4, FALSE) -> 5 | J38: Student who takes LESM A302 must also take LESM A303 to make up the requirred credits.
A39: 27 | C39: Year 2/3 | E39: LESM A303 | F39: =VLOOKUP($E39, '[1]All Courses'!$B$3:$E$112, 2, FALSE) -> Law Enforcement and Policing in Chinese Societies | G39: =VLOOKUP($E39, '[1]All Courses'!$B$3:$E$112, 3, FALSE) -> 1 | H39: =VLOOKUP($E39, '[1]All Courses'!$B$3:$E$112, 4, FALSE) -> 5
A40: 28 | C40: Year 2/3 | E40: LESM A304 | F40: =VLOOKUP($E40, '[1]All Courses'!$B$3:$E$112, 2, FALSE) -> Research Methods in Law Enforcement and Security Studies | G40: =VLOOKUP($E40, '[1]All Courses'!$B$3:$E$112, 3, FALSE) -> 2 | H40: =VLOOKUP($E40, '[1]All Courses'!$B$3:$E$112, 4, FALSE) -> 10
...

Sheet All Courses
A1: Offering schedule of 5-credit DL Courses in A&SS
B2: Course code | C2: Course Title | D2: Length (terms) | E2: Credits | F2: Aut 22 | G2: Spr 23 | H2: Sum 23 | I2: Aut 23 | J2: Spr 24 | K2: Sum 24 | L2: Aut 24 | M2: Spr 25 | N2: Sum 25 | O2: Aut 25 | P2: Spr 26 | Q2: Sum 26 | R2: Aut 26 | S2: Spr 27 | T2: Sum 27
A3: 1 | B3: CHIN A162C | C3: =VLOOKUP(B3, '[2]Summary (from 2018 Autumn)'!$E$5:$F$136, 2, FALSE) -> 中國人文學科基礎課程（一）：歷史與文學 | D3: 2 | E3: 10 | G3: √ | J3: √ | M3: √ | P3: √
A4: 2 | B4: CHIN A163C | C4: =VLOOKUP(B4, '[2]Summary (from 2018 Autumn)'!$E$5:$F$136, 2, FALSE) -> 中國人文學科基礎課程（二）：思想與信仰 | D4: 2 | E4: 10 | F4: √ | I4: √ | L4: √ | O4: √ | R4: √
A5: 3 | B5: CHIN A171C | C5: =VLOOKUP(B5, '[2]Summary (from 2018 Autumn)'!$E$5:$F$136, 2, FALSE) -> 應用文 | D5: 1 | E5: 5 | F5: √ | I5: √ | L5: √ | O5: √ | R5: √
A6: 4 | B6: CHIN A172C | C6: =VLOOKUP(B6, '[2]Summary (from 2018 Autumn)'!$E$5:$F$136, 2, FALSE) -> 語文通論 | D6: 1 | E6: 5 | F6: √ | I6: √ | L6: √ | O6: √ | R6: √
A7: 5 | B7: CHIN A202C | C7: =VLOOKUP(B7, '[2]Summary (from 2018 Autumn)'!$E$5:$F$136, 2, FALSE) -> 當代中國文化 | D7: 2 | E7: 10 | F7: √ | I7: √ | L7: √ | O7: √ | R7: √
